{"text_format":"1","workbook":"xlsx","n_sheets":5,"sheets":["Drawing","Machine Parameters","revisions","Lookup Tables","Reference Table"],"not_rendered":{"charts":0,"images":3,"macros":1,"external_links":1,"defined_names":351,"comments":0,"pivot_tables":0},"unopened":[],"bounds":{"document_bytes":16777216,"sheet_cells":100000,"rows_first":2000,"rows_last":500,"rows_between":2000,"halvings":0,"cell_chars":16384,"cell_head_chars":4096},"cells_cut":0,"cells_raw":0,"read":"whole","date_system":"1900"}

{"sheet":"Drawing","index":0,"n_rows":135,"n_cols":78,"rows_kept":135,"cut":false,"hidden":false,"merged":[[1,3,1,4],[131,14,131,15],[134,14,134,15],[19,22,19,23],[19,27,19,30],[130,7,130,9],[65,14,65,15],[20,0,20,15],[67,14,67,15],[65,3,65,12],[66,3,66,12],[67,3,67,12],[68,3,68,12],[133,14,133,15],[132,14,132,15],[66,14,66,15],[68,14,68,15],[6,17,14,17],[7,10,7,12],[8,10,8,12],[9,10,9,12],[0,16,5,16],[6,16,15,16],[12,6,18,14],[2,10,2,12],[3,10,3,12],[4,10,4,12],[5,10,5,12],[6,10,6,12],[0,3,0,5],[69,0,69,1],[70,0,70,1],[64,7,64,9],[11,8,11,14],[2,3,2,4],[3,3,3,4],[4,3,4,4],[5,3,5,4],[6,3,6,4],[7,3,7,4],[8,3,8,4],[9,3,9,4],[10,3,10,4],[16,3,16,4],[18,1,18,2],[18,3,18,4],[17,3,17,4],[11,3,11,4],[12,3,12,4],[13,3,13,4],[14,3,14,4],[15,3,15,4]]}
[null,"Product Code",null,{"$f":"'Reference Table'!G29","v":{"$error":"#N/A"}},null,null,null,null,null,null,null,null,null,null,null,null,"Drawing #",null,null,"TOP GROUND",42,"GL",{"$f":"(D4-H5)*12","v":{"$error":"#N/A"}},null,null,null,null,null,null,null,null,null,null,null,null,null,null,null,null,null,null,null,null,null,null,null,null,null,null,null,null,null,null,null,null,null,null,null,null,null,null,null,null,null,null,null,null,null,null,null,null,null,null,null,null,null,{"$f":"'Machine Parameters'!B19","v":3},"Top"]
[null,null,null,null,null,null,null,null,null,null,null,null,null,null,null,null,null,null,null,"BOTTOM GROUND",{"$f":"((D4-H5)*12)-14","v":{"$error":"#N/A"}},null,null,null,null,null,null,null,null,null,null,null,null,null,null,null,null,null,null,null,null,null,null,null,null,null,null,null,null,null,null,null,null,null,null,null,null,null,null,null,null,null,null,null,null,null,null,null,null,null,null,null,null,null,null,null,{"$f":"'Machine Parameters'!B20","v":4.3499999999999996},"Bottom"]
[null,"Pole Quantity:  ",null,null,null,null,null,null,null,"S/N","TBD",null,null,null,null,null,null,null,null,null,null,null,null,null,null,null,null,null,null,null,null,null,null,null,null,null,null,null,null,null,null,null,null,null,null,null,null,null,null,null,null,null,null,null,null,null,null,null,null,null,null,null,null,null,null,null,null,null,null,null,null,null,null,null,null,null,{"$f":"'Machine Parameters'!B21","v":5.6749999999999998}]
[null,"Length (ft):",null,null,null,null,null,null,null,"STR #","N/A"]
[null,"Class:",null,null,null,"Groundline",null,{"$f":"VLOOKUP(D4,'Lookup Tables'!B10:C26,2,FALSE)","v":{"$error":"#N/A"}},null,"HEIGHT",{"$f":"(D4)&\"  ft.\"","v":"  ft."}]
[null,"Finish Coating:  ",null,null,null,"Standard Embed Coating:",null,{"$f":"VLOOKUP(D4,'Lookup Tables'!B10:C26,2)+1","v":{"$error":"#N/A"}},null,"CLASS",{"$f":"D5","v":0}]
[null,"Total Embed Coating",null,{"$f":"H6+H7","v":{"$error":"#N/A"}},null,"Extra Feet of Embed Coating: ",null,null,null,"WEIGHT",{"$f":"VLOOKUP(D5&D4,'[1]Final Wgt Calcs'!$A$3:$AM$188,39,FALSE)","v":{"$error":"#N/A"}},null,null,null,null,null,null,"T 7-15"]
[null,"Total Holes:  ",null,{"$f":"SUM('Lookup Tables'!H4:H371)","v":0},null,null,null,null,null,"MFG. DATE","TBD"]
[null,"Ground Plates:",null,null,null,null,null,null,null,"CUSTOMER "]
[null,"Tapped Grounding Holes:",null,{"$f":"SUM('Lookup Tables'!$P$3,'Lookup Tables'!Z3,'Lookup Tables'!AE3)","v":0},null,null,null,null,null,"CAPACITY",{"$f":"ROUNDUP(((VLOOKUP(D5,'Lookup Tables'!B29:C44,2,))*(1)/1000),2)&\"  kips\"","v":{"$error":"#N/A"}}]
[null,"Joint(s):",null,{"$f":"VLOOKUP(D5&D4,'[1]Final Wgt Calcs'!$A$2:$K$188,11,FALSE)-1","v":{"$error":"#N/A"}}]
[null,"2 PC Pole:",null,{"$f":"IF(D4=\"075\",\"Yes\",IF(D4=\"080\",\"Yes\",IF(D4=\"085\",\"Yes\",IF(D4=\"085\",\"Yes\",IF(D4=\"090\",\"Yes\",IF(D4=\"095\",\"Yes\",IF(D4=\"100\",\"Yes\",IF(D4=\"105\",\"Yes\",IF(D4=\"110\",\"Yes\",\"No\")))))))))","v":"No"},null,null,"NOTES: ",null,"NAMEPLATE LOCATED AT 0° AND 5' AGL UNLESS NOTED BELOW "]
[null,"Total Rivet Nuts:",null,{"$f":"SUM('Lookup Tables'!U3,'Lookup Tables'!AJ3)","v":0}]
[null,"Cap: "]
[null,"Hole Plugs:"]
[null,"Pole tip radius (in):",null,{"$f":"VLOOKUP(VLOOKUP(D5&D4,'[1]Final Wgt Calcs'!$A$2:$C$188,3,FALSE),'[1]Section Design Calcs'!$B$4:$V$33,21,FALSE)/2","v":{"$error":"#N/A"}}]
[null,"Customer PO# : "]
[null,"Hole Reference",null,"Top"]
[null,"Tool Change",null,{"$f":"IF(OR(X30=\"YES\",X31=\"YES\",X32=\"YES\",X33=\"YES\"),\"YES\",\"NO\")","v":"NO"}]
[null,null,null,null,null,null,null,null,null,null,null,null,null,null,null,null,null,null,null,null,null,null,"Standard Tool Sizes",null,null,"Requires Tool Change",null,"Tool Change Check Table"]
["DUCTILE IRON POLE DRILLING PATTERN",null,null,null,null,null,null,null,null,null,null,null,null,null,null,null,null,null,null,null,null,null,"Tool #","Dia (inches)",null,"Bit Sizes",null,"Column F Top","Column P Top","Column F Bottom","Column P Bottom"]
["ORIENTATION B-F",null,null,null,null,null,null,null,null,null,"ORIENTATION D-H",null,null,null,null,null,null,null,null,null,null,null,"T1","7/32\"",null,"1/2\"",null,{"$f":"IF(OR($F25=$Z$22,$F25=$Z$23,$F25=$Z$24,$F25=$Z$25,$F25=$Z$26,$F25=$Z$27,$F25=$Z$28,$F25=$Z$29,$F25=$Z$30,$F25=$Z$31,$F25=$Z$32,$F25=$Z$33,$F25=$Z$34,$G25='Lookup Tables'!$K$14,$G25='Lookup Tables'!$K$15,$G25='Lookup Tables'!$K$16,$G25='Lookup Tables'!$K$17,$G25='Lookup Tables'!$K$18,$G25='Lookup Tables'!$K$19,$G25='Lookup Tables'!$K$20,$G25='Lookup Tables'!$K$21,$G25='Lookup Tables'!$K$22),1,\"\")","v":""},{"$f":"IF(OR($P25=$Z$22,$P25=$Z$23,$P25=$Z$24,$P25=$Z$25,$P25=$Z$26,$P25=$Z$27,$P25=$Z$28,$P25=$Z$29,$P25=$Z$30,$P25=$Z$31,$P25=$Z$32,$P25=$Z$33,$P25=$Z$34,$Q25='Lookup Tables'!$K$14,$Q25='Lookup Tables'!$K$15,$Q25='Lookup Tables'!$K$16,$Q25='Lookup Tables'!$K$17,$Q25='Lookup Tables'!$K$18,$Q25='Lookup Tables'!$K$19,$Q25='Lookup Tables'!$K$20,$Q25='Lookup Tables'!$K$21,$Q25='Lookup Tables'!$K$22),1,\"\")","v":""},{"$f":"IF(OR($F77=$Z$22,$F77=$Z$23,$F77=$Z$24,$F77=$Z$25,$F77=$Z$26,$F77=$Z$27,$F77=$Z$28,$F77=$Z$29,$F77=$Z$30,$F77=$Z$31,$F77=$Z$32,$F77=$Z$33,$F77=$Z$34,$G77='Lookup Tables'!$K$14,$G77='Lookup Tables'!$K$15,$G77='Lookup Tables'!$K$16,$G77='Lookup Tables'!$K$17,$G77='Lookup Tables'!$K$18,$G77='Lookup Tables'!$K$19,$G77='Lookup Tables'!$K$20,$G77='Lookup Tables'!$K$21,$G77='Lookup Tables'!$K$22),1,\"\")","v":""},{"$f":"IF(OR($P77=$Z$22,$P77=$Z$23,$P77=$Z$24,$P77=$Z$25,$P77=$Z$26,$P77=$Z$27,$P77=$Z$28,$P77=$Z$29,$P77=$Z$30,$P77=$Z$31,$P77=$Z$32,$P77=$Z$33,$P77=$Z$34,$Q77='Lookup Tables'!$K$14,$Q77='Lookup Tables'!$K$15,$Q77='Lookup Tables'!$K$16,$Q77='Lookup Tables'!$K$17,$Q77='Lookup Tables'!$K$18,$Q77='Lookup Tables'!$K$19,$Q77='Lookup Tables'!$K$20,$Q77='Lookup Tables'!$K$21,$Q77='Lookup Tables'!$K$22),1,\"\")","v":""}]
[null,"DISTANCE \nFROM TOP",null,null,null,null,null,null,null,null,null,"DISTANCE \nFROM TOP",null,null,null,null,null,null,null,null,null,null,"T2","19/32\"",null,"9/16\"",null,{"$f":"IF(OR($F26=$Z$22,$F26=$Z$23,$F26=$Z$24,$F26=$Z$25,$F26=$Z$26,$F26=$Z$27,$F26=$Z$28,$F26=$Z$29,$F26=$Z$30,$F26=$Z$31,$F26=$Z$32,$F26=$Z$33,$F26=$Z$34,$G26='Lookup Tables'!$K$14,$G26='Lookup Tables'!$K$15,$G26='Lookup Tables'!$K$16,$G26='Lookup Tables'!$K$17,$G26='Lookup Tables'!$K$18,$G26='Lookup Tables'!$K$19,$G26='Lookup Tables'!$K$20,$G26='Lookup Tables'!$K$21,$G26='Lookup Tables'!$K$22),1,\"\")","v":""},{"$f":"IF(OR($P26=$Z$22,$P26=$Z$23,$P26=$Z$24,$P26=$Z$25,$P26=$Z$26,$P26=$Z$27,$P26=$Z$28,$P26=$Z$29,$P26=$Z$30,$P26=$Z$31,$P26=$Z$32,$P26=$Z$33,$P26=$Z$34,$Q26='Lookup Tables'!$K$14,$Q26='Lookup Tables'!$K$15,$Q26='Lookup Tables'!$K$16,$Q26='Lookup Tables'!$K$17,$Q26='Lookup Tables'!$K$18,$Q26='Lookup Tables'!$K$19,$Q26='Lookup Tables'!$K$20,$Q26='Lookup Tables'!$K$21,$Q26='Lookup Tables'!$K$22),1,\"\")","v":""},{"$f":"IF(OR($F78=$Z$22,$F78=$Z$23,$F78=$Z$24,$F78=$Z$25,$F78=$Z$26,$F78=$Z$27,$F78=$Z$28,$F78=$Z$29,$F78=$Z$30,$F78=$Z$31,$F78=$Z$32,$F78=$Z$33,$F78=$Z$34,$G78='Lookup Tables'!$K$14,$G78='Lookup Tables'!$K$15,$G78='Lookup Tables'!$K$16,$G78='Lookup Tables'!$K$17,$G78='Lookup Tables'!$K$18,$G78='Lookup Tables'!$K$19,$G78='Lookup Tables'!$K$20,$G78='Lookup Tables'!$K$21,$G78='Lookup Tables'!$K$22),1,\"\")","v":""},{"$f":"IF(OR($P78=$Z$22,$P78=$Z$23,$P78=$Z$24,$P78=$Z$25,$P78=$Z$26,$P78=$Z$27,$P78=$Z$28,$P78=$Z$29,$P78=$Z$30,$P78=$Z$31,$P78=$Z$32,$P78=$Z$33,$P78=$Z$34,$Q78='Lookup Tables'!$K$14,$Q78='Lookup Tables'!$K$15,$Q78='Lookup Tables'!$K$16,$Q78='Lookup Tables'!$K$17,$Q78='Lookup Tables'!$K$18,$Q78='Lookup Tables'!$K$19,$Q78='Lookup Tables'!$K$20,$Q78='Lookup Tables'!$K$21,$Q78='Lookup Tables'!$K$22),1,\"\")","v":""}]
["HOLE","INCH","FT-INCH","Quad","Quad","DIA.","DETAILS",null,null,null,"HOLE","INCH","FT-INCH","Quad","Quad","DIA.","DETAILS",null,null,null,null,null,"T3","11/16\"",null,"21/32\"",null,{"$f":"IF(OR($F27=$Z$22,$F27=$Z$23,$F27=$Z$24,$F27=$Z$25,$F27=$Z$26,$F27=$Z$27,$F27=$Z$28,$F27=$Z$29,$F27=$Z$30,$F27=$Z$31,$F27=$Z$32,$F27=$Z$33,$F27=$Z$34,$G27='Lookup Tables'!$K$14,$G27='Lookup Tables'!$K$15,$G27='Lookup Tables'!$K$16,$G27='Lookup Tables'!$K$17,$G27='Lookup Tables'!$K$18,$G27='Lookup Tables'!$K$19,$G27='Lookup Tables'!$K$20,$G27='Lookup Tables'!$K$21,$G27='Lookup Tables'!$K$22),1,\"\")","v":""},{"$f":"IF(OR($P27=$Z$22,$P27=$Z$23,$P27=$Z$24,$P27=$Z$25,$P27=$Z$26,$P27=$Z$27,$P27=$Z$28,$P27=$Z$29,$P27=$Z$30,$P27=$Z$31,$P27=$Z$32,$P27=$Z$33,$P27=$Z$34,$Q27='Lookup Tables'!$K$14,$Q27='Lookup Tables'!$K$15,$Q27='Lookup Tables'!$K$16,$Q27='Lookup Tables'!$K$17,$Q27='Lookup Tables'!$K$18,$Q27='Lookup Tables'!$K$19,$Q27='Lookup Tables'!$K$20,$Q27='Lookup Tables'!$K$21,$Q27='Lookup Tables'!$K$22),1,\"\")","v":""},{"$f":"IF(OR($F79=$Z$22,$F79=$Z$23,$F79=$Z$24,$F79=$Z$25,$F79=$Z$26,$F79=$Z$27,$F79=$Z$28,$F79=$Z$29,$F79=$Z$30,$F79=$Z$31,$F79=$Z$32,$F79=$Z$33,$F79=$Z$34,$G79='Lookup Tables'!$K$14,$G79='Lookup Tables'!$K$15,$G79='Lookup Tables'!$K$16,$G79='Lookup Tables'!$K$17,$G79='Lookup Tables'!$K$18,$G79='Lookup Tables'!$K$19,$G79='Lookup Tables'!$K$20,$G79='Lookup Tables'!$K$21,$G79='Lookup Tables'!$K$22),1,\"\")","v":""},{"$f":"IF(OR($P79=$Z$22,$P79=$Z$23,$P79=$Z$24,$P79=$Z$25,$P79=$Z$26,$P79=$Z$27,$P79=$Z$28,$P79=$Z$29,$P79=$Z$30,$P79=$Z$31,$P79=$Z$32,$P79=$Z$33,$P79=$Z$34,$Q79='Lookup Tables'!$K$14,$Q79='Lookup Tables'!$K$15,$Q79='Lookup Tables'!$K$16,$Q79='Lookup Tables'!$K$17,$Q79='Lookup Tables'!$K$18,$Q79='Lookup Tables'!$K$19,$Q79='Lookup Tables'!$K$20,$Q79='Lookup Tables'!$K$21,$Q79='Lookup Tables'!$K$22),1,\"\")","v":""}]
[null,null,{"$f":"INT(B25/12)&\"' \"&TRIM(TEXT(ROUND(MOD(B25/12,1)*12*16,0)/16,\"# ??/??\")&\"\"\"\")","v":"0' 0 \""},null,null,null,null,null,null,null,null,null,{"$f":"INT(L25/12)&\"' \"&TRIM(TEXT(ROUND(MOD(L25/12,1)*12*16,0)/16,\"# ??/??\")&\"\"\"\")","v":"0' 0 \""},null,null,null,null,null,null,null,null,null,"T4","5/8\"",null,"3/4\"",null,{"$f":"IF(OR($F28=$Z$22,$F28=$Z$23,$F28=$Z$24,$F28=$Z$25,$F28=$Z$26,$F28=$Z$27,$F28=$Z$28,$F28=$Z$29,$F28=$Z$30,$F28=$Z$31,$F28=$Z$32,$F28=$Z$33,$F28=$Z$34,$G28='Lookup Tables'!$K$14,$G28='Lookup Tables'!$K$15,$G28='Lookup Tables'!$K$16,$G28='Lookup Tables'!$K$17,$G28='Lookup Tables'!$K$18,$G28='Lookup Tables'!$K$19,$G28='Lookup Tables'!$K$20,$G28='Lookup Tables'!$K$21,$G28='Lookup Tables'!$K$22),1,\"\")","v":""},{"$f":"IF(OR($P28=$Z$22,$P28=$Z$23,$P28=$Z$24,$P28=$Z$25,$P28=$Z$26,$P28=$Z$27,$P28=$Z$28,$P28=$Z$29,$P28=$Z$30,$P28=$Z$31,$P28=$Z$32,$P28=$Z$33,$P28=$Z$34,$Q28='Lookup Tables'!$K$14,$Q28='Lookup Tables'!$K$15,$Q28='Lookup Tables'!$K$16,$Q28='Lookup Tables'!$K$17,$Q28='Lookup Tables'!$K$18,$Q28='Lookup Tables'!$K$19,$Q28='Lookup Tables'!$K$20,$Q28='Lookup Tables'!$K$21,$Q28='Lookup Tables'!$K$22),1,\"\")","v":""},{"$f":"IF(OR($F80=$Z$22,$F80=$Z$23,$F80=$Z$24,$F80=$Z$25,$F80=$Z$26,$F80=$Z$27,$F80=$Z$28,$F80=$Z$29,$F80=$Z$30,$F80=$Z$31,$F80=$Z$32,$F80=$Z$33,$F80=$Z$34,$G80='Lookup Tables'!$K$14,$G80='Lookup Tables'!$K$15,$G80='Lookup Tables'!$K$16,$G80='Lookup Tables'!$K$17,$G80='Lookup Tables'!$K$18,$G80='Lookup Tables'!$K$19,$G80='Lookup Tables'!$K$20,$G80='Lookup Tables'!$K$21,$G80='Lookup Tables'!$K$22),1,\"\")","v":""},{"$f":"IF(OR($P80=$Z$22,$P80=$Z$23,$P80=$Z$24,$P80=$Z$25,$P80=$Z$26,$P80=$Z$27,$P80=$Z$28,$P80=$Z$29,$P80=$Z$30,$P80=$Z$31,$P80=$Z$32,$P80=$Z$33,$P80=$Z$34,$Q80='Lookup Tables'!$K$14,$Q80='Lookup Tables'!$K$15,$Q80='Lookup Tables'!$K$16,$Q80='Lookup Tables'!$K$17,$Q80='Lookup Tables'!$K$18,$Q80='Lookup Tables'!$K$19,$Q80='Lookup Tables'!$K$20,$Q80='Lookup Tables'!$K$21,$Q80='Lookup Tables'!$K$22),1,\"\")","v":""}]
[null,null,{"$f":"INT(B26/12)&\"' \"&TRIM(TEXT(ROUND(MOD(B26/12,1)*12*16,0)/16,\"# ??/??\")&\"\"\"\")","v":"0' 0 \""},null,null,null,null,"   ",null,null,null,null,"0' 0 \"",null,null,null,null,null,null,null,null,null,"T5","13/16\"",null,"7/8\"",null,{"$f":"IF(OR($F29=$Z$22,$F29=$Z$23,$F29=$Z$24,$F29=$Z$25,$F29=$Z$26,$F29=$Z$27,$F29=$Z$28,$F29=$Z$29,$F29=$Z$30,$F29=$Z$31,$F29=$Z$32,$F29=$Z$33,$F29=$Z$34,$G29='Lookup Tables'!$K$14,$G29='Lookup Tables'!$K$15,$G29='Lookup Tables'!$K$16,$G29='Lookup Tables'!$K$17,$G29='Lookup Tables'!$K$18,$G29='Lookup Tables'!$K$19,$G29='Lookup Tables'!$K$20,$G29='Lookup Tables'!$K$21,$G29='Lookup Tables'!$K$22),1,\"\")","v":""},{"$f":"IF(OR($P29=$Z$22,$P29=$Z$23,$P29=$Z$24,$P29=$Z$25,$P29=$Z$26,$P29=$Z$27,$P29=$Z$28,$P29=$Z$29,$P29=$Z$30,$P29=$Z$31,$P29=$Z$32,$P29=$Z$33,$P29=$Z$34,$Q29='Lookup Tables'!$K$14,$Q29='Lookup Tables'!$K$15,$Q29='Lookup Tables'!$K$16,$Q29='Lookup Tables'!$K$17,$Q29='Lookup Tables'!$K$18,$Q29='Lookup Tables'!$K$19,$Q29='Lookup Tables'!$K$20,$Q29='Lookup Tables'!$K$21,$Q29='Lookup Tables'!$K$22),1,\"\")","v":""},{"$f":"IF(OR($F81=$Z$22,$F81=$Z$23,$F81=$Z$24,$F81=$Z$25,$F81=$Z$26,$F81=$Z$27,$F81=$Z$28,$F81=$Z$29,$F81=$Z$30,$F81=$Z$31,$F81=$Z$32,$F81=$Z$33,$F81=$Z$34,$G81='Lookup Tables'!$K$14,$G81='Lookup Tables'!$K$15,$G81='Lookup Tables'!$K$16,$G81='Lookup Tables'!$K$17,$G81='Lookup Tables'!$K$18,$G81='Lookup Tables'!$K$19,$G81='Lookup Tables'!$K$20,$G81='Lookup Tables'!$K$21,$G81='Lookup Tables'!$K$22),1,\"\")","v":""},{"$f":"IF(OR($P81=$Z$22,$P81=$Z$23,$P81=$Z$24,$P81=$Z$25,$P81=$Z$26,$P81=$Z$27,$P81=$Z$28,$P81=$Z$29,$P81=$Z$30,$P81=$Z$31,$P81=$Z$32,$P81=$Z$33,$P81=$Z$34,$Q81='Lookup Tables'!$K$14,$Q81='Lookup Tables'!$K$15,$Q81='Lookup Tables'!$K$16,$Q81='Lookup Tables'!$K$17,$Q81='Lookup Tables'!$K$18,$Q81='Lookup Tables'!$K$19,$Q81='Lookup Tables'!$K$20,$Q81='Lookup Tables'!$K$21,$Q81='Lookup Tables'!$K$22),1,\"\")","v":""}]
[null,null,{"$f":"INT(B27/12)&\"' \"&TRIM(TEXT(ROUND(MOD(B27/12,1)*12*16,0)/16,\"# ??/??\")&\"\"\"\")","v":"0' 0 \""},null,null,null,null,null,null,null,null,null,"0' 0 \"",null,null,null,null,null,null,null,null,null,"T6","27/64\"",null,"15/16\"",null,{"$f":"IF(OR($F30=$Z$22,$F30=$Z$23,$F30=$Z$24,$F30=$Z$25,$F30=$Z$26,$F30=$Z$27,$F30=$Z$28,$F30=$Z$29,$F30=$Z$30,$F30=$Z$31,$F30=$Z$32,$F30=$Z$33,$F30=$Z$34,$G30='Lookup Tables'!$K$14,$G30='Lookup Tables'!$K$15,$G30='Lookup Tables'!$K$16,$G30='Lookup Tables'!$K$17,$G30='Lookup Tables'!$K$18,$G30='Lookup Tables'!$K$19,$G30='Lookup Tables'!$K$20,$G30='Lookup Tables'!$K$21,$G30='Lookup Tables'!$K$22),1,\"\")","v":""},{"$f":"IF(OR($P30=$Z$22,$P30=$Z$23,$P30=$Z$24,$P30=$Z$25,$P30=$Z$26,$P30=$Z$27,$P30=$Z$28,$P30=$Z$29,$P30=$Z$30,$P30=$Z$31,$P30=$Z$32,$P30=$Z$33,$P30=$Z$34,$Q30='Lookup Tables'!$K$14,$Q30='Lookup Tables'!$K$15,$Q30='Lookup Tables'!$K$16,$Q30='Lookup Tables'!$K$17,$Q30='Lookup Tables'!$K$18,$Q30='Lookup Tables'!$K$19,$Q30='Lookup Tables'!$K$20,$Q30='Lookup Tables'!$K$21,$Q30='Lookup Tables'!$K$22),1,\"\")","v":""},{"$f":"IF(OR($F82=$Z$22,$F82=$Z$23,$F82=$Z$24,$F82=$Z$25,$F82=$Z$26,$F82=$Z$27,$F82=$Z$28,$F82=$Z$29,$F82=$Z$30,$F82=$Z$31,$F82=$Z$32,$F82=$Z$33,$F82=$Z$34,$G82='Lookup Tables'!$K$14,$G82='Lookup Tables'!$K$15,$G82='Lookup Tables'!$K$16,$G82='Lookup Tables'!$K$17,$G82='Lookup Tables'!$K$18,$G82='Lookup Tables'!$K$19,$G82='Lookup Tables'!$K$20,$G82='Lookup Tables'!$K$21,$G82='Lookup Tables'!$K$22),1,\"\")","v":""},{"$f":"IF(OR($P82=$Z$22,$P82=$Z$23,$P82=$Z$24,$P82=$Z$25,$P82=$Z$26,$P82=$Z$27,$P82=$Z$28,$P82=$Z$29,$P82=$Z$30,$P82=$Z$31,$P82=$Z$32,$P82=$Z$33,$P82=$Z$34,$Q82='Lookup Tables'!$K$14,$Q82='Lookup Tables'!$K$15,$Q82='Lookup Tables'!$K$16,$Q82='Lookup Tables'!$K$17,$Q82='Lookup Tables'!$K$18,$Q82='Lookup Tables'!$K$19,$Q82='Lookup Tables'!$K$20,$Q82='Lookup Tables'!$K$21,$Q82='Lookup Tables'!$K$22),1,\"\")","v":""}]
[null,null,{"$f":"INT(B28/12)&\"' \"&TRIM(TEXT(ROUND(MOD(B28/12,1)*12*16,0)/16,\"# ??/??\")&\"\"\"\")","v":"0' 0 \""},null,null,null,null,null,null,null,null,null,{"$f":"INT(L28/12)&\"' \"&TRIM(TEXT(ROUND(MOD(L28/12,1)*12*16,0)/16,\"# ??/??\")&\"\"\"\")","v":"0' 0 \""},null,null,null,null,null,null,null,null,null,"T7","1\"",null,"1-1/16\"",null,{"$f":"IF(OR($F31=$Z$22,$F31=$Z$23,$F31=$Z$24,$F31=$Z$25,$F31=$Z$26,$F31=$Z$27,$F31=$Z$28,$F31=$Z$29,$F31=$Z$30,$F31=$Z$31,$F31=$Z$32,$F31=$Z$33,$F31=$Z$34,$G31='Lookup Tables'!$K$14,$G31='Lookup Tables'!$K$15,$G31='Lookup Tables'!$K$16,$G31='Lookup Tables'!$K$17,$G31='Lookup Tables'!$K$18,$G31='Lookup Tables'!$K$19,$G31='Lookup Tables'!$K$20,$G31='Lookup Tables'!$K$21,$G31='Lookup Tables'!$K$22),1,\"\")","v":""},{"$f":"IF(OR($P31=$Z$22,$P31=$Z$23,$P31=$Z$24,$P31=$Z$25,$P31=$Z$26,$P31=$Z$27,$P31=$Z$28,$P31=$Z$29,$P31=$Z$30,$P31=$Z$31,$P31=$Z$32,$P31=$Z$33,$P31=$Z$34,$Q31='Lookup Tables'!$K$14,$Q31='Lookup Tables'!$K$15,$Q31='Lookup Tables'!$K$16,$Q31='Lookup Tables'!$K$17,$Q31='Lookup Tables'!$K$18,$Q31='Lookup Tables'!$K$19,$Q31='Lookup Tables'!$K$20,$Q31='Lookup Tables'!$K$21,$Q31='Lookup Tables'!$K$22),1,\"\")","v":""},{"$f":"IF(OR($F83=$Z$22,$F83=$Z$23,$F83=$Z$24,$F83=$Z$25,$F83=$Z$26,$F83=$Z$27,$F83=$Z$28,$F83=$Z$29,$F83=$Z$30,$F83=$Z$31,$F83=$Z$32,$F83=$Z$33,$F83=$Z$34,$G83='Lookup Tables'!$K$14,$G83='Lookup Tables'!$K$15,$G83='Lookup Tables'!$K$16,$G83='Lookup Tables'!$K$17,$G83='Lookup Tables'!$K$18,$G83='Lookup Tables'!$K$19,$G83='Lookup Tables'!$K$20,$G83='Lookup Tables'!$K$21,$G83='Lookup Tables'!$K$22),1,\"\")","v":""},{"$f":"IF(OR($P83=$Z$22,$P83=$Z$23,$P83=$Z$24,$P83=$Z$25,$P83=$Z$26,$P83=$Z$27,$P83=$Z$28,$P83=$Z$29,$P83=$Z$30,$P83=$Z$31,$P83=$Z$32,$P83=$Z$33,$P83=$Z$34,$Q83='Lookup Tables'!$K$14,$Q83='Lookup Tables'!$K$15,$Q83='Lookup Tables'!$K$16,$Q83='Lookup Tables'!$K$17,$Q83='Lookup Tables'!$K$18,$Q83='Lookup Tables'!$K$19,$Q83='Lookup Tables'!$K$20,$Q83='Lookup Tables'!$K$21,$Q83='Lookup Tables'!$K$22),1,\"\")","v":""}]
[null,null,{"$f":"INT(B29/12)&\"' \"&TRIM(TEXT(ROUND(MOD(B29/12,1)*12*16,0)/16,\"# ??/??\")&\"\"\"\")","v":"0' 0 \""},null,null,null,null,null,null,null,null,null,{"$f":"INT(L29/12)&\"' \"&TRIM(TEXT(ROUND(MOD(L29/12,1)*12*16,0)/16,\"# ??/??\")&\"\"\"\")","v":"0' 0 \""},null,null,null,null,null,null,null,null,null,"T8","1-1/2\"",null,"1-1/8\"",null,{"$f":"IF(OR($F32=$Z$22,$F32=$Z$23,$F32=$Z$24,$F32=$Z$25,$F32=$Z$26,$F32=$Z$27,$F32=$Z$28,$F32=$Z$29,$F32=$Z$30,$F32=$Z$31,$F32=$Z$32,$F32=$Z$33,$F32=$Z$34,$G32='Lookup Tables'!$K$14,$G32='Lookup Tables'!$K$15,$G32='Lookup Tables'!$K$16,$G32='Lookup Tables'!$K$17,$G32='Lookup Tables'!$K$18,$G32='Lookup Tables'!$K$19,$G32='Lookup Tables'!$K$20,$G32='Lookup Tables'!$K$21,$G32='Lookup Tables'!$K$22),1,\"\")","v":""},{"$f":"IF(OR($P32=$Z$22,$P32=$Z$23,$P32=$Z$24,$P32=$Z$25,$P32=$Z$26,$P32=$Z$27,$P32=$Z$28,$P32=$Z$29,$P32=$Z$30,$P32=$Z$31,$P32=$Z$32,$P32=$Z$33,$P32=$Z$34,$Q32='Lookup Tables'!$K$14,$Q32='Lookup Tables'!$K$15,$Q32='Lookup Tables'!$K$16,$Q32='Lookup Tables'!$K$17,$Q32='Lookup Tables'!$K$18,$Q32='Lookup Tables'!$K$19,$Q32='Lookup Tables'!$K$20,$Q32='Lookup Tables'!$K$21,$Q32='Lookup Tables'!$K$22),1,\"\")","v":""},{"$f":"IF(OR($F84=$Z$22,$F84=$Z$23,$F84=$Z$24,$F84=$Z$25,$F84=$Z$26,$F84=$Z$27,$F84=$Z$28,$F84=$Z$29,$F84=$Z$30,$F84=$Z$31,$F84=$Z$32,$F84=$Z$33,$F84=$Z$34,$G84='Lookup Tables'!$K$14,$G84='Lookup Tables'!$K$15,$G84='Lookup Tables'!$K$16,$G84='Lookup Tables'!$K$17,$G84='Lookup Tables'!$K$18,$G84='Lookup Tables'!$K$19,$G84='Lookup Tables'!$K$20,$G84='Lookup Tables'!$K$21,$G84='Lookup Tables'!$K$22),1,\"\")","v":""},{"$f":"IF(OR($P84=$Z$22,$P84=$Z$23,$P84=$Z$24,$P84=$Z$25,$P84=$Z$26,$P84=$Z$27,$P84=$Z$28,$P84=$Z$29,$P84=$Z$30,$P84=$Z$31,$P84=$Z$32,$P84=$Z$33,$P84=$Z$34,$Q84='Lookup Tables'!$K$14,$Q84='Lookup Tables'!$K$15,$Q84='Lookup Tables'!$K$16,$Q84='Lookup Tables'!$K$17,$Q84='Lookup Tables'!$K$18,$Q84='Lookup Tables'!$K$19,$Q84='Lookup Tables'!$K$20,$Q84='Lookup Tables'!$K$21,$Q84='Lookup Tables'!$K$22),1,\"\")","v":""}]
[null,null,{"$f":"INT(B30/12)&\"' \"&TRIM(TEXT(ROUND(MOD(B30/12,1)*12*16,0)/16,\"# ??/??\")&\"\"\"\")","v":"0' 0 \""},null,null,null,null,null,null,null,null,null,{"$f":"INT(L30/12)&\"' \"&TRIM(TEXT(ROUND(MOD(L30/12,1)*12*16,0)/16,\"# ??/??\")&\"\"\"\")","v":"0' 0 \""},null,null,null,null,null,null,null,null,null,"Tool Change",{"$f":"IF($AB$77>=1,\"YES\",\"\")","v":""},null,"1-3/16\"",null,{"$f":"IF(OR($F33=$Z$22,$F33=$Z$23,$F33=$Z$24,$F33=$Z$25,$F33=$Z$26,$F33=$Z$27,$F33=$Z$28,$F33=$Z$29,$F33=$Z$30,$F33=$Z$31,$F33=$Z$32,$F33=$Z$33,$F33=$Z$34,$G33='Lookup Tables'!$K$14,$G33='Lookup Tables'!$K$15,$G33='Lookup Tables'!$K$16,$G33='Lookup Tables'!$K$17,$G33='Lookup Tables'!$K$18,$G33='Lookup Tables'!$K$19,$G33='Lookup Tables'!$K$20,$G33='Lookup Tables'!$K$21,$G33='Lookup Tables'!$K$22),1,\"\")","v":""},{"$f":"IF(OR($P33=$Z$22,$P33=$Z$23,$P33=$Z$24,$P33=$Z$25,$P33=$Z$26,$P33=$Z$27,$P33=$Z$28,$P33=$Z$29,$P33=$Z$30,$P33=$Z$31,$P33=$Z$32,$P33=$Z$33,$P33=$Z$34,$Q33='Lookup Tables'!$K$14,$Q33='Lookup Tables'!$K$15,$Q33='Lookup Tables'!$K$16,$Q33='Lookup Tables'!$K$17,$Q33='Lookup Tables'!$K$18,$Q33='Lookup Tables'!$K$19,$Q33='Lookup Tables'!$K$20,$Q33='Lookup Tables'!$K$21,$Q33='Lookup Tables'!$K$22),1,\"\")","v":""},{"$f":"IF(OR($F85=$Z$22,$F85=$Z$23,$F85=$Z$24,$F85=$Z$25,$F85=$Z$26,$F85=$Z$27,$F85=$Z$28,$F85=$Z$29,$F85=$Z$30,$F85=$Z$31,$F85=$Z$32,$F85=$Z$33,$F85=$Z$34,$G85='Lookup Tables'!$K$14,$G85='Lookup Tables'!$K$15,$G85='Lookup Tables'!$K$16,$G85='Lookup Tables'!$K$17,$G85='Lookup Tables'!$K$18,$G85='Lookup Tables'!$K$19,$G85='Lookup Tables'!$K$20,$G85='Lookup Tables'!$K$21,$G85='Lookup Tables'!$K$22),1,\"\")","v":""},{"$f":"IF(OR($P85=$Z$22,$P85=$Z$23,$P85=$Z$24,$P85=$Z$25,$P85=$Z$26,$P85=$Z$27,$P85=$Z$28,$P85=$Z$29,$P85=$Z$30,$P85=$Z$31,$P85=$Z$32,$P85=$Z$33,$P85=$Z$34,$Q85='Lookup Tables'!$K$14,$Q85='Lookup Tables'!$K$15,$Q85='Lookup Tables'!$K$16,$Q85='Lookup Tables'!$K$17,$Q85='Lookup Tables'!$K$18,$Q85='Lookup Tables'!$K$19,$Q85='Lookup Tables'!$K$20,$Q85='Lookup Tables'!$K$21,$Q85='Lookup Tables'!$K$22),1,\"\")","v":""}]
[null,null,"0' 0 \"",null,null,null,null,null,null,null,null,null,{"$f":"INT(L31/12)&\"' \"&TRIM(TEXT(ROUND(MOD(L31/12,1)*12*16,0)/16,\"# ??/??\")&\"\"\"\")","v":"0' 0 \""},null,null,null,null,null,null,null,null,null,"Tool Change",{"$f":"IF($AC$77>=1,\"YES\",\"\")","v":""},null,"1-1/4\"",null,{"$f":"IF(OR($F34=$Z$22,$F34=$Z$23,$F34=$Z$24,$F34=$Z$25,$F34=$Z$26,$F34=$Z$27,$F34=$Z$28,$F34=$Z$29,$F34=$Z$30,$F34=$Z$31,$F34=$Z$32,$F34=$Z$33,$F34=$Z$34,$G34='Lookup Tables'!$K$14,$G34='Lookup Tables'!$K$15,$G34='Lookup Tables'!$K$16,$G34='Lookup Tables'!$K$17,$G34='Lookup Tables'!$K$18,$G34='Lookup Tables'!$K$19,$G34='Lookup Tables'!$K$20,$G34='Lookup Tables'!$K$21,$G34='Lookup Tables'!$K$22),1,\"\")","v":""},{"$f":"IF(OR($P34=$Z$22,$P34=$Z$23,$P34=$Z$24,$P34=$Z$25,$P34=$Z$26,$P34=$Z$27,$P34=$Z$28,$P34=$Z$29,$P34=$Z$30,$P34=$Z$31,$P34=$Z$32,$P34=$Z$33,$P34=$Z$34,$Q34='Lookup Tables'!$K$14,$Q34='Lookup Tables'!$K$15,$Q34='Lookup Tables'!$K$16,$Q34='Lookup Tables'!$K$17,$Q34='Lookup Tables'!$K$18,$Q34='Lookup Tables'!$K$19,$Q34='Lookup Tables'!$K$20,$Q34='Lookup Tables'!$K$21,$Q34='Lookup Tables'!$K$22),1,\"\")","v":""},{"$f":"IF(OR($F86=$Z$22,$F86=$Z$23,$F86=$Z$24,$F86=$Z$25,$F86=$Z$26,$F86=$Z$27,$F86=$Z$28,$F86=$Z$29,$F86=$Z$30,$F86=$Z$31,$F86=$Z$32,$F86=$Z$33,$F86=$Z$34,$G86='Lookup Tables'!$K$14,$G86='Lookup Tables'!$K$15,$G86='Lookup Tables'!$K$16,$G86='Lookup Tables'!$K$17,$G86='Lookup Tables'!$K$18,$G86='Lookup Tables'!$K$19,$G86='Lookup Tables'!$K$20,$G86='Lookup Tables'!$K$21,$G86='Lookup Tables'!$K$22),1,\"\")","v":""},{"$f":"IF(OR($P86=$Z$22,$P86=$Z$23,$P86=$Z$24,$P86=$Z$25,$P86=$Z$26,$P86=$Z$27,$P86=$Z$28,$P86=$Z$29,$P86=$Z$30,$P86=$Z$31,$P86=$Z$32,$P86=$Z$33,$P86=$Z$34,$Q86='Lookup Tables'!$K$14,$Q86='Lookup Tables'!$K$15,$Q86='Lookup Tables'!$K$16,$Q86='Lookup Tables'!$K$17,$Q86='Lookup Tables'!$K$18,$Q86='Lookup Tables'!$K$19,$Q86='Lookup Tables'!$K$20,$Q86='Lookup Tables'!$K$21,$Q86='Lookup Tables'!$K$22),1,\"\")","v":""}]
[null,null,"0' 0 \"",null,null,null,null,null,null,null,null,null,{"$f":"INT(L32/12)&\"' \"&TRIM(TEXT(ROUND(MOD(L32/12,1)*12*16,0)/16,\"# ??/??\")&\"\"\"\")","v":"0' 0 \""},null,null,null,null,null,null,null,null,null,"Tool Change",{"$f":"IF($AD$77>=1,\"YES\",\"\")","v":""},null,"1-5/16\"",null,{"$f":"IF(OR($F35=$Z$22,$F35=$Z$23,$F35=$Z$24,$F35=$Z$25,$F35=$Z$26,$F35=$Z$27,$F35=$Z$28,$F35=$Z$29,$F35=$Z$30,$F35=$Z$31,$F35=$Z$32,$F35=$Z$33,$F35=$Z$34,$G35='Lookup Tables'!$K$14,$G35='Lookup Tables'!$K$15,$G35='Lookup Tables'!$K$16,$G35='Lookup Tables'!$K$17,$G35='Lookup Tables'!$K$18,$G35='Lookup Tables'!$K$19,$G35='Lookup Tables'!$K$20,$G35='Lookup Tables'!$K$21,$G35='Lookup Tables'!$K$22),1,\"\")","v":""},{"$f":"IF(OR($P35=$Z$22,$P35=$Z$23,$P35=$Z$24,$P35=$Z$25,$P35=$Z$26,$P35=$Z$27,$P35=$Z$28,$P35=$Z$29,$P35=$Z$30,$P35=$Z$31,$P35=$Z$32,$P35=$Z$33,$P35=$Z$34,$Q35='Lookup Tables'!$K$14,$Q35='Lookup Tables'!$K$15,$Q35='Lookup Tables'!$K$16,$Q35='Lookup Tables'!$K$17,$Q35='Lookup Tables'!$K$18,$Q35='Lookup Tables'!$K$19,$Q35='Lookup Tables'!$K$20,$Q35='Lookup Tables'!$K$21,$Q35='Lookup Tables'!$K$22),1,\"\")","v":""},{"$f":"IF(OR($F87=$Z$22,$F87=$Z$23,$F87=$Z$24,$F87=$Z$25,$F87=$Z$26,$F87=$Z$27,$F87=$Z$28,$F87=$Z$29,$F87=$Z$30,$F87=$Z$31,$F87=$Z$32,$F87=$Z$33,$F87=$Z$34,$G87='Lookup Tables'!$K$14,$G87='Lookup Tables'!$K$15,$G87='Lookup Tables'!$K$16,$G87='Lookup Tables'!$K$17,$G87='Lookup Tables'!$K$18,$G87='Lookup Tables'!$K$19,$G87='Lookup Tables'!$K$20,$G87='Lookup Tables'!$K$21,$G87='Lookup Tables'!$K$22),1,\"\")","v":""},{"$f":"IF(OR($P87=$Z$22,$P87=$Z$23,$P87=$Z$24,$P87=$Z$25,$P87=$Z$26,$P87=$Z$27,$P87=$Z$28,$P87=$Z$29,$P87=$Z$30,$P87=$Z$31,$P87=$Z$32,$P87=$Z$33,$P87=$Z$34,$Q87='Lookup Tables'!$K$14,$Q87='Lookup Tables'!$K$15,$Q87='Lookup Tables'!$K$16,$Q87='Lookup Tables'!$K$17,$Q87='Lookup Tables'!$K$18,$Q87='Lookup Tables'!$K$19,$Q87='Lookup Tables'!$K$20,$Q87='Lookup Tables'!$K$21,$Q87='Lookup Tables'!$K$22),1,\"\")","v":""}]
[null,null,"0' 0 \"",null,null,null,null,null,null,null,null,null,"0' 0 \"",null,null,null,null,null,null,null,null,null,"Tool Change",{"$f":"IF($AE$77>=1,\"YES\",\"\")","v":""},null,"1-3/8\"",null,{"$f":"IF(OR($F36=$Z$22,$F36=$Z$23,$F36=$Z$24,$F36=$Z$25,$F36=$Z$26,$F36=$Z$27,$F36=$Z$28,$F36=$Z$29,$F36=$Z$30,$F36=$Z$31,$F36=$Z$32,$F36=$Z$33,$F36=$Z$34,$G36='Lookup Tables'!$K$14,$G36='Lookup Tables'!$K$15,$G36='Lookup Tables'!$K$16,$G36='Lookup Tables'!$K$17,$G36='Lookup Tables'!$K$18,$G36='Lookup Tables'!$K$19,$G36='Lookup Tables'!$K$20,$G36='Lookup Tables'!$K$21,$G36='Lookup Tables'!$K$22),1,\"\")","v":""},{"$f":"IF(OR($P36=$Z$22,$P36=$Z$23,$P36=$Z$24,$P36=$Z$25,$P36=$Z$26,$P36=$Z$27,$P36=$Z$28,$P36=$Z$29,$P36=$Z$30,$P36=$Z$31,$P36=$Z$32,$P36=$Z$33,$P36=$Z$34,$Q36='Lookup Tables'!$K$14,$Q36='Lookup Tables'!$K$15,$Q36='Lookup Tables'!$K$16,$Q36='Lookup Tables'!$K$17,$Q36='Lookup Tables'!$K$18,$Q36='Lookup Tables'!$K$19,$Q36='Lookup Tables'!$K$20,$Q36='Lookup Tables'!$K$21,$Q36='Lookup Tables'!$K$22),1,\"\")","v":""},{"$f":"IF(OR($F88=$Z$22,$F88=$Z$23,$F88=$Z$24,$F88=$Z$25,$F88=$Z$26,$F88=$Z$27,$F88=$Z$28,$F88=$Z$29,$F88=$Z$30,$F88=$Z$31,$F88=$Z$32,$F88=$Z$33,$F88=$Z$34,$G88='Lookup Tables'!$K$14,$G88='Lookup Tables'!$K$15,$G88='Lookup Tables'!$K$16,$G88='Lookup Tables'!$K$17,$G88='Lookup Tables'!$K$18,$G88='Lookup Tables'!$K$19,$G88='Lookup Tables'!$K$20,$G88='Lookup Tables'!$K$21,$G88='Lookup Tables'!$K$22),1,\"\")","v":""},{"$f":"IF(OR($P88=$Z$22,$P88=$Z$23,$P88=$Z$24,$P88=$Z$25,$P88=$Z$26,$P88=$Z$27,$P88=$Z$28,$P88=$Z$29,$P88=$Z$30,$P88=$Z$31,$P88=$Z$32,$P88=$Z$33,$P88=$Z$34,$Q88='Lookup Tables'!$K$14,$Q88='Lookup Tables'!$K$15,$Q88='Lookup Tables'!$K$16,$Q88='Lookup Tables'!$K$17,$Q88='Lookup Tables'!$K$18,$Q88='Lookup Tables'!$K$19,$Q88='Lookup Tables'!$K$20,$Q88='Lookup Tables'!$K$21,$Q88='Lookup Tables'!$K$22),1,\"\")","v":""}]
[null,null,"0' 0 \"",null,null,null,null,null,null,null,null,null,"0' 0 \"",null,null,null,null,null,null,null,null,null,null,null,null,"1-7/16\"",null,{"$f":"IF(OR($F37=$Z$22,$F37=$Z$23,$F37=$Z$24,$F37=$Z$25,$F37=$Z$26,$F37=$Z$27,$F37=$Z$28,$F37=$Z$29,$F37=$Z$30,$F37=$Z$31,$F37=$Z$32,$F37=$Z$33,$F37=$Z$34,$G37='Lookup Tables'!$K$14,$G37='Lookup Tables'!$K$15,$G37='Lookup Tables'!$K$16,$G37='Lookup Tables'!$K$17,$G37='Lookup Tables'!$K$18,$G37='Lookup Tables'!$K$19,$G37='Lookup Tables'!$K$20,$G37='Lookup Tables'!$K$21,$G37='Lookup Tables'!$K$22),1,\"\")","v":""},{"$f":"IF(OR($P37=$Z$22,$P37=$Z$23,$P37=$Z$24,$P37=$Z$25,$P37=$Z$26,$P37=$Z$27,$P37=$Z$28,$P37=$Z$29,$P37=$Z$30,$P37=$Z$31,$P37=$Z$32,$P37=$Z$33,$P37=$Z$34,$Q37='Lookup Tables'!$K$14,$Q37='Lookup Tables'!$K$15,$Q37='Lookup Tables'!$K$16,$Q37='Lookup Tables'!$K$17,$Q37='Lookup Tables'!$K$18,$Q37='Lookup Tables'!$K$19,$Q37='Lookup Tables'!$K$20,$Q37='Lookup Tables'!$K$21,$Q37='Lookup Tables'!$K$22),1,\"\")","v":""},{"$f":"IF(OR($F89=$Z$22,$F89=$Z$23,$F89=$Z$24,$F89=$Z$25,$F89=$Z$26,$F89=$Z$27,$F89=$Z$28,$F89=$Z$29,$F89=$Z$30,$F89=$Z$31,$F89=$Z$32,$F89=$Z$33,$F89=$Z$34,$G89='Lookup Tables'!$K$14,$G89='Lookup Tables'!$K$15,$G89='Lookup Tables'!$K$16,$G89='Lookup Tables'!$K$17,$G89='Lookup Tables'!$K$18,$G89='Lookup Tables'!$K$19,$G89='Lookup Tables'!$K$20,$G89='Lookup Tables'!$K$21,$G89='Lookup Tables'!$K$22),1,\"\")","v":""},{"$f":"IF(OR($P89=$Z$22,$P89=$Z$23,$P89=$Z$24,$P89=$Z$25,$P89=$Z$26,$P89=$Z$27,$P89=$Z$28,$P89=$Z$29,$P89=$Z$30,$P89=$Z$31,$P89=$Z$32,$P89=$Z$33,$P89=$Z$34,$Q89='Lookup Tables'!$K$14,$Q89='Lookup Tables'!$K$15,$Q89='Lookup Tables'!$K$16,$Q89='Lookup Tables'!$K$17,$Q89='Lookup Tables'!$K$18,$Q89='Lookup Tables'!$K$19,$Q89='Lookup Tables'!$K$20,$Q89='Lookup Tables'!$K$21,$Q89='Lookup Tables'!$K$22),1,\"\")","v":""}]
[null,null,"0' 0 \"",null,null,null,null,null,null,null,null,null,"0' 0 \"",null,null,null,null,null,null,null,null,null,null,null,null,null,null,{"$f":"IF(OR($F38=$Z$22,$F38=$Z$23,$F38=$Z$24,$F38=$Z$25,$F38=$Z$26,$F38=$Z$27,$F38=$Z$28,$F38=$Z$29,$F38=$Z$30,$F38=$Z$31,$F38=$Z$32,$F38=$Z$33,$F38=$Z$34,$G38='Lookup Tables'!$K$14,$G38='Lookup Tables'!$K$15,$G38='Lookup Tables'!$K$16,$G38='Lookup Tables'!$K$17,$G38='Lookup Tables'!$K$18,$G38='Lookup Tables'!$K$19,$G38='Lookup Tables'!$K$20,$G38='Lookup Tables'!$K$21,$G38='Lookup Tables'!$K$22),1,\"\")","v":""},{"$f":"IF(OR($P38=$Z$22,$P38=$Z$23,$P38=$Z$24,$P38=$Z$25,$P38=$Z$26,$P38=$Z$27,$P38=$Z$28,$P38=$Z$29,$P38=$Z$30,$P38=$Z$31,$P38=$Z$32,$P38=$Z$33,$P38=$Z$34,$Q38='Lookup Tables'!$K$14,$Q38='Lookup Tables'!$K$15,$Q38='Lookup Tables'!$K$16,$Q38='Lookup Tables'!$K$17,$Q38='Lookup Tables'!$K$18,$Q38='Lookup Tables'!$K$19,$Q38='Lookup Tables'!$K$20,$Q38='Lookup Tables'!$K$21,$Q38='Lookup Tables'!$K$22),1,\"\")","v":""},{"$f":"IF(OR($F90=$Z$22,$F90=$Z$23,$F90=$Z$24,$F90=$Z$25,$F90=$Z$26,$F90=$Z$27,$F90=$Z$28,$F90=$Z$29,$F90=$Z$30,$F90=$Z$31,$F90=$Z$32,$F90=$Z$33,$F90=$Z$34,$G90='Lookup Tables'!$K$14,$G90='Lookup Tables'!$K$15,$G90='Lookup Tables'!$K$16,$G90='Lookup Tables'!$K$17,$G90='Lookup Tables'!$K$18,$G90='Lookup Tables'!$K$19,$G90='Lookup Tables'!$K$20,$G90='Lookup Tables'!$K$21,$G90='Lookup Tables'!$K$22),1,\"\")","v":""},{"$f":"IF(OR($P90=$Z$22,$P90=$Z$23,$P90=$Z$24,$P90=$Z$25,$P90=$Z$26,$P90=$Z$27,$P90=$Z$28,$P90=$Z$29,$P90=$Z$30,$P90=$Z$31,$P90=$Z$32,$P90=$Z$33,$P90=$Z$34,$Q90='Lookup Tables'!$K$14,$Q90='Lookup Tables'!$K$15,$Q90='Lookup Tables'!$K$16,$Q90='Lookup Tables'!$K$17,$Q90='Lookup Tables'!$K$18,$Q90='Lookup Tables'!$K$19,$Q90='Lookup Tables'!$K$20,$Q90='Lookup Tables'!$K$21,$Q90='Lookup Tables'!$K$22),1,\"\")","v":""}]
[null,null,{"$f":"INT(B36/12)&\"' \"&TRIM(TEXT(ROUND(MOD(B36/12,1)*12*16,0)/16,\"# ??/??\")&\"\"\"\")","v":"0' 0 \""},null,null,null,null,null,null,null,null,null,"0' 0 \"",null,null,null,null,null,null,null,null,null,null,null,null,null,null,{"$f":"IF(OR($F39=$Z$22,$F39=$Z$23,$F39=$Z$24,$F39=$Z$25,$F39=$Z$26,$F39=$Z$27,$F39=$Z$28,$F39=$Z$29,$F39=$Z$30,$F39=$Z$31,$F39=$Z$32,$F39=$Z$33,$F39=$Z$34,$G39='Lookup Tables'!$K$14,$G39='Lookup Tables'!$K$15,$G39='Lookup Tables'!$K$16,$G39='Lookup Tables'!$K$17,$G39='Lookup Tables'!$K$18,$G39='Lookup Tables'!$K$19,$G39='Lookup Tables'!$K$20,$G39='Lookup Tables'!$K$21,$G39='Lookup Tables'!$K$22),1,\"\")","v":""},{"$f":"IF(OR($P39=$Z$22,$P39=$Z$23,$P39=$Z$24,$P39=$Z$25,$P39=$Z$26,$P39=$Z$27,$P39=$Z$28,$P39=$Z$29,$P39=$Z$30,$P39=$Z$31,$P39=$Z$32,$P39=$Z$33,$P39=$Z$34,$Q39='Lookup Tables'!$K$14,$Q39='Lookup Tables'!$K$15,$Q39='Lookup Tables'!$K$16,$Q39='Lookup Tables'!$K$17,$Q39='Lookup Tables'!$K$18,$Q39='Lookup Tables'!$K$19,$Q39='Lookup Tables'!$K$20,$Q39='Lookup Tables'!$K$21,$Q39='Lookup Tables'!$K$22),1,\"\")","v":""},{"$f":"IF(OR($F91=$Z$22,$F91=$Z$23,$F91=$Z$24,$F91=$Z$25,$F91=$Z$26,$F91=$Z$27,$F91=$Z$28,$F91=$Z$29,$F91=$Z$30,$F91=$Z$31,$F91=$Z$32,$F91=$Z$33,$F91=$Z$34,$G91='Lookup Tables'!$K$14,$G91='Lookup Tables'!$K$15,$G91='Lookup Tables'!$K$16,$G91='Lookup Tables'!$K$17,$G91='Lookup Tables'!$K$18,$G91='Lookup Tables'!$K$19,$G91='Lookup Tables'!$K$20,$G91='Lookup Tables'!$K$21,$G91='Lookup Tables'!$K$22),1,\"\")","v":""},{"$f":"IF(OR($P91=$Z$22,$P91=$Z$23,$P91=$Z$24,$P91=$Z$25,$P91=$Z$26,$P91=$Z$27,$P91=$Z$28,$P91=$Z$29,$P91=$Z$30,$P91=$Z$31,$P91=$Z$32,$P91=$Z$33,$P91=$Z$34,$Q91='Lookup Tables'!$K$14,$Q91='Lookup Tables'!$K$15,$Q91='Lookup Tables'!$K$16,$Q91='Lookup Tables'!$K$17,$Q91='Lookup Tables'!$K$18,$Q91='Lookup Tables'!$K$19,$Q91='Lookup Tables'!$K$20,$Q91='Lookup Tables'!$K$21,$Q91='Lookup Tables'!$K$22),1,\"\")","v":""}]
[null,null,"0' 0 \"",null,null,null,null,null,null,null,null,null,"0' 0 \"",null,null,null,null,null,null,null,null,null,null,null,null,null,null,{"$f":"IF(OR($F40=$Z$22,$F40=$Z$23,$F40=$Z$24,$F40=$Z$25,$F40=$Z$26,$F40=$Z$27,$F40=$Z$28,$F40=$Z$29,$F40=$Z$30,$F40=$Z$31,$F40=$Z$32,$F40=$Z$33,$F40=$Z$34,$G40='Lookup Tables'!$K$14,$G40='Lookup Tables'!$K$15,$G40='Lookup Tables'!$K$16,$G40='Lookup Tables'!$K$17,$G40='Lookup Tables'!$K$18,$G40='Lookup Tables'!$K$19,$G40='Lookup Tables'!$K$20,$G40='Lookup Tables'!$K$21,$G40='Lookup Tables'!$K$22),1,\"\")","v":""},{"$f":"IF(OR($P40=$Z$22,$P40=$Z$23,$P40=$Z$24,$P40=$Z$25,$P40=$Z$26,$P40=$Z$27,$P40=$Z$28,$P40=$Z$29,$P40=$Z$30,$P40=$Z$31,$P40=$Z$32,$P40=$Z$33,$P40=$Z$34,$Q40='Lookup Tables'!$K$14,$Q40='Lookup Tables'!$K$15,$Q40='Lookup Tables'!$K$16,$Q40='Lookup Tables'!$K$17,$Q40='Lookup Tables'!$K$18,$Q40='Lookup Tables'!$K$19,$Q40='Lookup Tables'!$K$20,$Q40='Lookup Tables'!$K$21,$Q40='Lookup Tables'!$K$22),1,\"\")","v":""},{"$f":"IF(OR($F92=$Z$22,$F92=$Z$23,$F92=$Z$24,$F92=$Z$25,$F92=$Z$26,$F92=$Z$27,$F92=$Z$28,$F92=$Z$29,$F92=$Z$30,$F92=$Z$31,$F92=$Z$32,$F92=$Z$33,$F92=$Z$34,$G92='Lookup Tables'!$K$14,$G92='Lookup Tables'!$K$15,$G92='Lookup Tables'!$K$16,$G92='Lookup Tables'!$K$17,$G92='Lookup Tables'!$K$18,$G92='Lookup Tables'!$K$19,$G92='Lookup Tables'!$K$20,$G92='Lookup Tables'!$K$21,$G92='Lookup Tables'!$K$22),1,\"\")","v":""},{"$f":"IF(OR($P92=$Z$22,$P92=$Z$23,$P92=$Z$24,$P92=$Z$25,$P92=$Z$26,$P92=$Z$27,$P92=$Z$28,$P92=$Z$29,$P92=$Z$30,$P92=$Z$31,$P92=$Z$32,$P92=$Z$33,$P92=$Z$34,$Q92='Lookup Tables'!$K$14,$Q92='Lookup Tables'!$K$15,$Q92='Lookup Tables'!$K$16,$Q92='Lookup Tables'!$K$17,$Q92='Lookup Tables'!$K$18,$Q92='Lookup Tables'!$K$19,$Q92='Lookup Tables'!$K$20,$Q92='Lookup Tables'!$K$21,$Q92='Lookup Tables'!$K$22),1,\"\")","v":""}]
[null,null,"0' 0 \"",null,null,null,null,null,null,null,null,null,"0' 0 \"",null,null,null,null,null,null,null,null,null,null,null,null,null,null,{"$f":"IF(OR($F41=$Z$22,$F41=$Z$23,$F41=$Z$24,$F41=$Z$25,$F41=$Z$26,$F41=$Z$27,$F41=$Z$28,$F41=$Z$29,$F41=$Z$30,$F41=$Z$31,$F41=$Z$32,$F41=$Z$33,$F41=$Z$34,$G41='Lookup Tables'!$K$14,$G41='Lookup Tables'!$K$15,$G41='Lookup Tables'!$K$16,$G41='Lookup Tables'!$K$17,$G41='Lookup Tables'!$K$18,$G41='Lookup Tables'!$K$19,$G41='Lookup Tables'!$K$20,$G41='Lookup Tables'!$K$21,$G41='Lookup Tables'!$K$22),1,\"\")","v":""},{"$f":"IF(OR($P41=$Z$22,$P41=$Z$23,$P41=$Z$24,$P41=$Z$25,$P41=$Z$26,$P41=$Z$27,$P41=$Z$28,$P41=$Z$29,$P41=$Z$30,$P41=$Z$31,$P41=$Z$32,$P41=$Z$33,$P41=$Z$34,$Q41='Lookup Tables'!$K$14,$Q41='Lookup Tables'!$K$15,$Q41='Lookup Tables'!$K$16,$Q41='Lookup Tables'!$K$17,$Q41='Lookup Tables'!$K$18,$Q41='Lookup Tables'!$K$19,$Q41='Lookup Tables'!$K$20,$Q41='Lookup Tables'!$K$21,$Q41='Lookup Tables'!$K$22),1,\"\")","v":""},{"$f":"IF(OR($F93=$Z$22,$F93=$Z$23,$F93=$Z$24,$F93=$Z$25,$F93=$Z$26,$F93=$Z$27,$F93=$Z$28,$F93=$Z$29,$F93=$Z$30,$F93=$Z$31,$F93=$Z$32,$F93=$Z$33,$F93=$Z$34,$G93='Lookup Tables'!$K$14,$G93='Lookup Tables'!$K$15,$G93='Lookup Tables'!$K$16,$G93='Lookup Tables'!$K$17,$G93='Lookup Tables'!$K$18,$G93='Lookup Tables'!$K$19,$G93='Lookup Tables'!$K$20,$G93='Lookup Tables'!$K$21,$G93='Lookup Tables'!$K$22),1,\"\")","v":""},{"$f":"IF(OR($P93=$Z$22,$P93=$Z$23,$P93=$Z$24,$P93=$Z$25,$P93=$Z$26,$P93=$Z$27,$P93=$Z$28,$P93=$Z$29,$P93=$Z$30,$P93=$Z$31,$P93=$Z$32,$P93=$Z$33,$P93=$Z$34,$Q93='Lookup Tables'!$K$14,$Q93='Lookup Tables'!$K$15,$Q93='Lookup Tables'!$K$16,$Q93='Lookup Tables'!$K$17,$Q93='Lookup Tables'!$K$18,$Q93='Lookup Tables'!$K$19,$Q93='Lookup Tables'!$K$20,$Q93='Lookup Tables'!$K$21,$Q93='Lookup Tables'!$K$22),1,\"\")","v":""}]
[null,null,"0' 0 \"",null,null,null,null,null,null,null,null,null,"0' 0 \"",null,null,null,null,null,null,null,null,null,null,null,null,null,null,{"$f":"IF(OR($F42=$Z$22,$F42=$Z$23,$F42=$Z$24,$F42=$Z$25,$F42=$Z$26,$F42=$Z$27,$F42=$Z$28,$F42=$Z$29,$F42=$Z$30,$F42=$Z$31,$F42=$Z$32,$F42=$Z$33,$F42=$Z$34,$G42='Lookup Tables'!$K$14,$G42='Lookup Tables'!$K$15,$G42='Lookup Tables'!$K$16,$G42='Lookup Tables'!$K$17,$G42='Lookup Tables'!$K$18,$G42='Lookup Tables'!$K$19,$G42='Lookup Tables'!$K$20,$G42='Lookup Tables'!$K$21,$G42='Lookup Tables'!$K$22),1,\"\")","v":""},{"$f":"IF(OR($P42=$Z$22,$P42=$Z$23,$P42=$Z$24,$P42=$Z$25,$P42=$Z$26,$P42=$Z$27,$P42=$Z$28,$P42=$Z$29,$P42=$Z$30,$P42=$Z$31,$P42=$Z$32,$P42=$Z$33,$P42=$Z$34,$Q42='Lookup Tables'!$K$14,$Q42='Lookup Tables'!$K$15,$Q42='Lookup Tables'!$K$16,$Q42='Lookup Tables'!$K$17,$Q42='Lookup Tables'!$K$18,$Q42='Lookup Tables'!$K$19,$Q42='Lookup Tables'!$K$20,$Q42='Lookup Tables'!$K$21,$Q42='Lookup Tables'!$K$22),1,\"\")","v":""},{"$f":"IF(OR($F94=$Z$22,$F94=$Z$23,$F94=$Z$24,$F94=$Z$25,$F94=$Z$26,$F94=$Z$27,$F94=$Z$28,$F94=$Z$29,$F94=$Z$30,$F94=$Z$31,$F94=$Z$32,$F94=$Z$33,$F94=$Z$34,$G94='Lookup Tables'!$K$14,$G94='Lookup Tables'!$K$15,$G94='Lookup Tables'!$K$16,$G94='Lookup Tables'!$K$17,$G94='Lookup Tables'!$K$18,$G94='Lookup Tables'!$K$19,$G94='Lookup Tables'!$K$20,$G94='Lookup Tables'!$K$21,$G94='Lookup Tables'!$K$22),1,\"\")","v":""},{"$f":"IF(OR($P94=$Z$22,$P94=$Z$23,$P94=$Z$24,$P94=$Z$25,$P94=$Z$26,$P94=$Z$27,$P94=$Z$28,$P94=$Z$29,$P94=$Z$30,$P94=$Z$31,$P94=$Z$32,$P94=$Z$33,$P94=$Z$34,$Q94='Lookup Tables'!$K$14,$Q94='Lookup Tables'!$K$15,$Q94='Lookup Tables'!$K$16,$Q94='Lookup Tables'!$K$17,$Q94='Lookup Tables'!$K$18,$Q94='Lookup Tables'!$K$19,$Q94='Lookup Tables'!$K$20,$Q94='Lookup Tables'!$K$21,$Q94='Lookup Tables'!$K$22),1,\"\")","v":""}]
[null,null,"0' 0 \"",null,null,null,null,null,null,null,null,null,"0' 0 \"",null,null,null,null,null,null,null,null,null,null,null,null,null,null,{"$f":"IF(OR($F43=$Z$22,$F43=$Z$23,$F43=$Z$24,$F43=$Z$25,$F43=$Z$26,$F43=$Z$27,$F43=$Z$28,$F43=$Z$29,$F43=$Z$30,$F43=$Z$31,$F43=$Z$32,$F43=$Z$33,$F43=$Z$34,$G43='Lookup Tables'!$K$14,$G43='Lookup Tables'!$K$15,$G43='Lookup Tables'!$K$16,$G43='Lookup Tables'!$K$17,$G43='Lookup Tables'!$K$18,$G43='Lookup Tables'!$K$19,$G43='Lookup Tables'!$K$20,$G43='Lookup Tables'!$K$21,$G43='Lookup Tables'!$K$22),1,\"\")","v":""},{"$f":"IF(OR($P43=$Z$22,$P43=$Z$23,$P43=$Z$24,$P43=$Z$25,$P43=$Z$26,$P43=$Z$27,$P43=$Z$28,$P43=$Z$29,$P43=$Z$30,$P43=$Z$31,$P43=$Z$32,$P43=$Z$33,$P43=$Z$34,$Q43='Lookup Tables'!$K$14,$Q43='Lookup Tables'!$K$15,$Q43='Lookup Tables'!$K$16,$Q43='Lookup Tables'!$K$17,$Q43='Lookup Tables'!$K$18,$Q43='Lookup Tables'!$K$19,$Q43='Lookup Tables'!$K$20,$Q43='Lookup Tables'!$K$21,$Q43='Lookup Tables'!$K$22),1,\"\")","v":""},{"$f":"IF(OR($F95=$Z$22,$F95=$Z$23,$F95=$Z$24,$F95=$Z$25,$F95=$Z$26,$F95=$Z$27,$F95=$Z$28,$F95=$Z$29,$F95=$Z$30,$F95=$Z$31,$F95=$Z$32,$F95=$Z$33,$F95=$Z$34,$G95='Lookup Tables'!$K$14,$G95='Lookup Tables'!$K$15,$G95='Lookup Tables'!$K$16,$G95='Lookup Tables'!$K$17,$G95='Lookup Tables'!$K$18,$G95='Lookup Tables'!$K$19,$G95='Lookup Tables'!$K$20,$G95='Lookup Tables'!$K$21,$G95='Lookup Tables'!$K$22),1,\"\")","v":""},{"$f":"IF(OR($P95=$Z$22,$P95=$Z$23,$P95=$Z$24,$P95=$Z$25,$P95=$Z$26,$P95=$Z$27,$P95=$Z$28,$P95=$Z$29,$P95=$Z$30,$P95=$Z$31,$P95=$Z$32,$P95=$Z$33,$P95=$Z$34,$Q95='Lookup Tables'!$K$14,$Q95='Lookup Tables'!$K$15,$Q95='Lookup Tables'!$K$16,$Q95='Lookup Tables'!$K$17,$Q95='Lookup Tables'!$K$18,$Q95='Lookup Tables'!$K$19,$Q95='Lookup Tables'!$K$20,$Q95='Lookup Tables'!$K$21,$Q95='Lookup Tables'!$K$22),1,\"\")","v":""}]
[null,null,"0' 0 \"",null,null,null,null,null,null,null,null,null,"0' 0 \"",null,null,null,null,null,null,null,null,null,null,null,null,null,null,{"$f":"IF(OR($F44=$Z$22,$F44=$Z$23,$F44=$Z$24,$F44=$Z$25,$F44=$Z$26,$F44=$Z$27,$F44=$Z$28,$F44=$Z$29,$F44=$Z$30,$F44=$Z$31,$F44=$Z$32,$F44=$Z$33,$F44=$Z$34,$G44='Lookup Tables'!$K$14,$G44='Lookup Tables'!$K$15,$G44='Lookup Tables'!$K$16,$G44='Lookup Tables'!$K$17,$G44='Lookup Tables'!$K$18,$G44='Lookup Tables'!$K$19,$G44='Lookup Tables'!$K$20,$G44='Lookup Tables'!$K$21,$G44='Lookup Tables'!$K$22),1,\"\")","v":""},{"$f":"IF(OR($P44=$Z$22,$P44=$Z$23,$P44=$Z$24,$P44=$Z$25,$P44=$Z$26,$P44=$Z$27,$P44=$Z$28,$P44=$Z$29,$P44=$Z$30,$P44=$Z$31,$P44=$Z$32,$P44=$Z$33,$P44=$Z$34,$Q44='Lookup Tables'!$K$14,$Q44='Lookup Tables'!$K$15,$Q44='Lookup Tables'!$K$16,$Q44='Lookup Tables'!$K$17,$Q44='Lookup Tables'!$K$18,$Q44='Lookup Tables'!$K$19,$Q44='Lookup Tables'!$K$20,$Q44='Lookup Tables'!$K$21,$Q44='Lookup Tables'!$K$22),1,\"\")","v":""},{"$f":"IF(OR($F96=$Z$22,$F96=$Z$23,$F96=$Z$24,$F96=$Z$25,$F96=$Z$26,$F96=$Z$27,$F96=$Z$28,$F96=$Z$29,$F96=$Z$30,$F96=$Z$31,$F96=$Z$32,$F96=$Z$33,$F96=$Z$34,$G96='Lookup Tables'!$K$14,$G96='Lookup Tables'!$K$15,$G96='Lookup Tables'!$K$16,$G96='Lookup Tables'!$K$17,$G96='Lookup Tables'!$K$18,$G96='Lookup Tables'!$K$19,$G96='Lookup Tables'!$K$20,$G96='Lookup Tables'!$K$21,$G96='Lookup Tables'!$K$22),1,\"\")","v":""},{"$f":"IF(OR($P96=$Z$22,$P96=$Z$23,$P96=$Z$24,$P96=$Z$25,$P96=$Z$26,$P96=$Z$27,$P96=$Z$28,$P96=$Z$29,$P96=$Z$30,$P96=$Z$31,$P96=$Z$32,$P96=$Z$33,$P96=$Z$34,$Q96='Lookup Tables'!$K$14,$Q96='Lookup Tables'!$K$15,$Q96='Lookup Tables'!$K$16,$Q96='Lookup Tables'!$K$17,$Q96='Lookup Tables'!$K$18,$Q96='Lookup Tables'!$K$19,$Q96='Lookup Tables'!$K$20,$Q96='Lookup Tables'!$K$21,$Q96='Lookup Tables'!$K$22),1,\"\")","v":""}]
[null,null,"0' 0 \"",null,null,null,null,null,null,null,null,null,"0' 0 \"",null,null,null,null,null,null,null,null,null,null,null,null,null,null,{"$f":"IF(OR($F45=$Z$22,$F45=$Z$23,$F45=$Z$24,$F45=$Z$25,$F45=$Z$26,$F45=$Z$27,$F45=$Z$28,$F45=$Z$29,$F45=$Z$30,$F45=$Z$31,$F45=$Z$32,$F45=$Z$33,$F45=$Z$34,$G45='Lookup Tables'!$K$14,$G45='Lookup Tables'!$K$15,$G45='Lookup Tables'!$K$16,$G45='Lookup Tables'!$K$17,$G45='Lookup Tables'!$K$18,$G45='Lookup Tables'!$K$19,$G45='Lookup Tables'!$K$20,$G45='Lookup Tables'!$K$21,$G45='Lookup Tables'!$K$22),1,\"\")","v":""},{"$f":"IF(OR($P45=$Z$22,$P45=$Z$23,$P45=$Z$24,$P45=$Z$25,$P45=$Z$26,$P45=$Z$27,$P45=$Z$28,$P45=$Z$29,$P45=$Z$30,$P45=$Z$31,$P45=$Z$32,$P45=$Z$33,$P45=$Z$34,$Q45='Lookup Tables'!$K$14,$Q45='Lookup Tables'!$K$15,$Q45='Lookup Tables'!$K$16,$Q45='Lookup Tables'!$K$17,$Q45='Lookup Tables'!$K$18,$Q45='Lookup Tables'!$K$19,$Q45='Lookup Tables'!$K$20,$Q45='Lookup Tables'!$K$21,$Q45='Lookup Tables'!$K$22),1,\"\")","v":""},{"$f":"IF(OR($F97=$Z$22,$F97=$Z$23,$F97=$Z$24,$F97=$Z$25,$F97=$Z$26,$F97=$Z$27,$F97=$Z$28,$F97=$Z$29,$F97=$Z$30,$F97=$Z$31,$F97=$Z$32,$F97=$Z$33,$F97=$Z$34,$G97='Lookup Tables'!$K$14,$G97='Lookup Tables'!$K$15,$G97='Lookup Tables'!$K$16,$G97='Lookup Tables'!$K$17,$G97='Lookup Tables'!$K$18,$G97='Lookup Tables'!$K$19,$G97='Lookup Tables'!$K$20,$G97='Lookup Tables'!$K$21,$G97='Lookup Tables'!$K$22),1,\"\")","v":""},{"$f":"IF(OR($P97=$Z$22,$P97=$Z$23,$P97=$Z$24,$P97=$Z$25,$P97=$Z$26,$P97=$Z$27,$P97=$Z$28,$P97=$Z$29,$P97=$Z$30,$P97=$Z$31,$P97=$Z$32,$P97=$Z$33,$P97=$Z$34,$Q97='Lookup Tables'!$K$14,$Q97='Lookup Tables'!$K$15,$Q97='Lookup Tables'!$K$16,$Q97='Lookup Tables'!$K$17,$Q97='Lookup Tables'!$K$18,$Q97='Lookup Tables'!$K$19,$Q97='Lookup Tables'!$K$20,$Q97='Lookup Tables'!$K$21,$Q97='Lookup Tables'!$K$22),1,\"\")","v":""}]
[null,null,"0' 0 \"",null,null,null,null,null,null,null,null,null,"0' 0 \"",null,null,null,null,null,null,null,null,null,null,null,null,null,null,{"$f":"IF(OR($F46=$Z$22,$F46=$Z$23,$F46=$Z$24,$F46=$Z$25,$F46=$Z$26,$F46=$Z$27,$F46=$Z$28,$F46=$Z$29,$F46=$Z$30,$F46=$Z$31,$F46=$Z$32,$F46=$Z$33,$F46=$Z$34,$G46='Lookup Tables'!$K$14,$G46='Lookup Tables'!$K$15,$G46='Lookup Tables'!$K$16,$G46='Lookup Tables'!$K$17,$G46='Lookup Tables'!$K$18,$G46='Lookup Tables'!$K$19,$G46='Lookup Tables'!$K$20,$G46='Lookup Tables'!$K$21,$G46='Lookup Tables'!$K$22),1,\"\")","v":""},{"$f":"IF(OR($P46=$Z$22,$P46=$Z$23,$P46=$Z$24,$P46=$Z$25,$P46=$Z$26,$P46=$Z$27,$P46=$Z$28,$P46=$Z$29,$P46=$Z$30,$P46=$Z$31,$P46=$Z$32,$P46=$Z$33,$P46=$Z$34,$Q46='Lookup Tables'!$K$14,$Q46='Lookup Tables'!$K$15,$Q46='Lookup Tables'!$K$16,$Q46='Lookup Tables'!$K$17,$Q46='Lookup Tables'!$K$18,$Q46='Lookup Tables'!$K$19,$Q46='Lookup Tables'!$K$20,$Q46='Lookup Tables'!$K$21,$Q46='Lookup Tables'!$K$22),1,\"\")","v":""},{"$f":"IF(OR($F98=$Z$22,$F98=$Z$23,$F98=$Z$24,$F98=$Z$25,$F98=$Z$26,$F98=$Z$27,$F98=$Z$28,$F98=$Z$29,$F98=$Z$30,$F98=$Z$31,$F98=$Z$32,$F98=$Z$33,$F98=$Z$34,$G98='Lookup Tables'!$K$14,$G98='Lookup Tables'!$K$15,$G98='Lookup Tables'!$K$16,$G98='Lookup Tables'!$K$17,$G98='Lookup Tables'!$K$18,$G98='Lookup Tables'!$K$19,$G98='Lookup Tables'!$K$20,$G98='Lookup Tables'!$K$21,$G98='Lookup Tables'!$K$22),1,\"\")","v":""},{"$f":"IF(OR($P98=$Z$22,$P98=$Z$23,$P98=$Z$24,$P98=$Z$25,$P98=$Z$26,$P98=$Z$27,$P98=$Z$28,$P98=$Z$29,$P98=$Z$30,$P98=$Z$31,$P98=$Z$32,$P98=$Z$33,$P98=$Z$34,$Q98='Lookup Tables'!$K$14,$Q98='Lookup Tables'!$K$15,$Q98='Lookup Tables'!$K$16,$Q98='Lookup Tables'!$K$17,$Q98='Lookup Tables'!$K$18,$Q98='Lookup Tables'!$K$19,$Q98='Lookup Tables'!$K$20,$Q98='Lookup Tables'!$K$21,$Q98='Lookup Tables'!$K$22),1,\"\")","v":""}]
[null,null,"0' 0 \"",null,null,null,null,null,null,null,null,null,"0' 0 \"",null,null,null,null,null,null,null,null,null,null,null,null,null,null,{"$f":"IF(OR($F47=$Z$22,$F47=$Z$23,$F47=$Z$24,$F47=$Z$25,$F47=$Z$26,$F47=$Z$27,$F47=$Z$28,$F47=$Z$29,$F47=$Z$30,$F47=$Z$31,$F47=$Z$32,$F47=$Z$33,$F47=$Z$34,$G47='Lookup Tables'!$K$14,$G47='Lookup Tables'!$K$15,$G47='Lookup Tables'!$K$16,$G47='Lookup Tables'!$K$17,$G47='Lookup Tables'!$K$18,$G47='Lookup Tables'!$K$19,$G47='Lookup Tables'!$K$20,$G47='Lookup Tables'!$K$21,$G47='Lookup Tables'!$K$22),1,\"\")","v":""},{"$f":"IF(OR($P47=$Z$22,$P47=$Z$23,$P47=$Z$24,$P47=$Z$25,$P47=$Z$26,$P47=$Z$27,$P47=$Z$28,$P47=$Z$29,$P47=$Z$30,$P47=$Z$31,$P47=$Z$32,$P47=$Z$33,$P47=$Z$34,$Q47='Lookup Tables'!$K$14,$Q47='Lookup Tables'!$K$15,$Q47='Lookup Tables'!$K$16,$Q47='Lookup Tables'!$K$17,$Q47='Lookup Tables'!$K$18,$Q47='Lookup Tables'!$K$19,$Q47='Lookup Tables'!$K$20,$Q47='Lookup Tables'!$K$21,$Q47='Lookup Tables'!$K$22),1,\"\")","v":""},{"$f":"IF(OR($F99=$Z$22,$F99=$Z$23,$F99=$Z$24,$F99=$Z$25,$F99=$Z$26,$F99=$Z$27,$F99=$Z$28,$F99=$Z$29,$F99=$Z$30,$F99=$Z$31,$F99=$Z$32,$F99=$Z$33,$F99=$Z$34,$G99='Lookup Tables'!$K$14,$G99='Lookup Tables'!$K$15,$G99='Lookup Tables'!$K$16,$G99='Lookup Tables'!$K$17,$G99='Lookup Tables'!$K$18,$G99='Lookup Tables'!$K$19,$G99='Lookup Tables'!$K$20,$G99='Lookup Tables'!$K$21,$G99='Lookup Tables'!$K$22),1,\"\")","v":""},{"$f":"IF(OR($P99=$Z$22,$P99=$Z$23,$P99=$Z$24,$P99=$Z$25,$P99=$Z$26,$P99=$Z$27,$P99=$Z$28,$P99=$Z$29,$P99=$Z$30,$P99=$Z$31,$P99=$Z$32,$P99=$Z$33,$P99=$Z$34,$Q99='Lookup Tables'!$K$14,$Q99='Lookup Tables'!$K$15,$Q99='Lookup Tables'!$K$16,$Q99='Lookup Tables'!$K$17,$Q99='Lookup Tables'!$K$18,$Q99='Lookup Tables'!$K$19,$Q99='Lookup Tables'!$K$20,$Q99='Lookup Tables'!$K$21,$Q99='Lookup Tables'!$K$22),1,\"\")","v":""}]
[null,null,"0' 0 \"",null,null,null,null,null,null,null,null,null,"0' 0 \"",null,null,null,null,null,null,null,null,null,null,null,null,null,null,{"$f":"IF(OR($F48=$Z$22,$F48=$Z$23,$F48=$Z$24,$F48=$Z$25,$F48=$Z$26,$F48=$Z$27,$F48=$Z$28,$F48=$Z$29,$F48=$Z$30,$F48=$Z$31,$F48=$Z$32,$F48=$Z$33,$F48=$Z$34,$G48='Lookup Tables'!$K$14,$G48='Lookup Tables'!$K$15,$G48='Lookup Tables'!$K$16,$G48='Lookup Tables'!$K$17,$G48='Lookup Tables'!$K$18,$G48='Lookup Tables'!$K$19,$G48='Lookup Tables'!$K$20,$G48='Lookup Tables'!$K$21,$G48='Lookup Tables'!$K$22),1,\"\")","v":""},{"$f":"IF(OR($P48=$Z$22,$P48=$Z$23,$P48=$Z$24,$P48=$Z$25,$P48=$Z$26,$P48=$Z$27,$P48=$Z$28,$P48=$Z$29,$P48=$Z$30,$P48=$Z$31,$P48=$Z$32,$P48=$Z$33,$P48=$Z$34,$Q48='Lookup Tables'!$K$14,$Q48='Lookup Tables'!$K$15,$Q48='Lookup Tables'!$K$16,$Q48='Lookup Tables'!$K$17,$Q48='Lookup Tables'!$K$18,$Q48='Lookup Tables'!$K$19,$Q48='Lookup Tables'!$K$20,$Q48='Lookup Tables'!$K$21,$Q48='Lookup Tables'!$K$22),1,\"\")","v":""},{"$f":"IF(OR($F100=$Z$22,$F100=$Z$23,$F100=$Z$24,$F100=$Z$25,$F100=$Z$26,$F100=$Z$27,$F100=$Z$28,$F100=$Z$29,$F100=$Z$30,$F100=$Z$31,$F100=$Z$32,$F100=$Z$33,$F100=$Z$34,$G100='Lookup Tables'!$K$14,$G100='Lookup Tables'!$K$15,$G100='Lookup Tables'!$K$16,$G100='Lookup Tables'!$K$17,$G100='Lookup Tables'!$K$18,$G100='Lookup Tables'!$K$19,$G100='Lookup Tables'!$K$20,$G100='Lookup Tables'!$K$21,$G100='Lookup Tables'!$K$22),1,\"\")","v":""},{"$f":"IF(OR($P100=$Z$22,$P100=$Z$23,$P100=$Z$24,$P100=$Z$25,$P100=$Z$26,$P100=$Z$27,$P100=$Z$28,$P100=$Z$29,$P100=$Z$30,$P100=$Z$31,$P100=$Z$32,$P100=$Z$33,$P100=$Z$34,$Q100='Lookup Tables'!$K$14,$Q100='Lookup Tables'!$K$15,$Q100='Lookup Tables'!$K$16,$Q100='Lookup Tables'!$K$17,$Q100='Lookup Tables'!$K$18,$Q100='Lookup Tables'!$K$19,$Q100='Lookup Tables'!$K$20,$Q100='Lookup Tables'!$K$21,$Q100='Lookup Tables'!$K$22),1,\"\")","v":""}]
[null,null,"0' 0 \"",null,null,null,null,null,null,null,null,null,"0' 0 \"",null,null,null,null,null,null,null,null,null,null,null,null,null,null,{"$f":"IF(OR($F49=$Z$22,$F49=$Z$23,$F49=$Z$24,$F49=$Z$25,$F49=$Z$26,$F49=$Z$27,$F49=$Z$28,$F49=$Z$29,$F49=$Z$30,$F49=$Z$31,$F49=$Z$32,$F49=$Z$33,$F49=$Z$34,$G49='Lookup Tables'!$K$14,$G49='Lookup Tables'!$K$15,$G49='Lookup Tables'!$K$16,$G49='Lookup Tables'!$K$17,$G49='Lookup Tables'!$K$18,$G49='Lookup Tables'!$K$19,$G49='Lookup Tables'!$K$20,$G49='Lookup Tables'!$K$21,$G49='Lookup Tables'!$K$22),1,\"\")","v":""},{"$f":"IF(OR($P49=$Z$22,$P49=$Z$23,$P49=$Z$24,$P49=$Z$25,$P49=$Z$26,$P49=$Z$27,$P49=$Z$28,$P49=$Z$29,$P49=$Z$30,$P49=$Z$31,$P49=$Z$32,$P49=$Z$33,$P49=$Z$34,$Q49='Lookup Tables'!$K$14,$Q49='Lookup Tables'!$K$15,$Q49='Lookup Tables'!$K$16,$Q49='Lookup Tables'!$K$17,$Q49='Lookup Tables'!$K$18,$Q49='Lookup Tables'!$K$19,$Q49='Lookup Tables'!$K$20,$Q49='Lookup Tables'!$K$21,$Q49='Lookup Tables'!$K$22),1,\"\")","v":""},{"$f":"IF(OR($F101=$Z$22,$F101=$Z$23,$F101=$Z$24,$F101=$Z$25,$F101=$Z$26,$F101=$Z$27,$F101=$Z$28,$F101=$Z$29,$F101=$Z$30,$F101=$Z$31,$F101=$Z$32,$F101=$Z$33,$F101=$Z$34,$G101='Lookup Tables'!$K$14,$G101='Lookup Tables'!$K$15,$G101='Lookup Tables'!$K$16,$G101='Lookup Tables'!$K$17,$G101='Lookup Tables'!$K$18,$G101='Lookup Tables'!$K$19,$G101='Lookup Tables'!$K$20,$G101='Lookup Tables'!$K$21,$G101='Lookup Tables'!$K$22),1,\"\")","v":""},{"$f":"IF(OR($P101=$Z$22,$P101=$Z$23,$P101=$Z$24,$P101=$Z$25,$P101=$Z$26,$P101=$Z$27,$P101=$Z$28,$P101=$Z$29,$P101=$Z$30,$P101=$Z$31,$P101=$Z$32,$P101=$Z$33,$P101=$Z$34,$Q101='Lookup Tables'!$K$14,$Q101='Lookup Tables'!$K$15,$Q101='Lookup Tables'!$K$16,$Q101='Lookup Tables'!$K$17,$Q101='Lookup Tables'!$K$18,$Q101='Lookup Tables'!$K$19,$Q101='Lookup Tables'!$K$20,$Q101='Lookup Tables'!$K$21,$Q101='Lookup Tables'!$K$22),1,\"\")","v":""}]
[null,null,"0' 0 \"",null,null,null,null,null,null,null,null,null,"0' 0 \"",null,null,null,null,null,null,null,null,null,null,null,null,null,null,{"$f":"IF(OR($F50=$Z$22,$F50=$Z$23,$F50=$Z$24,$F50=$Z$25,$F50=$Z$26,$F50=$Z$27,$F50=$Z$28,$F50=$Z$29,$F50=$Z$30,$F50=$Z$31,$F50=$Z$32,$F50=$Z$33,$F50=$Z$34,$G50='Lookup Tables'!$K$14,$G50='Lookup Tables'!$K$15,$G50='Lookup Tables'!$K$16,$G50='Lookup Tables'!$K$17,$G50='Lookup Tables'!$K$18,$G50='Lookup Tables'!$K$19,$G50='Lookup Tables'!$K$20,$G50='Lookup Tables'!$K$21,$G50='Lookup Tables'!$K$22),1,\"\")","v":""},{"$f":"IF(OR($P50=$Z$22,$P50=$Z$23,$P50=$Z$24,$P50=$Z$25,$P50=$Z$26,$P50=$Z$27,$P50=$Z$28,$P50=$Z$29,$P50=$Z$30,$P50=$Z$31,$P50=$Z$32,$P50=$Z$33,$P50=$Z$34,$Q50='Lookup Tables'!$K$14,$Q50='Lookup Tables'!$K$15,$Q50='Lookup Tables'!$K$16,$Q50='Lookup Tables'!$K$17,$Q50='Lookup Tables'!$K$18,$Q50='Lookup Tables'!$K$19,$Q50='Lookup Tables'!$K$20,$Q50='Lookup Tables'!$K$21,$Q50='Lookup Tables'!$K$22),1,\"\")","v":""},{"$f":"IF(OR($F102=$Z$22,$F102=$Z$23,$F102=$Z$24,$F102=$Z$25,$F102=$Z$26,$F102=$Z$27,$F102=$Z$28,$F102=$Z$29,$F102=$Z$30,$F102=$Z$31,$F102=$Z$32,$F102=$Z$33,$F102=$Z$34,$G102='Lookup Tables'!$K$14,$G102='Lookup Tables'!$K$15,$G102='Lookup Tables'!$K$16,$G102='Lookup Tables'!$K$17,$G102='Lookup Tables'!$K$18,$G102='Lookup Tables'!$K$19,$G102='Lookup Tables'!$K$20,$G102='Lookup Tables'!$K$21,$G102='Lookup Tables'!$K$22),1,\"\")","v":""},{"$f":"IF(OR($P102=$Z$22,$P102=$Z$23,$P102=$Z$24,$P102=$Z$25,$P102=$Z$26,$P102=$Z$27,$P102=$Z$28,$P102=$Z$29,$P102=$Z$30,$P102=$Z$31,$P102=$Z$32,$P102=$Z$33,$P102=$Z$34,$Q102='Lookup Tables'!$K$14,$Q102='Lookup Tables'!$K$15,$Q102='Lookup Tables'!$K$16,$Q102='Lookup Tables'!$K$17,$Q102='Lookup Tables'!$K$18,$Q102='Lookup Tables'!$K$19,$Q102='Lookup Tables'!$K$20,$Q102='Lookup Tables'!$K$21,$Q102='Lookup Tables'!$K$22),1,\"\")","v":""}]
[null,null,"0' 0 \"",null,null,null,null,null,null,null,null,null,"0' 0 \"",null,null,null,null,null,null,null,null,null,null,null,null,null,null,{"$f":"IF(OR($F51=$Z$22,$F51=$Z$23,$F51=$Z$24,$F51=$Z$25,$F51=$Z$26,$F51=$Z$27,$F51=$Z$28,$F51=$Z$29,$F51=$Z$30,$F51=$Z$31,$F51=$Z$32,$F51=$Z$33,$F51=$Z$34,$G51='Lookup Tables'!$K$14,$G51='Lookup Tables'!$K$15,$G51='Lookup Tables'!$K$16,$G51='Lookup Tables'!$K$17,$G51='Lookup Tables'!$K$18,$G51='Lookup Tables'!$K$19,$G51='Lookup Tables'!$K$20,$G51='Lookup Tables'!$K$21,$G51='Lookup Tables'!$K$22),1,\"\")","v":""},{"$f":"IF(OR($P51=$Z$22,$P51=$Z$23,$P51=$Z$24,$P51=$Z$25,$P51=$Z$26,$P51=$Z$27,$P51=$Z$28,$P51=$Z$29,$P51=$Z$30,$P51=$Z$31,$P51=$Z$32,$P51=$Z$33,$P51=$Z$34,$Q51='Lookup Tables'!$K$14,$Q51='Lookup Tables'!$K$15,$Q51='Lookup Tables'!$K$16,$Q51='Lookup Tables'!$K$17,$Q51='Lookup Tables'!$K$18,$Q51='Lookup Tables'!$K$19,$Q51='Lookup Tables'!$K$20,$Q51='Lookup Tables'!$K$21,$Q51='Lookup Tables'!$K$22),1,\"\")","v":""},{"$f":"IF(OR($F103=$Z$22,$F103=$Z$23,$F103=$Z$24,$F103=$Z$25,$F103=$Z$26,$F103=$Z$27,$F103=$Z$28,$F103=$Z$29,$F103=$Z$30,$F103=$Z$31,$F103=$Z$32,$F103=$Z$33,$F103=$Z$34,$G103='Lookup Tables'!$K$14,$G103='Lookup Tables'!$K$15,$G103='Lookup Tables'!$K$16,$G103='Lookup Tables'!$K$17,$G103='Lookup Tables'!$K$18,$G103='Lookup Tables'!$K$19,$G103='Lookup Tables'!$K$20,$G103='Lookup Tables'!$K$21,$G103='Lookup Tables'!$K$22),1,\"\")","v":""},{"$f":"IF(OR($P103=$Z$22,$P103=$Z$23,$P103=$Z$24,$P103=$Z$25,$P103=$Z$26,$P103=$Z$27,$P103=$Z$28,$P103=$Z$29,$P103=$Z$30,$P103=$Z$31,$P103=$Z$32,$P103=$Z$33,$P103=$Z$34,$Q103='Lookup Tables'!$K$14,$Q103='Lookup Tables'!$K$15,$Q103='Lookup Tables'!$K$16,$Q103='Lookup Tables'!$K$17,$Q103='Lookup Tables'!$K$18,$Q103='Lookup Tables'!$K$19,$Q103='Lookup Tables'!$K$20,$Q103='Lookup Tables'!$K$21,$Q103='Lookup Tables'!$K$22),1,\"\")","v":""}]
[null,null,"0' 0 \"",null,null,null,null,null,null,null,null,null,"0' 0 \"",null,null,null,null,null,null,null,null,null,null,null,null,null,null,{"$f":"IF(OR($F52=$Z$22,$F52=$Z$23,$F52=$Z$24,$F52=$Z$25,$F52=$Z$26,$F52=$Z$27,$F52=$Z$28,$F52=$Z$29,$F52=$Z$30,$F52=$Z$31,$F52=$Z$32,$F52=$Z$33,$F52=$Z$34,$G52='Lookup Tables'!$K$14,$G52='Lookup Tables'!$K$15,$G52='Lookup Tables'!$K$16,$G52='Lookup Tables'!$K$17,$G52='Lookup Tables'!$K$18,$G52='Lookup Tables'!$K$19,$G52='Lookup Tables'!$K$20,$G52='Lookup Tables'!$K$21,$G52='Lookup Tables'!$K$22),1,\"\")","v":""},{"$f":"IF(OR($P52=$Z$22,$P52=$Z$23,$P52=$Z$24,$P52=$Z$25,$P52=$Z$26,$P52=$Z$27,$P52=$Z$28,$P52=$Z$29,$P52=$Z$30,$P52=$Z$31,$P52=$Z$32,$P52=$Z$33,$P52=$Z$34,$Q52='Lookup Tables'!$K$14,$Q52='Lookup Tables'!$K$15,$Q52='Lookup Tables'!$K$16,$Q52='Lookup Tables'!$K$17,$Q52='Lookup Tables'!$K$18,$Q52='Lookup Tables'!$K$19,$Q52='Lookup Tables'!$K$20,$Q52='Lookup Tables'!$K$21,$Q52='Lookup Tables'!$K$22),1,\"\")","v":""},{"$f":"IF(OR($F104=$Z$22,$F104=$Z$23,$F104=$Z$24,$F104=$Z$25,$F104=$Z$26,$F104=$Z$27,$F104=$Z$28,$F104=$Z$29,$F104=$Z$30,$F104=$Z$31,$F104=$Z$32,$F104=$Z$33,$F104=$Z$34,$G104='Lookup Tables'!$K$14,$G104='Lookup Tables'!$K$15,$G104='Lookup Tables'!$K$16,$G104='Lookup Tables'!$K$17,$G104='Lookup Tables'!$K$18,$G104='Lookup Tables'!$K$19,$G104='Lookup Tables'!$K$20,$G104='Lookup Tables'!$K$21,$G104='Lookup Tables'!$K$22),1,\"\")","v":""},{"$f":"IF(OR($P104=$Z$22,$P104=$Z$23,$P104=$Z$24,$P104=$Z$25,$P104=$Z$26,$P104=$Z$27,$P104=$Z$28,$P104=$Z$29,$P104=$Z$30,$P104=$Z$31,$P104=$Z$32,$P104=$Z$33,$P104=$Z$34,$Q104='Lookup Tables'!$K$14,$Q104='Lookup Tables'!$K$15,$Q104='Lookup Tables'!$K$16,$Q104='Lookup Tables'!$K$17,$Q104='Lookup Tables'!$K$18,$Q104='Lookup Tables'!$K$19,$Q104='Lookup Tables'!$K$20,$Q104='Lookup Tables'!$K$21,$Q104='Lookup Tables'!$K$22),1,\"\")","v":""}]
[null,null,"0' 0 \"",null,null,null,null,null,null,null,null,null,"0' 0 \"",null,null,null,null,null,null,null,null,null,null,null,null,null,null,{"$f":"IF(OR($F53=$Z$22,$F53=$Z$23,$F53=$Z$24,$F53=$Z$25,$F53=$Z$26,$F53=$Z$27,$F53=$Z$28,$F53=$Z$29,$F53=$Z$30,$F53=$Z$31,$F53=$Z$32,$F53=$Z$33,$F53=$Z$34,$G53='Lookup Tables'!$K$14,$G53='Lookup Tables'!$K$15,$G53='Lookup Tables'!$K$16,$G53='Lookup Tables'!$K$17,$G53='Lookup Tables'!$K$18,$G53='Lookup Tables'!$K$19,$G53='Lookup Tables'!$K$20,$G53='Lookup Tables'!$K$21,$G53='Lookup Tables'!$K$22),1,\"\")","v":""},{"$f":"IF(OR($P53=$Z$22,$P53=$Z$23,$P53=$Z$24,$P53=$Z$25,$P53=$Z$26,$P53=$Z$27,$P53=$Z$28,$P53=$Z$29,$P53=$Z$30,$P53=$Z$31,$P53=$Z$32,$P53=$Z$33,$P53=$Z$34,$Q53='Lookup Tables'!$K$14,$Q53='Lookup Tables'!$K$15,$Q53='Lookup Tables'!$K$16,$Q53='Lookup Tables'!$K$17,$Q53='Lookup Tables'!$K$18,$Q53='Lookup Tables'!$K$19,$Q53='Lookup Tables'!$K$20,$Q53='Lookup Tables'!$K$21,$Q53='Lookup Tables'!$K$22),1,\"\")","v":""},{"$f":"IF(OR($F105=$Z$22,$F105=$Z$23,$F105=$Z$24,$F105=$Z$25,$F105=$Z$26,$F105=$Z$27,$F105=$Z$28,$F105=$Z$29,$F105=$Z$30,$F105=$Z$31,$F105=$Z$32,$F105=$Z$33,$F105=$Z$34,$G105='Lookup Tables'!$K$14,$G105='Lookup Tables'!$K$15,$G105='Lookup Tables'!$K$16,$G105='Lookup Tables'!$K$17,$G105='Lookup Tables'!$K$18,$G105='Lookup Tables'!$K$19,$G105='Lookup Tables'!$K$20,$G105='Lookup Tables'!$K$21,$G105='Lookup Tables'!$K$22),1,\"\")","v":""},{"$f":"IF(OR($P105=$Z$22,$P105=$Z$23,$P105=$Z$24,$P105=$Z$25,$P105=$Z$26,$P105=$Z$27,$P105=$Z$28,$P105=$Z$29,$P105=$Z$30,$P105=$Z$31,$P105=$Z$32,$P105=$Z$33,$P105=$Z$34,$Q105='Lookup Tables'!$K$14,$Q105='Lookup Tables'!$K$15,$Q105='Lookup Tables'!$K$16,$Q105='Lookup Tables'!$K$17,$Q105='Lookup Tables'!$K$18,$Q105='Lookup Tables'!$K$19,$Q105='Lookup Tables'!$K$20,$Q105='Lookup Tables'!$K$21,$Q105='Lookup Tables'!$K$22),1,\"\")","v":""}]
[null,null,"0' 0 \"",null,null,null,null,null,null,null,null,null,"0' 0 \"",null,null,null,null,null,null,null,null,null,null,null,null,null,null,{"$f":"IF(OR($F54=$Z$22,$F54=$Z$23,$F54=$Z$24,$F54=$Z$25,$F54=$Z$26,$F54=$Z$27,$F54=$Z$28,$F54=$Z$29,$F54=$Z$30,$F54=$Z$31,$F54=$Z$32,$F54=$Z$33,$F54=$Z$34,$G54='Lookup Tables'!$K$14,$G54='Lookup Tables'!$K$15,$G54='Lookup Tables'!$K$16,$G54='Lookup Tables'!$K$17,$G54='Lookup Tables'!$K$18,$G54='Lookup Tables'!$K$19,$G54='Lookup Tables'!$K$20,$G54='Lookup Tables'!$K$21,$G54='Lookup Tables'!$K$22),1,\"\")","v":""},{"$f":"IF(OR($P54=$Z$22,$P54=$Z$23,$P54=$Z$24,$P54=$Z$25,$P54=$Z$26,$P54=$Z$27,$P54=$Z$28,$P54=$Z$29,$P54=$Z$30,$P54=$Z$31,$P54=$Z$32,$P54=$Z$33,$P54=$Z$34,$Q54='Lookup Tables'!$K$14,$Q54='Lookup Tables'!$K$15,$Q54='Lookup Tables'!$K$16,$Q54='Lookup Tables'!$K$17,$Q54='Lookup Tables'!$K$18,$Q54='Lookup Tables'!$K$19,$Q54='Lookup Tables'!$K$20,$Q54='Lookup Tables'!$K$21,$Q54='Lookup Tables'!$K$22),1,\"\")","v":""},{"$f":"IF(OR($F106=$Z$22,$F106=$Z$23,$F106=$Z$24,$F106=$Z$25,$F106=$Z$26,$F106=$Z$27,$F106=$Z$28,$F106=$Z$29,$F106=$Z$30,$F106=$Z$31,$F106=$Z$32,$F106=$Z$33,$F106=$Z$34,$G106='Lookup Tables'!$K$14,$G106='Lookup Tables'!$K$15,$G106='Lookup Tables'!$K$16,$G106='Lookup Tables'!$K$17,$G106='Lookup Tables'!$K$18,$G106='Lookup Tables'!$K$19,$G106='Lookup Tables'!$K$20,$G106='Lookup Tables'!$K$21,$G106='Lookup Tables'!$K$22),1,\"\")","v":""},{"$f":"IF(OR($P106=$Z$22,$P106=$Z$23,$P106=$Z$24,$P106=$Z$25,$P106=$Z$26,$P106=$Z$27,$P106=$Z$28,$P106=$Z$29,$P106=$Z$30,$P106=$Z$31,$P106=$Z$32,$P106=$Z$33,$P106=$Z$34,$Q106='Lookup Tables'!$K$14,$Q106='Lookup Tables'!$K$15,$Q106='Lookup Tables'!$K$16,$Q106='Lookup Tables'!$K$17,$Q106='Lookup Tables'!$K$18,$Q106='Lookup Tables'!$K$19,$Q106='Lookup Tables'!$K$20,$Q106='Lookup Tables'!$K$21,$Q106='Lookup Tables'!$K$22),1,\"\")","v":""}]
[null,null,"0' 0 \"",null,null,null,null,null,null,null,null,null,"0' 0 \"",null,null,null,null,null,null,null,null,null,null,null,null,null,null,{"$f":"IF(OR($F55=$Z$22,$F55=$Z$23,$F55=$Z$24,$F55=$Z$25,$F55=$Z$26,$F55=$Z$27,$F55=$Z$28,$F55=$Z$29,$F55=$Z$30,$F55=$Z$31,$F55=$Z$32,$F55=$Z$33,$F55=$Z$34,$G55='Lookup Tables'!$K$14,$G55='Lookup Tables'!$K$15,$G55='Lookup Tables'!$K$16,$G55='Lookup Tables'!$K$17,$G55='Lookup Tables'!$K$18,$G55='Lookup Tables'!$K$19,$G55='Lookup Tables'!$K$20,$G55='Lookup Tables'!$K$21,$G55='Lookup Tables'!$K$22),1,\"\")","v":""},{"$f":"IF(OR($P55=$Z$22,$P55=$Z$23,$P55=$Z$24,$P55=$Z$25,$P55=$Z$26,$P55=$Z$27,$P55=$Z$28,$P55=$Z$29,$P55=$Z$30,$P55=$Z$31,$P55=$Z$32,$P55=$Z$33,$P55=$Z$34,$Q55='Lookup Tables'!$K$14,$Q55='Lookup Tables'!$K$15,$Q55='Lookup Tables'!$K$16,$Q55='Lookup Tables'!$K$17,$Q55='Lookup Tables'!$K$18,$Q55='Lookup Tables'!$K$19,$Q55='Lookup Tables'!$K$20,$Q55='Lookup Tables'!$K$21,$Q55='Lookup Tables'!$K$22),1,\"\")","v":""},{"$f":"IF(OR($F107=$Z$22,$F107=$Z$23,$F107=$Z$24,$F107=$Z$25,$F107=$Z$26,$F107=$Z$27,$F107=$Z$28,$F107=$Z$29,$F107=$Z$30,$F107=$Z$31,$F107=$Z$32,$F107=$Z$33,$F107=$Z$34,$G107='Lookup Tables'!$K$14,$G107='Lookup Tables'!$K$15,$G107='Lookup Tables'!$K$16,$G107='Lookup Tables'!$K$17,$G107='Lookup Tables'!$K$18,$G107='Lookup Tables'!$K$19,$G107='Lookup Tables'!$K$20,$G107='Lookup Tables'!$K$21,$G107='Lookup Tables'!$K$22),1,\"\")","v":""},{"$f":"IF(OR($P107=$Z$22,$P107=$Z$23,$P107=$Z$24,$P107=$Z$25,$P107=$Z$26,$P107=$Z$27,$P107=$Z$28,$P107=$Z$29,$P107=$Z$30,$P107=$Z$31,$P107=$Z$32,$P107=$Z$33,$P107=$Z$34,$Q107='Lookup Tables'!$K$14,$Q107='Lookup Tables'!$K$15,$Q107='Lookup Tables'!$K$16,$Q107='Lookup Tables'!$K$17,$Q107='Lookup Tables'!$K$18,$Q107='Lookup Tables'!$K$19,$Q107='Lookup Tables'!$K$20,$Q107='Lookup Tables'!$K$21,$Q107='Lookup Tables'!$K$22),1,\"\")","v":""}]
[null,null,"0' 0 \"",null,null,null,null,null,null,null,null,null,"0' 0 \"",null,null,null,null,null,null,null,null,null,null,null,null,null,null,{"$f":"IF(OR($F56=$Z$22,$F56=$Z$23,$F56=$Z$24,$F56=$Z$25,$F56=$Z$26,$F56=$Z$27,$F56=$Z$28,$F56=$Z$29,$F56=$Z$30,$F56=$Z$31,$F56=$Z$32,$F56=$Z$33,$F56=$Z$34,$G56='Lookup Tables'!$K$14,$G56='Lookup Tables'!$K$15,$G56='Lookup Tables'!$K$16,$G56='Lookup Tables'!$K$17,$G56='Lookup Tables'!$K$18,$G56='Lookup Tables'!$K$19,$G56='Lookup Tables'!$K$20,$G56='Lookup Tables'!$K$21,$G56='Lookup Tables'!$K$22),1,\"\")","v":""},{"$f":"IF(OR($P56=$Z$22,$P56=$Z$23,$P56=$Z$24,$P56=$Z$25,$P56=$Z$26,$P56=$Z$27,$P56=$Z$28,$P56=$Z$29,$P56=$Z$30,$P56=$Z$31,$P56=$Z$32,$P56=$Z$33,$P56=$Z$34,$Q56='Lookup Tables'!$K$14,$Q56='Lookup Tables'!$K$15,$Q56='Lookup Tables'!$K$16,$Q56='Lookup Tables'!$K$17,$Q56='Lookup Tables'!$K$18,$Q56='Lookup Tables'!$K$19,$Q56='Lookup Tables'!$K$20,$Q56='Lookup Tables'!$K$21,$Q56='Lookup Tables'!$K$22),1,\"\")","v":""},{"$f":"IF(OR($F108=$Z$22,$F108=$Z$23,$F108=$Z$24,$F108=$Z$25,$F108=$Z$26,$F108=$Z$27,$F108=$Z$28,$F108=$Z$29,$F108=$Z$30,$F108=$Z$31,$F108=$Z$32,$F108=$Z$33,$F108=$Z$34,$G108='Lookup Tables'!$K$14,$G108='Lookup Tables'!$K$15,$G108='Lookup Tables'!$K$16,$G108='Lookup Tables'!$K$17,$G108='Lookup Tables'!$K$18,$G108='Lookup Tables'!$K$19,$G108='Lookup Tables'!$K$20,$G108='Lookup Tables'!$K$21,$G108='Lookup Tables'!$K$22),1,\"\")","v":""},{"$f":"IF(OR($P108=$Z$22,$P108=$Z$23,$P108=$Z$24,$P108=$Z$25,$P108=$Z$26,$P108=$Z$27,$P108=$Z$28,$P108=$Z$29,$P108=$Z$30,$P108=$Z$31,$P108=$Z$32,$P108=$Z$33,$P108=$Z$34,$Q108='Lookup Tables'!$K$14,$Q108='Lookup Tables'!$K$15,$Q108='Lookup Tables'!$K$16,$Q108='Lookup Tables'!$K$17,$Q108='Lookup Tables'!$K$18,$Q108='Lookup Tables'!$K$19,$Q108='Lookup Tables'!$K$20,$Q108='Lookup Tables'!$K$21,$Q108='Lookup Tables'!$K$22),1,\"\")","v":""}]
[null,null,"0' 0 \"",null,null,null,null,null,null,null,null,null,"0' 0 \"",null,null,null,null,null,null,null,null,null,null,null,null,null,null,{"$f":"IF(OR($F57=$Z$22,$F57=$Z$23,$F57=$Z$24,$F57=$Z$25,$F57=$Z$26,$F57=$Z$27,$F57=$Z$28,$F57=$Z$29,$F57=$Z$30,$F57=$Z$31,$F57=$Z$32,$F57=$Z$33,$F57=$Z$34,$G57='Lookup Tables'!$K$14,$G57='Lookup Tables'!$K$15,$G57='Lookup Tables'!$K$16,$G57='Lookup Tables'!$K$17,$G57='Lookup Tables'!$K$18,$G57='Lookup Tables'!$K$19,$G57='Lookup Tables'!$K$20,$G57='Lookup Tables'!$K$21,$G57='Lookup Tables'!$K$22),1,\"\")","v":""},{"$f":"IF(OR($P57=$Z$22,$P57=$Z$23,$P57=$Z$24,$P57=$Z$25,$P57=$Z$26,$P57=$Z$27,$P57=$Z$28,$P57=$Z$29,$P57=$Z$30,$P57=$Z$31,$P57=$Z$32,$P57=$Z$33,$P57=$Z$34,$Q57='Lookup Tables'!$K$14,$Q57='Lookup Tables'!$K$15,$Q57='Lookup Tables'!$K$16,$Q57='Lookup Tables'!$K$17,$Q57='Lookup Tables'!$K$18,$Q57='Lookup Tables'!$K$19,$Q57='Lookup Tables'!$K$20,$Q57='Lookup Tables'!$K$21,$Q57='Lookup Tables'!$K$22),1,\"\")","v":""},{"$f":"IF(OR($F109=$Z$22,$F109=$Z$23,$F109=$Z$24,$F109=$Z$25,$F109=$Z$26,$F109=$Z$27,$F109=$Z$28,$F109=$Z$29,$F109=$Z$30,$F109=$Z$31,$F109=$Z$32,$F109=$Z$33,$F109=$Z$34,$G109='Lookup Tables'!$K$14,$G109='Lookup Tables'!$K$15,$G109='Lookup Tables'!$K$16,$G109='Lookup Tables'!$K$17,$G109='Lookup Tables'!$K$18,$G109='Lookup Tables'!$K$19,$G109='Lookup Tables'!$K$20,$G109='Lookup Tables'!$K$21,$G109='Lookup Tables'!$K$22),1,\"\")","v":""},{"$f":"IF(OR($P109=$Z$22,$P109=$Z$23,$P109=$Z$24,$P109=$Z$25,$P109=$Z$26,$P109=$Z$27,$P109=$Z$28,$P109=$Z$29,$P109=$Z$30,$P109=$Z$31,$P109=$Z$32,$P109=$Z$33,$P109=$Z$34,$Q109='Lookup Tables'!$K$14,$Q109='Lookup Tables'!$K$15,$Q109='Lookup Tables'!$K$16,$Q109='Lookup Tables'!$K$17,$Q109='Lookup Tables'!$K$18,$Q109='Lookup Tables'!$K$19,$Q109='Lookup Tables'!$K$20,$Q109='Lookup Tables'!$K$21,$Q109='Lookup Tables'!$K$22),1,\"\")","v":""}]
[null,null,"0' 0 \"",null,null,null,null,null,null,null,null,null,"0' 0 \"",null,null,null,null,null,null,null,null,null,null,null,null,null,null,{"$f":"IF(OR($F58=$Z$22,$F58=$Z$23,$F58=$Z$24,$F58=$Z$25,$F58=$Z$26,$F58=$Z$27,$F58=$Z$28,$F58=$Z$29,$F58=$Z$30,$F58=$Z$31,$F58=$Z$32,$F58=$Z$33,$F58=$Z$34,$G58='Lookup Tables'!$K$14,$G58='Lookup Tables'!$K$15,$G58='Lookup Tables'!$K$16,$G58='Lookup Tables'!$K$17,$G58='Lookup Tables'!$K$18,$G58='Lookup Tables'!$K$19,$G58='Lookup Tables'!$K$20,$G58='Lookup Tables'!$K$21,$G58='Lookup Tables'!$K$22),1,\"\")","v":""},{"$f":"IF(OR($P58=$Z$22,$P58=$Z$23,$P58=$Z$24,$P58=$Z$25,$P58=$Z$26,$P58=$Z$27,$P58=$Z$28,$P58=$Z$29,$P58=$Z$30,$P58=$Z$31,$P58=$Z$32,$P58=$Z$33,$P58=$Z$34,$Q58='Lookup Tables'!$K$14,$Q58='Lookup Tables'!$K$15,$Q58='Lookup Tables'!$K$16,$Q58='Lookup Tables'!$K$17,$Q58='Lookup Tables'!$K$18,$Q58='Lookup Tables'!$K$19,$Q58='Lookup Tables'!$K$20,$Q58='Lookup Tables'!$K$21,$Q58='Lookup Tables'!$K$22),1,\"\")","v":""},{"$f":"IF(OR($F110=$Z$22,$F110=$Z$23,$F110=$Z$24,$F110=$Z$25,$F110=$Z$26,$F110=$Z$27,$F110=$Z$28,$F110=$Z$29,$F110=$Z$30,$F110=$Z$31,$F110=$Z$32,$F110=$Z$33,$F110=$Z$34,$G110='Lookup Tables'!$K$14,$G110='Lookup Tables'!$K$15,$G110='Lookup Tables'!$K$16,$G110='Lookup Tables'!$K$17,$G110='Lookup Tables'!$K$18,$G110='Lookup Tables'!$K$19,$G110='Lookup Tables'!$K$20,$G110='Lookup Tables'!$K$21,$G110='Lookup Tables'!$K$22),1,\"\")","v":""},{"$f":"IF(OR($P110=$Z$22,$P110=$Z$23,$P110=$Z$24,$P110=$Z$25,$P110=$Z$26,$P110=$Z$27,$P110=$Z$28,$P110=$Z$29,$P110=$Z$30,$P110=$Z$31,$P110=$Z$32,$P110=$Z$33,$P110=$Z$34,$Q110='Lookup Tables'!$K$14,$Q110='Lookup Tables'!$K$15,$Q110='Lookup Tables'!$K$16,$Q110='Lookup Tables'!$K$17,$Q110='Lookup Tables'!$K$18,$Q110='Lookup Tables'!$K$19,$Q110='Lookup Tables'!$K$20,$Q110='Lookup Tables'!$K$21,$Q110='Lookup Tables'!$K$22),1,\"\")","v":""}]
[null,null,"0' 0 \"",null,null,null,null,null,null,null,null,null,"0' 0 \"",null,null,null,null,null,null,null,null,null,null,null,null,null,null,{"$f":"IF(OR($F59=$Z$22,$F59=$Z$23,$F59=$Z$24,$F59=$Z$25,$F59=$Z$26,$F59=$Z$27,$F59=$Z$28,$F59=$Z$29,$F59=$Z$30,$F59=$Z$31,$F59=$Z$32,$F59=$Z$33,$F59=$Z$34,$G59='Lookup Tables'!$K$14,$G59='Lookup Tables'!$K$15,$G59='Lookup Tables'!$K$16,$G59='Lookup Tables'!$K$17,$G59='Lookup Tables'!$K$18,$G59='Lookup Tables'!$K$19,$G59='Lookup Tables'!$K$20,$G59='Lookup Tables'!$K$21,$G59='Lookup Tables'!$K$22),1,\"\")","v":""},{"$f":"IF(OR($P59=$Z$22,$P59=$Z$23,$P59=$Z$24,$P59=$Z$25,$P59=$Z$26,$P59=$Z$27,$P59=$Z$28,$P59=$Z$29,$P59=$Z$30,$P59=$Z$31,$P59=$Z$32,$P59=$Z$33,$P59=$Z$34,$Q59='Lookup Tables'!$K$14,$Q59='Lookup Tables'!$K$15,$Q59='Lookup Tables'!$K$16,$Q59='Lookup Tables'!$K$17,$Q59='Lookup Tables'!$K$18,$Q59='Lookup Tables'!$K$19,$Q59='Lookup Tables'!$K$20,$Q59='Lookup Tables'!$K$21,$Q59='Lookup Tables'!$K$22),1,\"\")","v":""},{"$f":"IF(OR($F111=$Z$22,$F111=$Z$23,$F111=$Z$24,$F111=$Z$25,$F111=$Z$26,$F111=$Z$27,$F111=$Z$28,$F111=$Z$29,$F111=$Z$30,$F111=$Z$31,$F111=$Z$32,$F111=$Z$33,$F111=$Z$34,$G111='Lookup Tables'!$K$14,$G111='Lookup Tables'!$K$15,$G111='Lookup Tables'!$K$16,$G111='Lookup Tables'!$K$17,$G111='Lookup Tables'!$K$18,$G111='Lookup Tables'!$K$19,$G111='Lookup Tables'!$K$20,$G111='Lookup Tables'!$K$21,$G111='Lookup Tables'!$K$22),1,\"\")","v":""},{"$f":"IF(OR($P111=$Z$22,$P111=$Z$23,$P111=$Z$24,$P111=$Z$25,$P111=$Z$26,$P111=$Z$27,$P111=$Z$28,$P111=$Z$29,$P111=$Z$30,$P111=$Z$31,$P111=$Z$32,$P111=$Z$33,$P111=$Z$34,$Q111='Lookup Tables'!$K$14,$Q111='Lookup Tables'!$K$15,$Q111='Lookup Tables'!$K$16,$Q111='Lookup Tables'!$K$17,$Q111='Lookup Tables'!$K$18,$Q111='Lookup Tables'!$K$19,$Q111='Lookup Tables'!$K$20,$Q111='Lookup Tables'!$K$21,$Q111='Lookup Tables'!$K$22),1,\"\")","v":""}]
[null,null,"0' 0 \"",null,null,null,null,null,null,null,null,null,"0' 0 \"",null,null,null,null,null,null,null,null,null,null,null,null,null,null,{"$f":"IF(OR($F60=$Z$22,$F60=$Z$23,$F60=$Z$24,$F60=$Z$25,$F60=$Z$26,$F60=$Z$27,$F60=$Z$28,$F60=$Z$29,$F60=$Z$30,$F60=$Z$31,$F60=$Z$32,$F60=$Z$33,$F60=$Z$34,$G60='Lookup Tables'!$K$14,$G60='Lookup Tables'!$K$15,$G60='Lookup Tables'!$K$16,$G60='Lookup Tables'!$K$17,$G60='Lookup Tables'!$K$18,$G60='Lookup Tables'!$K$19,$G60='Lookup Tables'!$K$20,$G60='Lookup Tables'!$K$21,$G60='Lookup Tables'!$K$22),1,\"\")","v":""},{"$f":"IF(OR($P60=$Z$22,$P60=$Z$23,$P60=$Z$24,$P60=$Z$25,$P60=$Z$26,$P60=$Z$27,$P60=$Z$28,$P60=$Z$29,$P60=$Z$30,$P60=$Z$31,$P60=$Z$32,$P60=$Z$33,$P60=$Z$34,$Q60='Lookup Tables'!$K$14,$Q60='Lookup Tables'!$K$15,$Q60='Lookup Tables'!$K$16,$Q60='Lookup Tables'!$K$17,$Q60='Lookup Tables'!$K$18,$Q60='Lookup Tables'!$K$19,$Q60='Lookup Tables'!$K$20,$Q60='Lookup Tables'!$K$21,$Q60='Lookup Tables'!$K$22),1,\"\")","v":""},{"$f":"IF(OR($F112=$Z$22,$F112=$Z$23,$F112=$Z$24,$F112=$Z$25,$F112=$Z$26,$F112=$Z$27,$F112=$Z$28,$F112=$Z$29,$F112=$Z$30,$F112=$Z$31,$F112=$Z$32,$F112=$Z$33,$F112=$Z$34,$G112='Lookup Tables'!$K$14,$G112='Lookup Tables'!$K$15,$G112='Lookup Tables'!$K$16,$G112='Lookup Tables'!$K$17,$G112='Lookup Tables'!$K$18,$G112='Lookup Tables'!$K$19,$G112='Lookup Tables'!$K$20,$G112='Lookup Tables'!$K$21,$G112='Lookup Tables'!$K$22),1,\"\")","v":""},{"$f":"IF(OR($P112=$Z$22,$P112=$Z$23,$P112=$Z$24,$P112=$Z$25,$P112=$Z$26,$P112=$Z$27,$P112=$Z$28,$P112=$Z$29,$P112=$Z$30,$P112=$Z$31,$P112=$Z$32,$P112=$Z$33,$P112=$Z$34,$Q112='Lookup Tables'!$K$14,$Q112='Lookup Tables'!$K$15,$Q112='Lookup Tables'!$K$16,$Q112='Lookup Tables'!$K$17,$Q112='Lookup Tables'!$K$18,$Q112='Lookup Tables'!$K$19,$Q112='Lookup Tables'!$K$20,$Q112='Lookup Tables'!$K$21,$Q112='Lookup Tables'!$K$22),1,\"\")","v":""}]
[null,null,"0' 0 \"",null,null,null,null,null,null,null,null,null,"0' 0 \"",null,null,null,null,null,null,null,null,null,null,null,null,null,null,{"$f":"IF(OR($F61=$Z$22,$F61=$Z$23,$F61=$Z$24,$F61=$Z$25,$F61=$Z$26,$F61=$Z$27,$F61=$Z$28,$F61=$Z$29,$F61=$Z$30,$F61=$Z$31,$F61=$Z$32,$F61=$Z$33,$F61=$Z$34,$G61='Lookup Tables'!$K$14,$G61='Lookup Tables'!$K$15,$G61='Lookup Tables'!$K$16,$G61='Lookup Tables'!$K$17,$G61='Lookup Tables'!$K$18,$G61='Lookup Tables'!$K$19,$G61='Lookup Tables'!$K$20,$G61='Lookup Tables'!$K$21,$G61='Lookup Tables'!$K$22),1,\"\")","v":""},{"$f":"IF(OR($P61=$Z$22,$P61=$Z$23,$P61=$Z$24,$P61=$Z$25,$P61=$Z$26,$P61=$Z$27,$P61=$Z$28,$P61=$Z$29,$P61=$Z$30,$P61=$Z$31,$P61=$Z$32,$P61=$Z$33,$P61=$Z$34,$Q61='Lookup Tables'!$K$14,$Q61='Lookup Tables'!$K$15,$Q61='Lookup Tables'!$K$16,$Q61='Lookup Tables'!$K$17,$Q61='Lookup Tables'!$K$18,$Q61='Lookup Tables'!$K$19,$Q61='Lookup Tables'!$K$20,$Q61='Lookup Tables'!$K$21,$Q61='Lookup Tables'!$K$22),1,\"\")","v":""},{"$f":"IF(OR($F113=$Z$22,$F113=$Z$23,$F113=$Z$24,$F113=$Z$25,$F113=$Z$26,$F113=$Z$27,$F113=$Z$28,$F113=$Z$29,$F113=$Z$30,$F113=$Z$31,$F113=$Z$32,$F113=$Z$33,$F113=$Z$34,$G113='Lookup Tables'!$K$14,$G113='Lookup Tables'!$K$15,$G113='Lookup Tables'!$K$16,$G113='Lookup Tables'!$K$17,$G113='Lookup Tables'!$K$18,$G113='Lookup Tables'!$K$19,$G113='Lookup Tables'!$K$20,$G113='Lookup Tables'!$K$21,$G113='Lookup Tables'!$K$22),1,\"\")","v":""},{"$f":"IF(OR($P113=$Z$22,$P113=$Z$23,$P113=$Z$24,$P113=$Z$25,$P113=$Z$26,$P113=$Z$27,$P113=$Z$28,$P113=$Z$29,$P113=$Z$30,$P113=$Z$31,$P113=$Z$32,$P113=$Z$33,$P113=$Z$34,$Q113='Lookup Tables'!$K$14,$Q113='Lookup Tables'!$K$15,$Q113='Lookup Tables'!$K$16,$Q113='Lookup Tables'!$K$17,$Q113='Lookup Tables'!$K$18,$Q113='Lookup Tables'!$K$19,$Q113='Lookup Tables'!$K$20,$Q113='Lookup Tables'!$K$21,$Q113='Lookup Tables'!$K$22),1,\"\")","v":""}]
[null,null,"0' 0 \"",null,null,null,null,null,null,null,null,null,"0' 0 \"",null,null,null,null,null,null,null,null,null,null,null,null,null,null,{"$f":"IF(OR($F62=$Z$22,$F62=$Z$23,$F62=$Z$24,$F62=$Z$25,$F62=$Z$26,$F62=$Z$27,$F62=$Z$28,$F62=$Z$29,$F62=$Z$30,$F62=$Z$31,$F62=$Z$32,$F62=$Z$33,$F62=$Z$34,$G62='Lookup Tables'!$K$14,$G62='Lookup Tables'!$K$15,$G62='Lookup Tables'!$K$16,$G62='Lookup Tables'!$K$17,$G62='Lookup Tables'!$K$18,$G62='Lookup Tables'!$K$19,$G62='Lookup Tables'!$K$20,$G62='Lookup Tables'!$K$21,$G62='Lookup Tables'!$K$22),1,\"\")","v":""},{"$f":"IF(OR($P62=$Z$22,$P62=$Z$23,$P62=$Z$24,$P62=$Z$25,$P62=$Z$26,$P62=$Z$27,$P62=$Z$28,$P62=$Z$29,$P62=$Z$30,$P62=$Z$31,$P62=$Z$32,$P62=$Z$33,$P62=$Z$34,$Q62='Lookup Tables'!$K$14,$Q62='Lookup Tables'!$K$15,$Q62='Lookup Tables'!$K$16,$Q62='Lookup Tables'!$K$17,$Q62='Lookup Tables'!$K$18,$Q62='Lookup Tables'!$K$19,$Q62='Lookup Tables'!$K$20,$Q62='Lookup Tables'!$K$21,$Q62='Lookup Tables'!$K$22),1,\"\")","v":""},{"$f":"IF(OR($F114=$Z$22,$F114=$Z$23,$F114=$Z$24,$F114=$Z$25,$F114=$Z$26,$F114=$Z$27,$F114=$Z$28,$F114=$Z$29,$F114=$Z$30,$F114=$Z$31,$F114=$Z$32,$F114=$Z$33,$F114=$Z$34,$G114='Lookup Tables'!$K$14,$G114='Lookup Tables'!$K$15,$G114='Lookup Tables'!$K$16,$G114='Lookup Tables'!$K$17,$G114='Lookup Tables'!$K$18,$G114='Lookup Tables'!$K$19,$G114='Lookup Tables'!$K$20,$G114='Lookup Tables'!$K$21,$G114='Lookup Tables'!$K$22),1,\"\")","v":""},{"$f":"IF(OR($P114=$Z$22,$P114=$Z$23,$P114=$Z$24,$P114=$Z$25,$P114=$Z$26,$P114=$Z$27,$P114=$Z$28,$P114=$Z$29,$P114=$Z$30,$P114=$Z$31,$P114=$Z$32,$P114=$Z$33,$P114=$Z$34,$Q114='Lookup Tables'!$K$14,$Q114='Lookup Tables'!$K$15,$Q114='Lookup Tables'!$K$16,$Q114='Lookup Tables'!$K$17,$Q114='Lookup Tables'!$K$18,$Q114='Lookup Tables'!$K$19,$Q114='Lookup Tables'!$K$20,$Q114='Lookup Tables'!$K$21,$Q114='Lookup Tables'!$K$22),1,\"\")","v":""}]
[null,null,"0' 0 \"",null,null,null,null,null,null,null,null,null,"0' 0 \"",null,null,null,null,null,null,null,null,null,null,null,null,null,null,{"$f":"IF(OR($F63=$Z$22,$F63=$Z$23,$F63=$Z$24,$F63=$Z$25,$F63=$Z$26,$F63=$Z$27,$F63=$Z$28,$F63=$Z$29,$F63=$Z$30,$F63=$Z$31,$F63=$Z$32,$F63=$Z$33,$F63=$Z$34,$G63='Lookup Tables'!$K$14,$G63='Lookup Tables'!$K$15,$G63='Lookup Tables'!$K$16,$G63='Lookup Tables'!$K$17,$G63='Lookup Tables'!$K$18,$G63='Lookup Tables'!$K$19,$G63='Lookup Tables'!$K$20,$G63='Lookup Tables'!$K$21,$G63='Lookup Tables'!$K$22),1,\"\")","v":""},{"$f":"IF(OR($P63=$Z$22,$P63=$Z$23,$P63=$Z$24,$P63=$Z$25,$P63=$Z$26,$P63=$Z$27,$P63=$Z$28,$P63=$Z$29,$P63=$Z$30,$P63=$Z$31,$P63=$Z$32,$P63=$Z$33,$P63=$Z$34,$Q63='Lookup Tables'!$K$14,$Q63='Lookup Tables'!$K$15,$Q63='Lookup Tables'!$K$16,$Q63='Lookup Tables'!$K$17,$Q63='Lookup Tables'!$K$18,$Q63='Lookup Tables'!$K$19,$Q63='Lookup Tables'!$K$20,$Q63='Lookup Tables'!$K$21,$Q63='Lookup Tables'!$K$22),1,\"\")","v":""},{"$f":"IF(OR($F115=$Z$22,$F115=$Z$23,$F115=$Z$24,$F115=$Z$25,$F115=$Z$26,$F115=$Z$27,$F115=$Z$28,$F115=$Z$29,$F115=$Z$30,$F115=$Z$31,$F115=$Z$32,$F115=$Z$33,$F115=$Z$34,$G115='Lookup Tables'!$K$14,$G115='Lookup Tables'!$K$15,$G115='Lookup Tables'!$K$16,$G115='Lookup Tables'!$K$17,$G115='Lookup Tables'!$K$18,$G115='Lookup Tables'!$K$19,$G115='Lookup Tables'!$K$20,$G115='Lookup Tables'!$K$21,$G115='Lookup Tables'!$K$22),1,\"\")","v":""},{"$f":"IF(OR($P115=$Z$22,$P115=$Z$23,$P115=$Z$24,$P115=$Z$25,$P115=$Z$26,$P115=$Z$27,$P115=$Z$28,$P115=$Z$29,$P115=$Z$30,$P115=$Z$31,$P115=$Z$32,$P115=$Z$33,$P115=$Z$34,$Q115='Lookup Tables'!$K$14,$Q115='Lookup Tables'!$K$15,$Q115='Lookup Tables'!$K$16,$Q115='Lookup Tables'!$K$17,$Q115='Lookup Tables'!$K$18,$Q115='Lookup Tables'!$K$19,$Q115='Lookup Tables'!$K$20,$Q115='Lookup Tables'!$K$21,$Q115='Lookup Tables'!$K$22),1,\"\")","v":""}]
[null,null,"0' 0 \"",null,null,null,null,null,null,null,null,null,"0' 0 \"",null,null,null,null,null,null,null,null,null,null,null,null,null,null,{"$f":"IF(OR($F64=$Z$22,$F64=$Z$23,$F64=$Z$24,$F64=$Z$25,$F64=$Z$26,$F64=$Z$27,$F64=$Z$28,$F64=$Z$29,$F64=$Z$30,$F64=$Z$31,$F64=$Z$32,$F64=$Z$33,$F64=$Z$34,$G64='Lookup Tables'!$K$14,$G64='Lookup Tables'!$K$15,$G64='Lookup Tables'!$K$16,$G64='Lookup Tables'!$K$17,$G64='Lookup Tables'!$K$18,$G64='Lookup Tables'!$K$19,$G64='Lookup Tables'!$K$20,$G64='Lookup Tables'!$K$21,$G64='Lookup Tables'!$K$22),1,\"\")","v":""},{"$f":"IF(OR($P64=$Z$22,$P64=$Z$23,$P64=$Z$24,$P64=$Z$25,$P64=$Z$26,$P64=$Z$27,$P64=$Z$28,$P64=$Z$29,$P64=$Z$30,$P64=$Z$31,$P64=$Z$32,$P64=$Z$33,$P64=$Z$34,$Q64='Lookup Tables'!$K$14,$Q64='Lookup Tables'!$K$15,$Q64='Lookup Tables'!$K$16,$Q64='Lookup Tables'!$K$17,$Q64='Lookup Tables'!$K$18,$Q64='Lookup Tables'!$K$19,$Q64='Lookup Tables'!$K$20,$Q64='Lookup Tables'!$K$21,$Q64='Lookup Tables'!$K$22),1,\"\")","v":""},{"$f":"IF(OR($F116=$Z$22,$F116=$Z$23,$F116=$Z$24,$F116=$Z$25,$F116=$Z$26,$F116=$Z$27,$F116=$Z$28,$F116=$Z$29,$F116=$Z$30,$F116=$Z$31,$F116=$Z$32,$F116=$Z$33,$F116=$Z$34,$G116='Lookup Tables'!$K$14,$G116='Lookup Tables'!$K$15,$G116='Lookup Tables'!$K$16,$G116='Lookup Tables'!$K$17,$G116='Lookup Tables'!$K$18,$G116='Lookup Tables'!$K$19,$G116='Lookup Tables'!$K$20,$G116='Lookup Tables'!$K$21,$G116='Lookup Tables'!$K$22),1,\"\")","v":""},{"$f":"IF(OR($P116=$Z$22,$P116=$Z$23,$P116=$Z$24,$P116=$Z$25,$P116=$Z$26,$P116=$Z$27,$P116=$Z$28,$P116=$Z$29,$P116=$Z$30,$P116=$Z$31,$P116=$Z$32,$P116=$Z$33,$P116=$Z$34,$Q116='Lookup Tables'!$K$14,$Q116='Lookup Tables'!$K$15,$Q116='Lookup Tables'!$K$16,$Q116='Lookup Tables'!$K$17,$Q116='Lookup Tables'!$K$18,$Q116='Lookup Tables'!$K$19,$Q116='Lookup Tables'!$K$20,$Q116='Lookup Tables'!$K$21,$Q116='Lookup Tables'!$K$22),1,\"\")","v":""}]
[null,null,"0' 0 \"",null,null,null,null,null,null,null,null,null,"0' 0 \"",null,null,null,null,null,null,null,null,null,null,null,null,null,null,{"$f":"IF(OR($F65=$Z$22,$F65=$Z$23,$F65=$Z$24,$F65=$Z$25,$F65=$Z$26,$F65=$Z$27,$F65=$Z$28,$F65=$Z$29,$F65=$Z$30,$F65=$Z$31,$F65=$Z$32,$F65=$Z$33,$F65=$Z$34,$G65='Lookup Tables'!$K$14,$G65='Lookup Tables'!$K$15,$G65='Lookup Tables'!$K$16,$G65='Lookup Tables'!$K$17,$G65='Lookup Tables'!$K$18,$G65='Lookup Tables'!$K$19,$G65='Lookup Tables'!$K$20,$G65='Lookup Tables'!$K$21,$G65='Lookup Tables'!$K$22),1,\"\")","v":""},{"$f":"IF(OR($P65=$Z$22,$P65=$Z$23,$P65=$Z$24,$P65=$Z$25,$P65=$Z$26,$P65=$Z$27,$P65=$Z$28,$P65=$Z$29,$P65=$Z$30,$P65=$Z$31,$P65=$Z$32,$P65=$Z$33,$P65=$Z$34,$Q65='Lookup Tables'!$K$14,$Q65='Lookup Tables'!$K$15,$Q65='Lookup Tables'!$K$16,$Q65='Lookup Tables'!$K$17,$Q65='Lookup Tables'!$K$18,$Q65='Lookup Tables'!$K$19,$Q65='Lookup Tables'!$K$20,$Q65='Lookup Tables'!$K$21,$Q65='Lookup Tables'!$K$22),1,\"\")","v":""},{"$f":"IF(OR($F117=$Z$22,$F117=$Z$23,$F117=$Z$24,$F117=$Z$25,$F117=$Z$26,$F117=$Z$27,$F117=$Z$28,$F117=$Z$29,$F117=$Z$30,$F117=$Z$31,$F117=$Z$32,$F117=$Z$33,$F117=$Z$34,$G117='Lookup Tables'!$K$14,$G117='Lookup Tables'!$K$15,$G117='Lookup Tables'!$K$16,$G117='Lookup Tables'!$K$17,$G117='Lookup Tables'!$K$18,$G117='Lookup Tables'!$K$19,$G117='Lookup Tables'!$K$20,$G117='Lookup Tables'!$K$21,$G117='Lookup Tables'!$K$22),1,\"\")","v":""},{"$f":"IF(OR($P117=$Z$22,$P117=$Z$23,$P117=$Z$24,$P117=$Z$25,$P117=$Z$26,$P117=$Z$27,$P117=$Z$28,$P117=$Z$29,$P117=$Z$30,$P117=$Z$31,$P117=$Z$32,$P117=$Z$33,$P117=$Z$34,$Q117='Lookup Tables'!$K$14,$Q117='Lookup Tables'!$K$15,$Q117='Lookup Tables'!$K$16,$Q117='Lookup Tables'!$K$17,$Q117='Lookup Tables'!$K$18,$Q117='Lookup Tables'!$K$19,$Q117='Lookup Tables'!$K$20,$Q117='Lookup Tables'!$K$21,$Q117='Lookup Tables'!$K$22),1,\"\")","v":""}]
[null,null,"0' 0 \"",null,null,null,null,null,null,null,null,null,"0' 0 \"",null,null,null,null,null,null,null,null,null,null,null,null,null,null,null,null,{"$f":"IF(OR($F118=$Z$22,$F118=$Z$23,$F118=$Z$24,$F118=$Z$25,$F118=$Z$26,$F118=$Z$27,$F118=$Z$28,$F118=$Z$29,$F118=$Z$30,$F118=$Z$31,$F118=$Z$32,$F118=$Z$33,$F118=$Z$34,$G118='Lookup Tables'!$K$14,$G118='Lookup Tables'!$K$15,$G118='Lookup Tables'!$K$16,$G118='Lookup Tables'!$K$17,$G118='Lookup Tables'!$K$18,$G118='Lookup Tables'!$K$19,$G118='Lookup Tables'!$K$20,$G118='Lookup Tables'!$K$21,$G118='Lookup Tables'!$K$22),1,\"\")","v":""},{"$f":"IF(OR($P118=$Z$22,$P118=$Z$23,$P118=$Z$24,$P118=$Z$25,$P118=$Z$26,$P118=$Z$27,$P118=$Z$28,$P118=$Z$29,$P118=$Z$30,$P118=$Z$31,$P118=$Z$32,$P118=$Z$33,$P118=$Z$34,$Q118='Lookup Tables'!$K$14,$Q118='Lookup Tables'!$K$15,$Q118='Lookup Tables'!$K$16,$Q118='Lookup Tables'!$K$17,$Q118='Lookup Tables'!$K$18,$Q118='Lookup Tables'!$K$19,$Q118='Lookup Tables'!$K$20,$Q118='Lookup Tables'!$K$21,$Q118='Lookup Tables'!$K$22),1,\"\")","v":""}]
[null,null,"0' 0 \"",null,null,null,null,null,null,null,null,null,"0' 0 \"",null,null,null,null,null,null,null,null,null,null,null,null,null,null,null,null,{"$f":"IF(OR($F119=$Z$22,$F119=$Z$23,$F119=$Z$24,$F119=$Z$25,$F119=$Z$26,$F119=$Z$27,$F119=$Z$28,$F119=$Z$29,$F119=$Z$30,$F119=$Z$31,$F119=$Z$32,$F119=$Z$33,$F119=$Z$34,$G119='Lookup Tables'!$K$14,$G119='Lookup Tables'!$K$15,$G119='Lookup Tables'!$K$16,$G119='Lookup Tables'!$K$17,$G119='Lookup Tables'!$K$18,$G119='Lookup Tables'!$K$19,$G119='Lookup Tables'!$K$20,$G119='Lookup Tables'!$K$21,$G119='Lookup Tables'!$K$22),1,\"\")","v":""},{"$f":"IF(OR($P119=$Z$22,$P119=$Z$23,$P119=$Z$24,$P119=$Z$25,$P119=$Z$26,$P119=$Z$27,$P119=$Z$28,$P119=$Z$29,$P119=$Z$30,$P119=$Z$31,$P119=$Z$32,$P119=$Z$33,$P119=$Z$34,$Q119='Lookup Tables'!$K$14,$Q119='Lookup Tables'!$K$15,$Q119='Lookup Tables'!$K$16,$Q119='Lookup Tables'!$K$17,$Q119='Lookup Tables'!$K$18,$Q119='Lookup Tables'!$K$19,$Q119='Lookup Tables'!$K$20,$Q119='Lookup Tables'!$K$21,$Q119='Lookup Tables'!$K$22),1,\"\")","v":""}]
[null,null,"0' 0 \"",null,null,null,null,{"$f":"IF(AND(B77=\"\",L77=\"\"),\"SHEET 1 OF 1\",\"SHEET 1 OF 2\")","v":"SHEET 1 OF 1"},null,null,null,null,"0' 0 \"",null,null,null,null,null,null,null,null,null,null,null,null,null,null,null,null,{"$f":"IF(OR($F120=$Z$22,$F120=$Z$23,$F120=$Z$24,$F120=$Z$25,$F120=$Z$26,$F120=$Z$27,$F120=$Z$28,$F120=$Z$29,$F120=$Z$30,$F120=$Z$31,$F120=$Z$32,$F120=$Z$33,$F120=$Z$34,$G120='Lookup Tables'!$K$14,$G120='Lookup Tables'!$K$15,$G120='Lookup Tables'!$K$16,$G120='Lookup Tables'!$K$17,$G120='Lookup Tables'!$K$18,$G120='Lookup Tables'!$K$19,$G120='Lookup Tables'!$K$20,$G120='Lookup Tables'!$K$21,$G120='Lookup Tables'!$K$22),1,\"\")","v":""},{"$f":"IF(OR($P120=$Z$22,$P120=$Z$23,$P120=$Z$24,$P120=$Z$25,$P120=$Z$26,$P120=$Z$27,$P120=$Z$28,$P120=$Z$29,$P120=$Z$30,$P120=$Z$31,$P120=$Z$32,$P120=$Z$33,$P120=$Z$34,$Q120='Lookup Tables'!$K$14,$Q120='Lookup Tables'!$K$15,$Q120='Lookup Tables'!$K$16,$Q120='Lookup Tables'!$K$17,$Q120='Lookup Tables'!$K$18,$Q120='Lookup Tables'!$K$19,$Q120='Lookup Tables'!$K$20,$Q120='Lookup Tables'!$K$21,$Q120='Lookup Tables'!$K$22),1,\"\")","v":""}]
["REV.","BY","DATE","DESCRIPTION",null,null,null,null,null,null,null,null,null,"DRAWING BY","DATE",null,"DRAWING NUMBER",null,null,null,null,null,null,null,null,null,null,null,null,{"$f":"IF(OR($F121=$Z$22,$F121=$Z$23,$F121=$Z$24,$F121=$Z$25,$F121=$Z$26,$F121=$Z$27,$F121=$Z$28,$F121=$Z$29,$F121=$Z$30,$F121=$Z$31,$F121=$Z$32,$F121=$Z$33,$F121=$Z$34,$G121='Lookup Tables'!$K$14,$G121='Lookup Tables'!$K$15,$G121='Lookup Tables'!$K$16,$G121='Lookup Tables'!$K$17,$G121='Lookup Tables'!$K$18,$G121='Lookup Tables'!$K$19,$G121='Lookup Tables'!$K$20,$G121='Lookup Tables'!$K$21,$G121='Lookup Tables'!$K$22),1,\"\")","v":""},{"$f":"IF(OR($P121=$Z$22,$P121=$Z$23,$P121=$Z$24,$P121=$Z$25,$P121=$Z$26,$P121=$Z$27,$P121=$Z$28,$P121=$Z$29,$P121=$Z$30,$P121=$Z$31,$P121=$Z$32,$P121=$Z$33,$P121=$Z$34,$Q121='Lookup Tables'!$K$14,$Q121='Lookup Tables'!$K$15,$Q121='Lookup Tables'!$K$16,$Q121='Lookup Tables'!$K$17,$Q121='Lookup Tables'!$K$18,$Q121='Lookup Tables'!$K$19,$Q121='Lookup Tables'!$K$20,$Q121='Lookup Tables'!$K$21,$Q121='Lookup Tables'!$K$22),1,\"\")","v":""}]
[null,null,null,null,null,null,null,null,null,null,null,null,null,"LNB","2019-11-19",null,{"$f":"Q7","v":0},null,null,null,null,null,null,null,null,null,null,null,null,{"$f":"IF(OR($F122=$Z$22,$F122=$Z$23,$F122=$Z$24,$F122=$Z$25,$F122=$Z$26,$F122=$Z$27,$F122=$Z$28,$F122=$Z$29,$F122=$Z$30,$F122=$Z$31,$F122=$Z$32,$F122=$Z$33,$F122=$Z$34,$G122='Lookup Tables'!$K$14,$G122='Lookup Tables'!$K$15,$G122='Lookup Tables'!$K$16,$G122='Lookup Tables'!$K$17,$G122='Lookup Tables'!$K$18,$G122='Lookup Tables'!$K$19,$G122='Lookup Tables'!$K$20,$G122='Lookup Tables'!$K$21,$G122='Lookup Tables'!$K$22),1,\"\")","v":""},{"$f":"IF(OR($P122=$Z$22,$P122=$Z$23,$P122=$Z$24,$P122=$Z$25,$P122=$Z$26,$P122=$Z$27,$P122=$Z$28,$P122=$Z$29,$P122=$Z$30,$P122=$Z$31,$P122=$Z$32,$P122=$Z$33,$P122=$Z$34,$Q122='Lookup Tables'!$K$14,$Q122='Lookup Tables'!$K$15,$Q122='Lookup Tables'!$K$16,$Q122='Lookup Tables'!$K$17,$Q122='Lookup Tables'!$K$18,$Q122='Lookup Tables'!$K$19,$Q122='Lookup Tables'!$K$20,$Q122='Lookup Tables'!$K$21,$Q122='Lookup Tables'!$K$22),1,\"\")","v":""}]
[null,null,null,null,null,null,null,null,null,null,null,null,null,"APPROVED BY","DATE",null,"REFERENCE DRAWING",null,null,null,null,null,null,null,null,null,null,null,null,{"$f":"IF(OR($F123=$Z$22,$F123=$Z$23,$F123=$Z$24,$F123=$Z$25,$F123=$Z$26,$F123=$Z$27,$F123=$Z$28,$F123=$Z$29,$F123=$Z$30,$F123=$Z$31,$F123=$Z$32,$F123=$Z$33,$F123=$Z$34,$G123='Lookup Tables'!$K$14,$G123='Lookup Tables'!$K$15,$G123='Lookup Tables'!$K$16,$G123='Lookup Tables'!$K$17,$G123='Lookup Tables'!$K$18,$G123='Lookup Tables'!$K$19,$G123='Lookup Tables'!$K$20,$G123='Lookup Tables'!$K$21,$G123='Lookup Tables'!$K$22),1,\"\")","v":""},{"$f":"IF(OR($P123=$Z$22,$P123=$Z$23,$P123=$Z$24,$P123=$Z$25,$P123=$Z$26,$P123=$Z$27,$P123=$Z$28,$P123=$Z$29,$P123=$Z$30,$P123=$Z$31,$P123=$Z$32,$P123=$Z$33,$P123=$Z$34,$Q123='Lookup Tables'!$K$14,$Q123='Lookup Tables'!$K$15,$Q123='Lookup Tables'!$K$16,$Q123='Lookup Tables'!$K$17,$Q123='Lookup Tables'!$K$18,$Q123='Lookup Tables'!$K$19,$Q123='Lookup Tables'!$K$20,$Q123='Lookup Tables'!$K$21,$Q123='Lookup Tables'!$K$22),1,\"\")","v":""}]
[null,null,null,null,null,null,null,null,null,null,null,null,null,null,null,null,null,null,null,null,null,null,null,null,null,null,null,null,null,{"$f":"IF(OR($F124=$Z$22,$F124=$Z$23,$F124=$Z$24,$F124=$Z$25,$F124=$Z$26,$F124=$Z$27,$F124=$Z$28,$F124=$Z$29,$F124=$Z$30,$F124=$Z$31,$F124=$Z$32,$F124=$Z$33,$F124=$Z$34,$G124='Lookup Tables'!$K$14,$G124='Lookup Tables'!$K$15,$G124='Lookup Tables'!$K$16,$G124='Lookup Tables'!$K$17,$G124='Lookup Tables'!$K$18,$G124='Lookup Tables'!$K$19,$G124='Lookup Tables'!$K$20,$G124='Lookup Tables'!$K$21,$G124='Lookup Tables'!$K$22),1,\"\")","v":""},{"$f":"IF(OR($P124=$Z$22,$P124=$Z$23,$P124=$Z$24,$P124=$Z$25,$P124=$Z$26,$P124=$Z$27,$P124=$Z$28,$P124=$Z$29,$P124=$Z$30,$P124=$Z$31,$P124=$Z$32,$P124=$Z$33,$P124=$Z$34,$Q124='Lookup Tables'!$K$14,$Q124='Lookup Tables'!$K$15,$Q124='Lookup Tables'!$K$16,$Q124='Lookup Tables'!$K$17,$Q124='Lookup Tables'!$K$18,$Q124='Lookup Tables'!$K$19,$Q124='Lookup Tables'!$K$20,$Q124='Lookup Tables'!$K$21,$Q124='Lookup Tables'!$K$22),1,\"\")","v":""}]
[null,null,null,null,null,null,null,null,null,null,null,null,null,null,null,null,null,null,null,null,null,null,null,null,null,null,null,null,null,{"$f":"IF(OR($F125=$Z$22,$F125=$Z$23,$F125=$Z$24,$F125=$Z$25,$F125=$Z$26,$F125=$Z$27,$F125=$Z$28,$F125=$Z$29,$F125=$Z$30,$F125=$Z$31,$F125=$Z$32,$F125=$Z$33,$F125=$Z$34,$G125='Lookup Tables'!$K$14,$G125='Lookup Tables'!$K$15,$G125='Lookup Tables'!$K$16,$G125='Lookup Tables'!$K$17,$G125='Lookup Tables'!$K$18,$G125='Lookup Tables'!$K$19,$G125='Lookup Tables'!$K$20,$G125='Lookup Tables'!$K$21,$G125='Lookup Tables'!$K$22),1,\"\")","v":""},{"$f":"IF(OR($P125=$Z$22,$P125=$Z$23,$P125=$Z$24,$P125=$Z$25,$P125=$Z$26,$P125=$Z$27,$P125=$Z$28,$P125=$Z$29,$P125=$Z$30,$P125=$Z$31,$P125=$Z$32,$P125=$Z$33,$P125=$Z$34,$Q125='Lookup Tables'!$K$14,$Q125='Lookup Tables'!$K$15,$Q125='Lookup Tables'!$K$16,$Q125='Lookup Tables'!$K$17,$Q125='Lookup Tables'!$K$18,$Q125='Lookup Tables'!$K$19,$Q125='Lookup Tables'!$K$20,$Q125='Lookup Tables'!$K$21,$Q125='Lookup Tables'!$K$22),1,\"\")","v":""}]
[null,null,null,null,null,null,null,null,null,null,null,null,null,null,null,null,null,null,null,null,null,null,null,null,null,null,null,null,null,{"$f":"IF(OR($F126=$Z$22,$F126=$Z$23,$F126=$Z$24,$F126=$Z$25,$F126=$Z$26,$F126=$Z$27,$F126=$Z$28,$F126=$Z$29,$F126=$Z$30,$F126=$Z$31,$F126=$Z$32,$F126=$Z$33,$F126=$Z$34,$G126='Lookup Tables'!$K$14,$G126='Lookup Tables'!$K$15,$G126='Lookup Tables'!$K$16,$G126='Lookup Tables'!$K$17,$G126='Lookup Tables'!$K$18,$G126='Lookup Tables'!$K$19,$G126='Lookup Tables'!$K$20,$G126='Lookup Tables'!$K$21,$G126='Lookup Tables'!$K$22),1,\"\")","v":""},{"$f":"IF(OR($P126=$Z$22,$P126=$Z$23,$P126=$Z$24,$P126=$Z$25,$P126=$Z$26,$P126=$Z$27,$P126=$Z$28,$P126=$Z$29,$P126=$Z$30,$P126=$Z$31,$P126=$Z$32,$P126=$Z$33,$P126=$Z$34,$Q126='Lookup Tables'!$K$14,$Q126='Lookup Tables'!$K$15,$Q126='Lookup Tables'!$K$16,$Q126='Lookup Tables'!$K$17,$Q126='Lookup Tables'!$K$18,$Q126='Lookup Tables'!$K$19,$Q126='Lookup Tables'!$K$20,$Q126='Lookup Tables'!$K$21,$Q126='Lookup Tables'!$K$22),1,\"\")","v":""}]
[null,null,null,null,null,null,null,null,null,null,null,null,null,null,null,null,null,null,null,null,null,null,null,null,null,null,null,null,null,{"$f":"IF(OR($F127=$Z$22,$F127=$Z$23,$F127=$Z$24,$F127=$Z$25,$F127=$Z$26,$F127=$Z$27,$F127=$Z$28,$F127=$Z$29,$F127=$Z$30,$F127=$Z$31,$F127=$Z$32,$F127=$Z$33,$F127=$Z$34,$G127='Lookup Tables'!$K$14,$G127='Lookup Tables'!$K$15,$G127='Lookup Tables'!$K$16,$G127='Lookup Tables'!$K$17,$G127='Lookup Tables'!$K$18,$G127='Lookup Tables'!$K$19,$G127='Lookup Tables'!$K$20,$G127='Lookup Tables'!$K$21,$G127='Lookup Tables'!$K$22),1,\"\")","v":""},{"$f":"IF(OR($P127=$Z$22,$P127=$Z$23,$P127=$Z$24,$P127=$Z$25,$P127=$Z$26,$P127=$Z$27,$P127=$Z$28,$P127=$Z$29,$P127=$Z$30,$P127=$Z$31,$P127=$Z$32,$P127=$Z$33,$P127=$Z$34,$Q127='Lookup Tables'!$K$14,$Q127='Lookup Tables'!$K$15,$Q127='Lookup Tables'!$K$16,$Q127='Lookup Tables'!$K$17,$Q127='Lookup Tables'!$K$18,$Q127='Lookup Tables'!$K$19,$Q127='Lookup Tables'!$K$20,$Q127='Lookup Tables'!$K$21,$Q127='Lookup Tables'!$K$22),1,\"\")","v":""}]
["DUCTILE IRON POLE DRILLING PATTERN",null,null,null,null,null,null,null,null,null,null,null,null,null,null,null,null,null,null,null,null,null,null,null,null,null,null,null,null,{"$f":"IF(OR($F128=$Z$22,$F128=$Z$23,$F128=$Z$24,$F128=$Z$25,$F128=$Z$26,$F128=$Z$27,$F128=$Z$28,$F128=$Z$29,$F128=$Z$30,$F128=$Z$31,$F128=$Z$32,$F128=$Z$33,$F128=$Z$34,$G128='Lookup Tables'!$K$14,$G128='Lookup Tables'!$K$15,$G128='Lookup Tables'!$K$16,$G128='Lookup Tables'!$K$17,$G128='Lookup Tables'!$K$18,$G128='Lookup Tables'!$K$19,$G128='Lookup Tables'!$K$20,$G128='Lookup Tables'!$K$21,$G128='Lookup Tables'!$K$22),1,\"\")","v":""},{"$f":"IF(OR($P128=$Z$22,$P128=$Z$23,$P128=$Z$24,$P128=$Z$25,$P128=$Z$26,$P128=$Z$27,$P128=$Z$28,$P128=$Z$29,$P128=$Z$30,$P128=$Z$31,$P128=$Z$32,$P128=$Z$33,$P128=$Z$34,$Q128='Lookup Tables'!$K$14,$Q128='Lookup Tables'!$K$15,$Q128='Lookup Tables'!$K$16,$Q128='Lookup Tables'!$K$17,$Q128='Lookup Tables'!$K$18,$Q128='Lookup Tables'!$K$19,$Q128='Lookup Tables'!$K$20,$Q128='Lookup Tables'!$K$21,$Q128='Lookup Tables'!$K$22),1,\"\")","v":""}]
["ORIENTATION A ONLY",null,null,null,null,null,null,null,null,null,"ORIENTATION C-G",null,null,null,null,null,null,null,null,null,null,null,null,null,null,null,null,null,null,{"$f":"IF(OR($F129=$Z$22,$F129=$Z$23,$F129=$Z$24,$F129=$Z$25,$F129=$Z$26,$F129=$Z$27,$F129=$Z$28,$F129=$Z$29,$F129=$Z$30,$F129=$Z$31,$F129=$Z$32,$F129=$Z$33,$F129=$Z$34,$G129='Lookup Tables'!$K$14,$G129='Lookup Tables'!$K$15,$G129='Lookup Tables'!$K$16,$G129='Lookup Tables'!$K$17,$G129='Lookup Tables'!$K$18,$G129='Lookup Tables'!$K$19,$G129='Lookup Tables'!$K$20,$G129='Lookup Tables'!$K$21,$G129='Lookup Tables'!$K$22),1,\"\")","v":""},{"$f":"IF(OR($P129=$Z$22,$P129=$Z$23,$P129=$Z$24,$P129=$Z$25,$P129=$Z$26,$P129=$Z$27,$P129=$Z$28,$P129=$Z$29,$P129=$Z$30,$P129=$Z$31,$P129=$Z$32,$P129=$Z$33,$P129=$Z$34,$Q129='Lookup Tables'!$K$14,$Q129='Lookup Tables'!$K$15,$Q129='Lookup Tables'!$K$16,$Q129='Lookup Tables'!$K$17,$Q129='Lookup Tables'!$K$18,$Q129='Lookup Tables'!$K$19,$Q129='Lookup Tables'!$K$20,$Q129='Lookup Tables'!$K$21,$Q129='Lookup Tables'!$K$22),1,\"\")","v":""}]
[null,"DISTANCE \nFROM TOP",null,null,null,null,null,null,null,null,null,"DISTANCE \nFROM TOP",null,null,null,null,null,null,null,null,null,null,null,null,null,null,null,null,null,{"$f":"IF(OR($F130=$Z$22,$F130=$Z$23,$F130=$Z$24,$F130=$Z$25,$F130=$Z$26,$F130=$Z$27,$F130=$Z$28,$F130=$Z$29,$F130=$Z$30,$F130=$Z$31,$F130=$Z$32,$F130=$Z$33,$F130=$Z$34,$G130='Lookup Tables'!$K$14,$G130='Lookup Tables'!$K$15,$G130='Lookup Tables'!$K$16,$G130='Lookup Tables'!$K$17,$G130='Lookup Tables'!$K$18,$G130='Lookup Tables'!$K$19,$G130='Lookup Tables'!$K$20,$G130='Lookup Tables'!$K$21,$G130='Lookup Tables'!$K$22),1,\"\")","v":""},{"$f":"IF(OR($P130=$Z$22,$P130=$Z$23,$P130=$Z$24,$P130=$Z$25,$P130=$Z$26,$P130=$Z$27,$P130=$Z$28,$P130=$Z$29,$P130=$Z$30,$P130=$Z$31,$P130=$Z$32,$P130=$Z$33,$P130=$Z$34,$Q130='Lookup Tables'!$K$14,$Q130='Lookup Tables'!$K$15,$Q130='Lookup Tables'!$K$16,$Q130='Lookup Tables'!$K$17,$Q130='Lookup Tables'!$K$18,$Q130='Lookup Tables'!$K$19,$Q130='Lookup Tables'!$K$20,$Q130='Lookup Tables'!$K$21,$Q130='Lookup Tables'!$K$22),1,\"\")","v":""}]
["HOLE","INCH","FT-INCH","QUAD","QUAD","DIA.","DETAILS",null,null,null,"HOLE","INCH","FT-INCH","QUAD","QUAD","DIA.","DETAILS",null,null,null,null,null,null,null,null,null,null,null,null,{"$f":"IF(OR($F131=$Z$22,$F131=$Z$23,$F131=$Z$24,$F131=$Z$25,$F131=$Z$26,$F131=$Z$27,$F131=$Z$28,$F131=$Z$29,$F131=$Z$30,$F131=$Z$31,$F131=$Z$32,$F131=$Z$33,$F131=$Z$34,$G131='Lookup Tables'!$K$14,$G131='Lookup Tables'!$K$15,$G131='Lookup Tables'!$K$16,$G131='Lookup Tables'!$K$17,$G131='Lookup Tables'!$K$18,$G131='Lookup Tables'!$K$19,$G131='Lookup Tables'!$K$20,$G131='Lookup Tables'!$K$21,$G131='Lookup Tables'!$K$22),1,\"\")","v":""},{"$f":"IF(OR($P131=$Z$22,$P131=$Z$23,$P131=$Z$24,$P131=$Z$25,$P131=$Z$26,$P131=$Z$27,$P131=$Z$28,$P131=$Z$29,$P131=$Z$30,$P131=$Z$31,$P131=$Z$32,$P131=$Z$33,$P131=$Z$34,$Q131='Lookup Tables'!$K$14,$Q131='Lookup Tables'!$K$15,$Q131='Lookup Tables'!$K$16,$Q131='Lookup Tables'!$K$17,$Q131='Lookup Tables'!$K$18,$Q131='Lookup Tables'!$K$19,$Q131='Lookup Tables'!$K$20,$Q131='Lookup Tables'!$K$21,$Q131='Lookup Tables'!$K$22),1,\"\")","v":""}]
[null,null,{"$f":"INT(B77/12)&\"' \"&TRIM(TEXT(ROUND(MOD(B77/12,1)*12*16,0)/16,\"# ??/??\")&\"\"\"\")","v":"0' 0 \""},null,null,null,null,null,null,null,null,null,{"$f":"INT(L77/12)&\"' \"&TRIM(TEXT(ROUND(MOD(L77/12,1)*12*16,0)/16,\"# ??/??\")&\"\"\"\")","v":"0' 0 \""},null,null,null,null,null,null,null,null,null,null,null,null,null,"Total",{"$f":"SUM(AB22:AB62)","v":0},{"$f":"SUM(AC22:AC62)","v":0},{"$f":"SUM(AD22:AD76)","v":0},{"$f":"SUM(AE22:AE76)","v":0}]
[]
[]
[]
[]
[]
[]
[]
[]
[]
[]
[]
[]
[]
[]
[]
[]
[]
[]
[]
[]
[]
[]
[]
[]
[]
[]
[]
[]
[]
[]
[]
[]
[]
[]
[]
[]
[]
[]
[]
[]
[]
[]
[]
[]
[]
[]
[]
[]
[]
[]
[]
[]
[]
[null,null,null,null,null,null,null,"SHEET 2 OF 2"]
[null,null,null,null,null,null,null,null,null,null,null,null,null,"DRAWING BY","DATE",null,"DRAWING NUMBER"]
[null,null,null,null,null,null,null,null,null,null,null,null,null,{"$f":"N67","v":"LNB"},{"$f":"O67","v":"2019-11-19"},null,{"$f":"Q67","v":0}]
[null,null,null,null,null,null,null,null,null,null,null,null,null,"APPROVED BY","DATE",null,"REFERENCE DRAWING"]
[null,null,null,null,null,null,null,null,null,null,null,null,null,{"$f":"N69","v":0},{"$f":"O69","v":"00:00:00"},null,{"$f":"Q69","v":0}]

{"sheet":"Machine Parameters","index":1,"n_rows":56,"n_cols":17,"rows_kept":56,"cut":false,"hidden":false,"merged":[]}
["Tool #","Type","Dia (inches)","Speed RPM","Feedrate (in/min)","Thread Pitch (inches)","Cutting Speed (RPM)","Pilot Size (inches)",null,null,null,null,null,null,null,"Alpha to Numeric Lookup Table"]
["T1","D","7/32\"","S3500","F24",null,null,null,null,null,null,null,null,null,null,"Quadrant","Angle"]
["T2","D","19/32\"","S1950","F19.5",null,null,null,null,null,null,null,null,null,null,"A",315]
["T3","D","11/16\"","S1600","F21",null,null,null,null,null,null,null,null,null,null,"B",0]
["T4","D","5/8\"","S1760","F22.8",null,null,null,null,null,null,null,null,null,null,"C",45]
["T5","D","13/16\"","S1350","F17.6",null,null,null,null,null,null,null,null,null,null,"D",90]
["T6","D","27/64\"","S1680","F20",null,null,null,null,null,null,null,null,null,null,"E",135]
["T7","D","1\"","S1100","F14.3",null,null,null,null,null,null,null,null,null,null,"F",180]
["T8","D","1-1/2\"","S750","F9.5",null,null,null,null,null,null,null,null,null,null,"G",225]
[null,null,null,null,null,null,null,null,null,null,null,null,null,null,null,"H",270]
[]
[]
[null,"R3 Threshold","Material Thickness"]
[null,30,15.7]
[null,null,25.4]
[]
[]
["H67","Radius","Drill - Y position","R2","Laser Measuring Position"]
[1,3,17.0625,101.6,200]
[2,4.3499999999999996,18.662500000000001,75,234.29]
[3,5.6749999999999998,20.1875,50,267.94499999999999]
[4,6.9749999999999996,22.3,50,312.87200000000001]
[5,8.25,23.5336,0,340.75200000000001]
[6,9.5,24.4785,0,381.541]
[7,10.725,25.753,0,419.88900000000001]
[null,null,"Program Optimization Parameters For Cycle time reduction"]
[null,null,"Drill +clamp time","TC time","Clamp time","Speed","Accel"]
[null,null,10,10,2.6,{"$f":"45720*0.0393700787401575/60","v":30.000000000000014},{"$f":"0.4*39.3700787401574","v":15.748031496062962}]
[null,null,5,9.5,2.5,"in/s","in/s^2"]
[]
[]
["Tool #","Type","Dia (inches)","Speed RPM","Feedrate (in/min)","Thread Pitch (inches)","Cutting Speed (RPM)","Pilot Size (inches)"]
["T1","D","7/32\"","S3500","F24"]
["T2","D","19/32\"","S1950","F19.5"]
["T3","D","11/16\"","S1600","F21"]
["T4","T","1/2\"","S512","F39.37",{"$f":"1/13*25.4","v":1.9538461538461538},"S512","27/64\""]
["T5","D","13/16\"","S1350","F17.6"]
["T6","D","27/64\"","S1680","F20"]
["T7","D","1\"","S1100","F14.3"]
["T8","D","1-1/2\"","S750","F9.5"]
[null,"D","1/2\"","S2200","F22"]
[null,"D","9/16\"","S1950","F19.5"]
[null,"D","21/32\"","S1676","F21.7"]
[null,"D","3/4\"","S1470","F19"]
[null,"D","7/8\"","S1250","F16.3"]
[null,"D","15/16\"","S1200","F15.2"]
[null,"D","1-1/16\"","S1050","F13.4"]
[null,"D","1-1/8\"","S775","F10"]
[null,"D","1-3/16\"","S1300","F9"]
[null,"D","1-1/4\"","S880","F11.4"]
[null,"D","1-5/16\"","S1200","F8"]
[null,"D","1-3/8\"","S1150","F8"]
[null,"D","1-7/16\"","S1100","F7"]
[null,"D","11/64\"","S3500","F24"]
[null,"D","5/8\"","S1760","F22.8"]
[null,"M","3/4\"","S2009","F17.5",null,"S2009","13/16\""]

{"sheet":"revisions","index":2,"n_rows":22,"n_cols":5,"rows_kept":22,"cut":false,"hidden":false,"merged":[[21,1,22,6],[18,1,19,6],[16,1,16,6],[0,0,2,6],[9,1,9,6],[12,1,12,6],[14,1,14,4]]}
["9/14/17\nNOTE 9:   YES - Two 11/16\" through bolt holes located 4\" from female joint lip on B-F axis (insert 5/8\" bolt  XX\" long)\nFour 11/16\" jacking lug holes located 48\" from field assembly joint on D-H axis  TOP HALF: SECT 2-4  /  BOTTOM HALF: SECT 5-6"]
[]
[]
["4' from base of top",null,null,"D","H"]
["4' from tip of bottom",null,null,"D","H"]
[]
["9/21/17\n","1. SS rivet nuts – 5/8”"]
[null,"2. All ground plate holes for all customers – 27/64” tapped holes"]
[]
["2017-09-28","Per Warren Stewart and Jim Hinkel - All grounds will be tapped holes "]
[]
[]
["2017-11-29","Tapped holes larger than 1/2\" need to be addressed before approval.  "]
[]
["2018-01-29","Added 11/64\" drill parameters"]
[]
["2018-02-16","REVISED DRILL PARAMETERS - MAIN DRILL CANNOT DRILL 11/64\" HOLES"]
[]
["2018-11-14","CHANGED \"DRILL REFERENCE\" TO \"TOP\""]
[]
[]
["2020-05-20","Added Tapping, Milling, 2 piece poles, joint detection, error handling"]

{"sheet":"Lookup Tables","index":3,"n_rows":371,"n_cols":36,"rows_kept":371,"cut":false,"hidden":false,"merged":[[2,37,2,39],[2,12,2,14],[2,17,2,19],[2,22,2,24],[2,27,2,29],[2,32,2,34]]}
[]
[]
[null,"Coating","Code",null,"Cap","Code",null,"Count","Position",null,"Details List",null,{"$f":"'Lookup Tables'!$K$6","v":"1/2\" TAP (Ground)"},null,null,{"$f":"SUM(M5:P59)","v":0},null,{"$f":"'Lookup Tables'!$K$9","v":"JACKING HOLE"},null,null,{"$f":"SUM(R5:U59)","v":0},null,{"$f":"'Lookup Tables'!$K$12","v":"CANT HOLE"},null,null,{"$f":"SUM(W5:Z59)","v":0},null,{"$f":"'Lookup Tables'!$K$11","v":"STEP HOLE"},null,null,{"$f":"SUM(AB5:AE59)","v":0},null,"1/2\" SS RIVNUT",null,null,{"$f":"SUM(AG5:AJ59)","v":0}]
[null,"W","Weathered",null,"C","Flat",null,{"$f":"COUNTIF(Drawing!$D$25:$E$65,I4)+COUNTIF(Drawing!$N$25:$O$65,I4)+COUNTIF(Drawing!$D$77:$E$131,I4)+COUNTIF(Drawing!$N$77:$O$131,I4)","v":0},"A",null,"THRU HOLE",null,"T1","T2","T3","T4",null,"T1","T2","T3","T4",null,"T1","T2","T3","T4",null,"T1","T2","T3","T4",null,"T1","T2","T3","T4"]
[null,"G","Gray",null,"R","Raptor",null,{"$f":"COUNTIF(Drawing!$D$25:$E$65,I5)+COUNTIF(Drawing!$N$25:$O$65,I5)+COUNTIF(Drawing!$D$77:$E$131,I5)+COUNTIF(Drawing!$N$77:$O$131,I5)","v":0},"B",null,"PIN JOINT",null,{"$f":"IF(Drawing!$G25='Lookup Tables'!$M$3,COUNTA(Drawing!$D25:$E25),\"-\")","v":"-"},{"$f":"IF(Drawing!$Q25='Lookup Tables'!$M$3,COUNTA(Drawing!$N25:$O25),\"-\")","v":"-"},{"$f":"IF(Drawing!$G77='Lookup Tables'!$M$3,COUNTA(Drawing!$D77:$E77),\"-\")","v":"-"},{"$f":"IF(Drawing!$Q77='Lookup Tables'!$M$3,COUNTA(Drawing!$N77:$O77),\"-\")","v":"-"},null,{"$f":"IF(Drawing!$G25='Lookup Tables'!$R$3,COUNTA(Drawing!$D25:$E25),\"-\")","v":"-"},{"$f":"IF(Drawing!$Q25='Lookup Tables'!$R$3,COUNTA(Drawing!$N25:$O25),\"-\")","v":"-"},{"$f":"IF(Drawing!$G77='Lookup Tables'!$R$3,COUNTA(Drawing!$D77:$E77),\"-\")","v":"-"},{"$f":"IF(Drawing!$Q77='Lookup Tables'!$R$3,COUNTA(Drawing!$N77:$O77),\"-\")","v":"-"},null,{"$f":"IF(Drawing!$G25='Lookup Tables'!$K$12,COUNTA(Drawing!$D25:$E25),\"-\")","v":"-"},{"$f":"IF(Drawing!$Q25='Lookup Tables'!$K$12,COUNTA(Drawing!$N25:$O25),\"-\")","v":"-"},{"$f":"IF(Drawing!$G77='Lookup Tables'!$K$12,COUNTA(Drawing!$D77:$E77),\"-\")","v":"-"},{"$f":"IF(Drawing!$Q77='Lookup Tables'!$K$12,COUNTA(Drawing!$N77:$O77),\"-\")","v":"-"},null,{"$f":"IF(Drawing!$G25='Lookup Tables'!$K$11,COUNTA(Drawing!$D25:$E25),\"-\")","v":"-"},{"$f":"IF(Drawing!$Q25='Lookup Tables'!$K$11,COUNTA(Drawing!$N25:$O25),\"-\")","v":"-"},{"$f":"IF(Drawing!$G77='Lookup Tables'!$K$11,COUNTA(Drawing!$D77:$E77),\"-\")","v":"-"},{"$f":"IF(Drawing!$Q77='Lookup Tables'!$K$11,COUNTA(Drawing!$N77:$O77),\"-\")","v":"-"},null,{"$f":"IF(Drawing!$G25='Lookup Tables'!$K$20,COUNTA(Drawing!$D25:$E25),\"-\")","v":"-"},{"$f":"IF(Drawing!$Q25='Lookup Tables'!$K$20,COUNTA(Drawing!$N25:$O25),\"-\")","v":"-"},{"$f":"IF(Drawing!$G77='Lookup Tables'!$K$20,COUNTA(Drawing!$D77:$E77),\"-\")","v":"-"},{"$f":"IF(Drawing!$Q77='Lookup Tables'!$K$20,COUNTA(Drawing!$N77:$O77),\"-\")","v":"-"}]
[null,"C","Custom Color",null,"D","Ductile",null,{"$f":"COUNTIF(Drawing!$D$25:$E$65,I6)+COUNTIF(Drawing!$N$25:$O$65,I6)+COUNTIF(Drawing!$D$77:$E$131,I6)+COUNTIF(Drawing!$N$77:$O$131,I6)","v":0},"C",null,"1/2\" TAP (Ground)",null,{"$f":"IF(Drawing!$G26='Lookup Tables'!$M$3,COUNTA(Drawing!$D26:$E26),\"-\")","v":"-"},{"$f":"IF(Drawing!$Q26='Lookup Tables'!$M$3,COUNTA(Drawing!$N26:$O26),\"-\")","v":"-"},{"$f":"IF(Drawing!$G78='Lookup Tables'!$M$3,COUNTA(Drawing!$D78:$E78),\"-\")","v":"-"},{"$f":"IF(Drawing!$Q78='Lookup Tables'!$M$3,COUNTA(Drawing!$N78:$O78),\"-\")","v":"-"},null,{"$f":"IF(Drawing!$G26='Lookup Tables'!$R$3,COUNTA(Drawing!$D26:$E26),\"-\")","v":"-"},{"$f":"IF(Drawing!$Q26='Lookup Tables'!$R$3,COUNTA(Drawing!$N26:$O26),\"-\")","v":"-"},{"$f":"IF(Drawing!$G78='Lookup Tables'!$R$3,COUNTA(Drawing!$D78:$E78),\"-\")","v":"-"},{"$f":"IF(Drawing!$Q78='Lookup Tables'!$R$3,COUNTA(Drawing!$N78:$O78),\"-\")","v":"-"},null,{"$f":"IF(Drawing!$G26='Lookup Tables'!$K$12,COUNTA(Drawing!$D26:$E26),\"-\")","v":"-"},{"$f":"IF(Drawing!$Q26='Lookup Tables'!$K$12,COUNTA(Drawing!$N26:$O26),\"-\")","v":"-"},{"$f":"IF(Drawing!$G78='Lookup Tables'!$K$12,COUNTA(Drawing!$D78:$E78),\"-\")","v":"-"},{"$f":"IF(Drawing!$Q78='Lookup Tables'!$K$12,COUNTA(Drawing!$N78:$O78),\"-\")","v":"-"},null,{"$f":"IF(Drawing!$G26='Lookup Tables'!$K$11,COUNTA(Drawing!$D26:$E26),\"-\")","v":"-"},{"$f":"IF(Drawing!$Q26='Lookup Tables'!$K$11,COUNTA(Drawing!$N26:$O26),\"-\")","v":"-"},{"$f":"IF(Drawing!$G78='Lookup Tables'!$K$11,COUNTA(Drawing!$D78:$E78),\"-\")","v":"-"},{"$f":"IF(Drawing!$Q78='Lookup Tables'!$K$11,COUNTA(Drawing!$N78:$O78),\"-\")","v":"-"},null,{"$f":"IF(Drawing!$G26='Lookup Tables'!$K$20,COUNTA(Drawing!$D26:$E26),\"-\")","v":"-"},{"$f":"IF(Drawing!$Q26='Lookup Tables'!$K$20,COUNTA(Drawing!$N26:$O26),\"-\")","v":"-"},{"$f":"IF(Drawing!$G78='Lookup Tables'!$K$20,COUNTA(Drawing!$D78:$E78),\"-\")","v":"-"},{"$f":"IF(Drawing!$Q78='Lookup Tables'!$K$20,COUNTA(Drawing!$N78:$O78),\"-\")","v":"-"}]
[null,"X","Extreme Coat",null,null,null,null,{"$f":"COUNTIF(Drawing!$D$25:$E$65,I7)+COUNTIF(Drawing!$N$25:$O$65,I7)+COUNTIF(Drawing!$D$77:$E$131,I7)+COUNTIF(Drawing!$N$77:$O$131,I7)","v":0},"D",null,"FIELD JOINT",null,{"$f":"IF(Drawing!$G27='Lookup Tables'!$M$3,COUNTA(Drawing!$D27:$E27),\"-\")","v":"-"},{"$f":"IF(Drawing!$Q27='Lookup Tables'!$M$3,COUNTA(Drawing!$N27:$O27),\"-\")","v":"-"},{"$f":"IF(Drawing!$G79='Lookup Tables'!$M$3,COUNTA(Drawing!$D79:$E79),\"-\")","v":"-"},{"$f":"IF(Drawing!$Q79='Lookup Tables'!$M$3,COUNTA(Drawing!$N79:$O79),\"-\")","v":"-"},null,{"$f":"IF(Drawing!$G27='Lookup Tables'!$R$3,COUNTA(Drawing!$D27:$E27),\"-\")","v":"-"},{"$f":"IF(Drawing!$Q27='Lookup Tables'!$R$3,COUNTA(Drawing!$N27:$O27),\"-\")","v":"-"},{"$f":"IF(Drawing!$G79='Lookup Tables'!$R$3,COUNTA(Drawing!$D79:$E79),\"-\")","v":"-"},{"$f":"IF(Drawing!$Q79='Lookup Tables'!$R$3,COUNTA(Drawing!$N79:$O79),\"-\")","v":"-"},null,{"$f":"IF(Drawing!$G27='Lookup Tables'!$K$12,COUNTA(Drawing!$D27:$E27),\"-\")","v":"-"},{"$f":"IF(Drawing!$Q27='Lookup Tables'!$K$12,COUNTA(Drawing!$N27:$O27),\"-\")","v":"-"},{"$f":"IF(Drawing!$G79='Lookup Tables'!$K$12,COUNTA(Drawing!$D79:$E79),\"-\")","v":"-"},{"$f":"IF(Drawing!$Q79='Lookup Tables'!$K$12,COUNTA(Drawing!$N79:$O79),\"-\")","v":"-"},null,{"$f":"IF(Drawing!$G27='Lookup Tables'!$K$11,COUNTA(Drawing!$D27:$E27),\"-\")","v":"-"},{"$f":"IF(Drawing!$Q27='Lookup Tables'!$K$11,COUNTA(Drawing!$N27:$O27),\"-\")","v":"-"},{"$f":"IF(Drawing!$G79='Lookup Tables'!$K$11,COUNTA(Drawing!$D79:$E79),\"-\")","v":"-"},{"$f":"IF(Drawing!$Q79='Lookup Tables'!$K$11,COUNTA(Drawing!$N79:$O79),\"-\")","v":"-"},null,{"$f":"IF(Drawing!$G27='Lookup Tables'!$K$20,COUNTA(Drawing!$D27:$E27),\"-\")","v":"-"},{"$f":"IF(Drawing!$Q27='Lookup Tables'!$K$20,COUNTA(Drawing!$N27:$O27),\"-\")","v":"-"},{"$f":"IF(Drawing!$G79='Lookup Tables'!$K$20,COUNTA(Drawing!$D79:$E79),\"-\")","v":"-"},{"$f":"IF(Drawing!$Q79='Lookup Tables'!$K$20,COUNTA(Drawing!$N79:$O79),\"-\")","v":"-"}]
[null,null,null,null,"Dia.",null,null,{"$f":"COUNTIF(Drawing!$D$25:$E$65,I8)+COUNTIF(Drawing!$N$25:$O$65,I8)+COUNTIF(Drawing!$D$77:$E$131,I8)+COUNTIF(Drawing!$N$77:$O$131,I8)","v":0},"E",null,"SINGLE HOLE",null,{"$f":"IF(Drawing!$G28='Lookup Tables'!$M$3,COUNTA(Drawing!$D28:$E28),\"-\")","v":"-"},{"$f":"IF(Drawing!$Q28='Lookup Tables'!$M$3,COUNTA(Drawing!$N28:$O28),\"-\")","v":"-"},{"$f":"IF(Drawing!$G80='Lookup Tables'!$M$3,COUNTA(Drawing!$D80:$E80),\"-\")","v":"-"},{"$f":"IF(Drawing!$Q80='Lookup Tables'!$M$3,COUNTA(Drawing!$N80:$O80),\"-\")","v":"-"},null,{"$f":"IF(Drawing!$G28='Lookup Tables'!$R$3,COUNTA(Drawing!$D28:$E28),\"-\")","v":"-"},{"$f":"IF(Drawing!$Q28='Lookup Tables'!$R$3,COUNTA(Drawing!$N28:$O28),\"-\")","v":"-"},{"$f":"IF(Drawing!$G80='Lookup Tables'!$R$3,COUNTA(Drawing!$D80:$E80),\"-\")","v":"-"},{"$f":"IF(Drawing!$Q80='Lookup Tables'!$R$3,COUNTA(Drawing!$N80:$O80),\"-\")","v":"-"},null,{"$f":"IF(Drawing!$G28='Lookup Tables'!$K$12,COUNTA(Drawing!$D28:$E28),\"-\")","v":"-"},{"$f":"IF(Drawing!$Q28='Lookup Tables'!$K$12,COUNTA(Drawing!$N28:$O28),\"-\")","v":"-"},{"$f":"IF(Drawing!$G80='Lookup Tables'!$K$12,COUNTA(Drawing!$D80:$E80),\"-\")","v":"-"},{"$f":"IF(Drawing!$Q80='Lookup Tables'!$K$12,COUNTA(Drawing!$N80:$O80),\"-\")","v":"-"},null,{"$f":"IF(Drawing!$G28='Lookup Tables'!$K$11,COUNTA(Drawing!$D28:$E28),\"-\")","v":"-"},{"$f":"IF(Drawing!$Q28='Lookup Tables'!$K$11,COUNTA(Drawing!$N28:$O28),\"-\")","v":"-"},{"$f":"IF(Drawing!$G80='Lookup Tables'!$K$11,COUNTA(Drawing!$D80:$E80),\"-\")","v":"-"},{"$f":"IF(Drawing!$Q80='Lookup Tables'!$K$11,COUNTA(Drawing!$N80:$O80),\"-\")","v":"-"},null,{"$f":"IF(Drawing!$G28='Lookup Tables'!$K$20,COUNTA(Drawing!$D28:$E28),\"-\")","v":"-"},{"$f":"IF(Drawing!$Q28='Lookup Tables'!$K$20,COUNTA(Drawing!$N28:$O28),\"-\")","v":"-"},{"$f":"IF(Drawing!$G80='Lookup Tables'!$K$20,COUNTA(Drawing!$D80:$E80),\"-\")","v":"-"},{"$f":"IF(Drawing!$Q80='Lookup Tables'!$K$20,COUNTA(Drawing!$N80:$O80),\"-\")","v":"-"}]
[null,"Pole Length","Depth",null,"19/32\"",null,null,{"$f":"COUNTIF(Drawing!$D$25:$E$65,I9)+COUNTIF(Drawing!$N$25:$O$65,I9)+COUNTIF(Drawing!$D$77:$E$131,I9)+COUNTIF(Drawing!$N$77:$O$131,I9)","v":0},"F",null,"JACKING HOLE",null,{"$f":"IF(Drawing!$G29='Lookup Tables'!$M$3,COUNTA(Drawing!$D29:$E29),\"-\")","v":"-"},{"$f":"IF(Drawing!$Q29='Lookup Tables'!$M$3,COUNTA(Drawing!$N29:$O29),\"-\")","v":"-"},{"$f":"IF(Drawing!$G81='Lookup Tables'!$M$3,COUNTA(Drawing!$D81:$E81),\"-\")","v":"-"},{"$f":"IF(Drawing!$Q81='Lookup Tables'!$M$3,COUNTA(Drawing!$N81:$O81),\"-\")","v":"-"},null,{"$f":"IF(Drawing!$G29='Lookup Tables'!$R$3,COUNTA(Drawing!$D29:$E29),\"-\")","v":"-"},{"$f":"IF(Drawing!$Q29='Lookup Tables'!$R$3,COUNTA(Drawing!$N29:$O29),\"-\")","v":"-"},{"$f":"IF(Drawing!$G81='Lookup Tables'!$R$3,COUNTA(Drawing!$D81:$E81),\"-\")","v":"-"},{"$f":"IF(Drawing!$Q81='Lookup Tables'!$R$3,COUNTA(Drawing!$N81:$O81),\"-\")","v":"-"},null,{"$f":"IF(Drawing!$G29='Lookup Tables'!$K$12,COUNTA(Drawing!$D29:$E29),\"-\")","v":"-"},{"$f":"IF(Drawing!$Q29='Lookup Tables'!$K$12,COUNTA(Drawing!$N29:$O29),\"-\")","v":"-"},{"$f":"IF(Drawing!$G81='Lookup Tables'!$K$12,COUNTA(Drawing!$D81:$E81),\"-\")","v":"-"},{"$f":"IF(Drawing!$Q81='Lookup Tables'!$K$12,COUNTA(Drawing!$N81:$O81),\"-\")","v":"-"},null,{"$f":"IF(Drawing!$G29='Lookup Tables'!$K$11,COUNTA(Drawing!$D29:$E29),\"-\")","v":"-"},{"$f":"IF(Drawing!$Q29='Lookup Tables'!$K$11,COUNTA(Drawing!$N29:$O29),\"-\")","v":"-"},{"$f":"IF(Drawing!$G81='Lookup Tables'!$K$11,COUNTA(Drawing!$D81:$E81),\"-\")","v":"-"},{"$f":"IF(Drawing!$Q81='Lookup Tables'!$K$11,COUNTA(Drawing!$N81:$O81),\"-\")","v":"-"},null,{"$f":"IF(Drawing!$G29='Lookup Tables'!$K$20,COUNTA(Drawing!$D29:$E29),\"-\")","v":"-"},{"$f":"IF(Drawing!$Q29='Lookup Tables'!$K$20,COUNTA(Drawing!$N29:$O29),\"-\")","v":"-"},{"$f":"IF(Drawing!$G81='Lookup Tables'!$K$20,COUNTA(Drawing!$D81:$E81),\"-\")","v":"-"},{"$f":"IF(Drawing!$Q81='Lookup Tables'!$K$20,COUNTA(Drawing!$N81:$O81),\"-\")","v":"-"}]
[null,"030",5.5,null,"27/64\"",null,null,{"$f":"COUNTIF(Drawing!$D$25:$E$65,I10)+COUNTIF(Drawing!$N$25:$O$65,I10)+COUNTIF(Drawing!$D$77:$E$131,I10)+COUNTIF(Drawing!$N$77:$O$131,I10)","v":0},"G",null,"GP 1/2\" TAP",null,{"$f":"IF(Drawing!$G30='Lookup Tables'!$M$3,COUNTA(Drawing!$D30:$E30),\"-\")","v":"-"},{"$f":"IF(Drawing!$Q30='Lookup Tables'!$M$3,COUNTA(Drawing!$N30:$O30),\"-\")","v":"-"},{"$f":"IF(Drawing!$G82='Lookup Tables'!$M$3,COUNTA(Drawing!$D82:$E82),\"-\")","v":"-"},{"$f":"IF(Drawing!$Q82='Lookup Tables'!$M$3,COUNTA(Drawing!$N82:$O82),\"-\")","v":"-"},null,{"$f":"IF(Drawing!$G30='Lookup Tables'!$R$3,COUNTA(Drawing!$D30:$E30),\"-\")","v":"-"},{"$f":"IF(Drawing!$Q30='Lookup Tables'!$R$3,COUNTA(Drawing!$N30:$O30),\"-\")","v":"-"},{"$f":"IF(Drawing!$G82='Lookup Tables'!$R$3,COUNTA(Drawing!$D82:$E82),\"-\")","v":"-"},{"$f":"IF(Drawing!$Q82='Lookup Tables'!$R$3,COUNTA(Drawing!$N82:$O82),\"-\")","v":"-"},null,{"$f":"IF(Drawing!$G30='Lookup Tables'!$K$12,COUNTA(Drawing!$D30:$E30),\"-\")","v":"-"},{"$f":"IF(Drawing!$Q30='Lookup Tables'!$K$12,COUNTA(Drawing!$N30:$O30),\"-\")","v":"-"},{"$f":"IF(Drawing!$G82='Lookup Tables'!$K$12,COUNTA(Drawing!$D82:$E82),\"-\")","v":"-"},{"$f":"IF(Drawing!$Q82='Lookup Tables'!$K$12,COUNTA(Drawing!$N82:$O82),\"-\")","v":"-"},null,{"$f":"IF(Drawing!$G30='Lookup Tables'!$K$11,COUNTA(Drawing!$D30:$E30),\"-\")","v":"-"},{"$f":"IF(Drawing!$Q30='Lookup Tables'!$K$11,COUNTA(Drawing!$N30:$O30),\"-\")","v":"-"},{"$f":"IF(Drawing!$G82='Lookup Tables'!$K$11,COUNTA(Drawing!$D82:$E82),\"-\")","v":"-"},{"$f":"IF(Drawing!$Q82='Lookup Tables'!$K$11,COUNTA(Drawing!$N82:$O82),\"-\")","v":"-"},null,{"$f":"IF(Drawing!$G30='Lookup Tables'!$K$20,COUNTA(Drawing!$D30:$E30),\"-\")","v":"-"},{"$f":"IF(Drawing!$Q30='Lookup Tables'!$K$20,COUNTA(Drawing!$N30:$O30),\"-\")","v":"-"},{"$f":"IF(Drawing!$G82='Lookup Tables'!$K$20,COUNTA(Drawing!$D82:$E82),\"-\")","v":"-"},{"$f":"IF(Drawing!$Q82='Lookup Tables'!$K$20,COUNTA(Drawing!$N82:$O82),\"-\")","v":"-"}]
[null,"035",6,null,"11/16\"",null,null,{"$f":"COUNTIF(Drawing!$D$25:$E$65,I11)+COUNTIF(Drawing!$N$25:$O$65,I11)+COUNTIF(Drawing!$D$77:$E$131,I11)+COUNTIF(Drawing!$N$77:$O$131,I11)","v":0},"H",null,"STEP HOLE",null,{"$f":"IF(Drawing!$G31='Lookup Tables'!$M$3,COUNTA(Drawing!$D31:$E31),\"-\")","v":"-"},{"$f":"IF(Drawing!$Q31='Lookup Tables'!$M$3,COUNTA(Drawing!$N31:$O31),\"-\")","v":"-"},{"$f":"IF(Drawing!$G83='Lookup Tables'!$M$3,COUNTA(Drawing!$D83:$E83),\"-\")","v":"-"},{"$f":"IF(Drawing!$Q83='Lookup Tables'!$M$3,COUNTA(Drawing!$N83:$O83),\"-\")","v":"-"},null,{"$f":"IF(Drawing!$G31='Lookup Tables'!$R$3,COUNTA(Drawing!$D31:$E31),\"-\")","v":"-"},{"$f":"IF(Drawing!$Q31='Lookup Tables'!$R$3,COUNTA(Drawing!$N31:$O31),\"-\")","v":"-"},{"$f":"IF(Drawing!$G83='Lookup Tables'!$R$3,COUNTA(Drawing!$D83:$E83),\"-\")","v":"-"},{"$f":"IF(Drawing!$Q83='Lookup Tables'!$R$3,COUNTA(Drawing!$N83:$O83),\"-\")","v":"-"},null,{"$f":"IF(Drawing!$G31='Lookup Tables'!$K$12,COUNTA(Drawing!$D31:$E31),\"-\")","v":"-"},{"$f":"IF(Drawing!$Q31='Lookup Tables'!$K$12,COUNTA(Drawing!$N31:$O31),\"-\")","v":"-"},{"$f":"IF(Drawing!$G83='Lookup Tables'!$K$12,COUNTA(Drawing!$D83:$E83),\"-\")","v":"-"},{"$f":"IF(Drawing!$Q83='Lookup Tables'!$K$12,COUNTA(Drawing!$N83:$O83),\"-\")","v":"-"},null,{"$f":"IF(Drawing!$G31='Lookup Tables'!$K$11,COUNTA(Drawing!$D31:$E31),\"-\")","v":"-"},{"$f":"IF(Drawing!$Q31='Lookup Tables'!$K$11,COUNTA(Drawing!$N31:$O31),\"-\")","v":"-"},{"$f":"IF(Drawing!$G83='Lookup Tables'!$K$11,COUNTA(Drawing!$D83:$E83),\"-\")","v":"-"},{"$f":"IF(Drawing!$Q83='Lookup Tables'!$K$11,COUNTA(Drawing!$N83:$O83),\"-\")","v":"-"},null,{"$f":"IF(Drawing!$G31='Lookup Tables'!$K$20,COUNTA(Drawing!$D31:$E31),\"-\")","v":"-"},{"$f":"IF(Drawing!$Q31='Lookup Tables'!$K$20,COUNTA(Drawing!$N31:$O31),\"-\")","v":"-"},{"$f":"IF(Drawing!$G83='Lookup Tables'!$K$20,COUNTA(Drawing!$D83:$E83),\"-\")","v":"-"},{"$f":"IF(Drawing!$Q83='Lookup Tables'!$K$20,COUNTA(Drawing!$N83:$O83),\"-\")","v":"-"}]
[null,"040",6,null,"13/16\"",null,null,{"$f":"COUNTIF(Drawing!$D$25:$E$65,I12)+COUNTIF(Drawing!$N$25:$O$65,I12)+COUNTIF(Drawing!$D$77:$E$131,I12)+COUNTIF(Drawing!$N$77:$O$131,I12)","v":0},1,null,"CANT HOLE",null,{"$f":"IF(Drawing!$G32='Lookup Tables'!$M$3,COUNTA(Drawing!$D32:$E32),\"-\")","v":"-"},{"$f":"IF(Drawing!$Q32='Lookup Tables'!$M$3,COUNTA(Drawing!$N32:$O32),\"-\")","v":"-"},{"$f":"IF(Drawing!$G84='Lookup Tables'!$M$3,COUNTA(Drawing!$D84:$E84),\"-\")","v":"-"},{"$f":"IF(Drawing!$Q84='Lookup Tables'!$M$3,COUNTA(Drawing!$N84:$O84),\"-\")","v":"-"},null,{"$f":"IF(Drawing!$G32='Lookup Tables'!$R$3,COUNTA(Drawing!$D32:$E32),\"-\")","v":"-"},{"$f":"IF(Drawing!$Q32='Lookup Tables'!$R$3,COUNTA(Drawing!$N32:$O32),\"-\")","v":"-"},{"$f":"IF(Drawing!$G84='Lookup Tables'!$R$3,COUNTA(Drawing!$D84:$E84),\"-\")","v":"-"},{"$f":"IF(Drawing!$Q84='Lookup Tables'!$R$3,COUNTA(Drawing!$N84:$O84),\"-\")","v":"-"},null,{"$f":"IF(Drawing!$G32='Lookup Tables'!$K$12,COUNTA(Drawing!$D32:$E32),\"-\")","v":"-"},{"$f":"IF(Drawing!$Q32='Lookup Tables'!$K$12,COUNTA(Drawing!$N32:$O32),\"-\")","v":"-"},{"$f":"IF(Drawing!$G84='Lookup Tables'!$K$12,COUNTA(Drawing!$D84:$E84),\"-\")","v":"-"},{"$f":"IF(Drawing!$Q84='Lookup Tables'!$K$12,COUNTA(Drawing!$N84:$O84),\"-\")","v":"-"},null,{"$f":"IF(Drawing!$G32='Lookup Tables'!$K$11,COUNTA(Drawing!$D32:$E32),\"-\")","v":"-"},{"$f":"IF(Drawing!$Q32='Lookup Tables'!$K$11,COUNTA(Drawing!$N32:$O32),\"-\")","v":"-"},{"$f":"IF(Drawing!$G84='Lookup Tables'!$K$11,COUNTA(Drawing!$D84:$E84),\"-\")","v":"-"},{"$f":"IF(Drawing!$Q84='Lookup Tables'!$K$11,COUNTA(Drawing!$N84:$O84),\"-\")","v":"-"},null,{"$f":"IF(Drawing!$G32='Lookup Tables'!$K$20,COUNTA(Drawing!$D32:$E32),\"-\")","v":"-"},{"$f":"IF(Drawing!$Q32='Lookup Tables'!$K$20,COUNTA(Drawing!$N32:$O32),\"-\")","v":"-"},{"$f":"IF(Drawing!$G84='Lookup Tables'!$K$20,COUNTA(Drawing!$D84:$E84),\"-\")","v":"-"},{"$f":"IF(Drawing!$Q84='Lookup Tables'!$K$20,COUNTA(Drawing!$N84:$O84),\"-\")","v":"-"}]
[null,"045",6.5,null,"15/16\"",null,null,{"$f":"COUNTIF(Drawing!$D$25:$E$65,I13)+COUNTIF(Drawing!$N$25:$O$65,I13)+COUNTIF(Drawing!$D$77:$E$131,I13)+COUNTIF(Drawing!$N$77:$O$131,I13)","v":0},2,null,"1/2\" RIVNUT",null,{"$f":"IF(Drawing!$G33='Lookup Tables'!$M$3,COUNTA(Drawing!$D33:$E33),\"-\")","v":"-"},{"$f":"IF(Drawing!$Q33='Lookup Tables'!$M$3,COUNTA(Drawing!$N33:$O33),\"-\")","v":"-"},{"$f":"IF(Drawing!$G85='Lookup Tables'!$M$3,COUNTA(Drawing!$D85:$E85),\"-\")","v":"-"},{"$f":"IF(Drawing!$Q85='Lookup Tables'!$M$3,COUNTA(Drawing!$N85:$O85),\"-\")","v":"-"},null,{"$f":"IF(Drawing!$G33='Lookup Tables'!$R$3,COUNTA(Drawing!$D33:$E33),\"-\")","v":"-"},{"$f":"IF(Drawing!$Q33='Lookup Tables'!$R$3,COUNTA(Drawing!$N33:$O33),\"-\")","v":"-"},{"$f":"IF(Drawing!$G85='Lookup Tables'!$R$3,COUNTA(Drawing!$D85:$E85),\"-\")","v":"-"},{"$f":"IF(Drawing!$Q85='Lookup Tables'!$R$3,COUNTA(Drawing!$N85:$O85),\"-\")","v":"-"},null,{"$f":"IF(Drawing!$G33='Lookup Tables'!$K$12,COUNTA(Drawing!$D33:$E33),\"-\")","v":"-"},{"$f":"IF(Drawing!$Q33='Lookup Tables'!$K$12,COUNTA(Drawing!$N33:$O33),\"-\")","v":"-"},{"$f":"IF(Drawing!$G85='Lookup Tables'!$K$12,COUNTA(Drawing!$D85:$E85),\"-\")","v":"-"},{"$f":"IF(Drawing!$Q85='Lookup Tables'!$K$12,COUNTA(Drawing!$N85:$O85),\"-\")","v":"-"},null,{"$f":"IF(Drawing!$G33='Lookup Tables'!$K$11,COUNTA(Drawing!$D33:$E33),\"-\")","v":"-"},{"$f":"IF(Drawing!$Q33='Lookup Tables'!$K$11,COUNTA(Drawing!$N33:$O33),\"-\")","v":"-"},{"$f":"IF(Drawing!$G85='Lookup Tables'!$K$11,COUNTA(Drawing!$D85:$E85),\"-\")","v":"-"},{"$f":"IF(Drawing!$Q85='Lookup Tables'!$K$11,COUNTA(Drawing!$N85:$O85),\"-\")","v":"-"},null,{"$f":"IF(Drawing!$G33='Lookup Tables'!$K$20,COUNTA(Drawing!$D33:$E33),\"-\")","v":"-"},{"$f":"IF(Drawing!$Q33='Lookup Tables'!$K$20,COUNTA(Drawing!$N33:$O33),\"-\")","v":"-"},{"$f":"IF(Drawing!$G85='Lookup Tables'!$K$20,COUNTA(Drawing!$D85:$E85),\"-\")","v":"-"},{"$f":"IF(Drawing!$Q85='Lookup Tables'!$K$20,COUNTA(Drawing!$N85:$O85),\"-\")","v":"-"}]
[null,"050",7,null,"1\"",null,null,{"$f":"COUNTIF(Drawing!$D$25:$E$65,I14)+COUNTIF(Drawing!$N$25:$O$65,I14)+COUNTIF(Drawing!$D$77:$E$131,I14)+COUNTIF(Drawing!$N$77:$O$131,I14)","v":0},3,null,"HAND HOLE 5\"x3\"",null,{"$f":"IF(Drawing!$G34='Lookup Tables'!$M$3,COUNTA(Drawing!$D34:$E34),\"-\")","v":"-"},{"$f":"IF(Drawing!$Q34='Lookup Tables'!$M$3,COUNTA(Drawing!$N34:$O34),\"-\")","v":"-"},{"$f":"IF(Drawing!$G86='Lookup Tables'!$M$3,COUNTA(Drawing!$D86:$E86),\"-\")","v":"-"},{"$f":"IF(Drawing!$Q86='Lookup Tables'!$M$3,COUNTA(Drawing!$N86:$O86),\"-\")","v":"-"},null,{"$f":"IF(Drawing!$G34='Lookup Tables'!$R$3,COUNTA(Drawing!$D34:$E34),\"-\")","v":"-"},{"$f":"IF(Drawing!$Q34='Lookup Tables'!$R$3,COUNTA(Drawing!$N34:$O34),\"-\")","v":"-"},{"$f":"IF(Drawing!$G86='Lookup Tables'!$R$3,COUNTA(Drawing!$D86:$E86),\"-\")","v":"-"},{"$f":"IF(Drawing!$Q86='Lookup Tables'!$R$3,COUNTA(Drawing!$N86:$O86),\"-\")","v":"-"},null,{"$f":"IF(Drawing!$G34='Lookup Tables'!$K$12,COUNTA(Drawing!$D34:$E34),\"-\")","v":"-"},{"$f":"IF(Drawing!$Q34='Lookup Tables'!$K$12,COUNTA(Drawing!$N34:$O34),\"-\")","v":"-"},{"$f":"IF(Drawing!$G86='Lookup Tables'!$K$12,COUNTA(Drawing!$D86:$E86),\"-\")","v":"-"},{"$f":"IF(Drawing!$Q86='Lookup Tables'!$K$12,COUNTA(Drawing!$N86:$O86),\"-\")","v":"-"},null,{"$f":"IF(Drawing!$G34='Lookup Tables'!$K$11,COUNTA(Drawing!$D34:$E34),\"-\")","v":"-"},{"$f":"IF(Drawing!$Q34='Lookup Tables'!$K$11,COUNTA(Drawing!$N34:$O34),\"-\")","v":"-"},{"$f":"IF(Drawing!$G86='Lookup Tables'!$K$11,COUNTA(Drawing!$D86:$E86),\"-\")","v":"-"},{"$f":"IF(Drawing!$Q86='Lookup Tables'!$K$11,COUNTA(Drawing!$N86:$O86),\"-\")","v":"-"},null,{"$f":"IF(Drawing!$G34='Lookup Tables'!$K$20,COUNTA(Drawing!$D34:$E34),\"-\")","v":"-"},{"$f":"IF(Drawing!$Q34='Lookup Tables'!$K$20,COUNTA(Drawing!$N34:$O34),\"-\")","v":"-"},{"$f":"IF(Drawing!$G86='Lookup Tables'!$K$20,COUNTA(Drawing!$D86:$E86),\"-\")","v":"-"},{"$f":"IF(Drawing!$Q86='Lookup Tables'!$K$20,COUNTA(Drawing!$N86:$O86),\"-\")","v":"-"}]
[null,"055",7.5,null,"1-1/2\"",null,null,{"$f":"COUNTIF(Drawing!$D$25:$E$65,I15)+COUNTIF(Drawing!$N$25:$O$65,I15)+COUNTIF(Drawing!$D$77:$E$131,I15)+COUNTIF(Drawing!$N$77:$O$131,I15)","v":0},4,null,"HAND HOLE 5\"x2\"",null,{"$f":"IF(Drawing!$G35='Lookup Tables'!$M$3,COUNTA(Drawing!$D35:$E35),\"-\")","v":"-"},{"$f":"IF(Drawing!$Q35='Lookup Tables'!$M$3,COUNTA(Drawing!$N35:$O35),\"-\")","v":"-"},{"$f":"IF(Drawing!$G87='Lookup Tables'!$M$3,COUNTA(Drawing!$D87:$E87),\"-\")","v":"-"},{"$f":"IF(Drawing!$Q87='Lookup Tables'!$M$3,COUNTA(Drawing!$N87:$O87),\"-\")","v":"-"},null,{"$f":"IF(Drawing!$G35='Lookup Tables'!$R$3,COUNTA(Drawing!$D35:$E35),\"-\")","v":"-"},{"$f":"IF(Drawing!$Q35='Lookup Tables'!$R$3,COUNTA(Drawing!$N35:$O35),\"-\")","v":"-"},{"$f":"IF(Drawing!$G87='Lookup Tables'!$R$3,COUNTA(Drawing!$D87:$E87),\"-\")","v":"-"},{"$f":"IF(Drawing!$Q87='Lookup Tables'!$R$3,COUNTA(Drawing!$N87:$O87),\"-\")","v":"-"},null,{"$f":"IF(Drawing!$G35='Lookup Tables'!$K$12,COUNTA(Drawing!$D35:$E35),\"-\")","v":"-"},{"$f":"IF(Drawing!$Q35='Lookup Tables'!$K$12,COUNTA(Drawing!$N35:$O35),\"-\")","v":"-"},{"$f":"IF(Drawing!$G87='Lookup Tables'!$K$12,COUNTA(Drawing!$D87:$E87),\"-\")","v":"-"},{"$f":"IF(Drawing!$Q87='Lookup Tables'!$K$12,COUNTA(Drawing!$N87:$O87),\"-\")","v":"-"},null,{"$f":"IF(Drawing!$G35='Lookup Tables'!$K$11,COUNTA(Drawing!$D35:$E35),\"-\")","v":"-"},{"$f":"IF(Drawing!$Q35='Lookup Tables'!$K$11,COUNTA(Drawing!$N35:$O35),\"-\")","v":"-"},{"$f":"IF(Drawing!$G87='Lookup Tables'!$K$11,COUNTA(Drawing!$D87:$E87),\"-\")","v":"-"},{"$f":"IF(Drawing!$Q87='Lookup Tables'!$K$11,COUNTA(Drawing!$N87:$O87),\"-\")","v":"-"},null,{"$f":"IF(Drawing!$G35='Lookup Tables'!$K$20,COUNTA(Drawing!$D35:$E35),\"-\")","v":"-"},{"$f":"IF(Drawing!$Q35='Lookup Tables'!$K$20,COUNTA(Drawing!$N35:$O35),\"-\")","v":"-"},{"$f":"IF(Drawing!$G87='Lookup Tables'!$K$20,COUNTA(Drawing!$D87:$E87),\"-\")","v":"-"},{"$f":"IF(Drawing!$Q87='Lookup Tables'!$K$20,COUNTA(Drawing!$N87:$O87),\"-\")","v":"-"}]
[null,"060",8,null,"3/4\"",null,null,{"$f":"COUNTIF(Drawing!$D$25:$E$65,I16)+COUNTIF(Drawing!$N$25:$O$65,I16)+COUNTIF(Drawing!$D$77:$E$131,I16)+COUNTIF(Drawing!$N$77:$O$131,I16)","v":0},5,null,"HAND HOLE 4\"x2\"",null,{"$f":"IF(Drawing!$G36='Lookup Tables'!$M$3,COUNTA(Drawing!$D36:$E36),\"-\")","v":"-"},{"$f":"IF(Drawing!$Q36='Lookup Tables'!$M$3,COUNTA(Drawing!$N36:$O36),\"-\")","v":"-"},{"$f":"IF(Drawing!$G88='Lookup Tables'!$M$3,COUNTA(Drawing!$D88:$E88),\"-\")","v":"-"},{"$f":"IF(Drawing!$Q88='Lookup Tables'!$M$3,COUNTA(Drawing!$N88:$O88),\"-\")","v":"-"},null,{"$f":"IF(Drawing!$G36='Lookup Tables'!$R$3,COUNTA(Drawing!$D36:$E36),\"-\")","v":"-"},{"$f":"IF(Drawing!$Q36='Lookup Tables'!$R$3,COUNTA(Drawing!$N36:$O36),\"-\")","v":"-"},{"$f":"IF(Drawing!$G88='Lookup Tables'!$R$3,COUNTA(Drawing!$D88:$E88),\"-\")","v":"-"},{"$f":"IF(Drawing!$Q88='Lookup Tables'!$R$3,COUNTA(Drawing!$N88:$O88),\"-\")","v":"-"},null,{"$f":"IF(Drawing!$G36='Lookup Tables'!$K$12,COUNTA(Drawing!$D36:$E36),\"-\")","v":"-"},{"$f":"IF(Drawing!$Q36='Lookup Tables'!$K$12,COUNTA(Drawing!$N36:$O36),\"-\")","v":"-"},{"$f":"IF(Drawing!$G88='Lookup Tables'!$K$12,COUNTA(Drawing!$D88:$E88),\"-\")","v":"-"},{"$f":"IF(Drawing!$Q88='Lookup Tables'!$K$12,COUNTA(Drawing!$N88:$O88),\"-\")","v":"-"},null,{"$f":"IF(Drawing!$G36='Lookup Tables'!$K$11,COUNTA(Drawing!$D36:$E36),\"-\")","v":"-"},{"$f":"IF(Drawing!$Q36='Lookup Tables'!$K$11,COUNTA(Drawing!$N36:$O36),\"-\")","v":"-"},{"$f":"IF(Drawing!$G88='Lookup Tables'!$K$11,COUNTA(Drawing!$D88:$E88),\"-\")","v":"-"},{"$f":"IF(Drawing!$Q88='Lookup Tables'!$K$11,COUNTA(Drawing!$N88:$O88),\"-\")","v":"-"},null,{"$f":"IF(Drawing!$G36='Lookup Tables'!$K$20,COUNTA(Drawing!$D36:$E36),\"-\")","v":"-"},{"$f":"IF(Drawing!$Q36='Lookup Tables'!$K$20,COUNTA(Drawing!$N36:$O36),\"-\")","v":"-"},{"$f":"IF(Drawing!$G88='Lookup Tables'!$K$20,COUNTA(Drawing!$D88:$E88),\"-\")","v":"-"},{"$f":"IF(Drawing!$Q88='Lookup Tables'!$K$20,COUNTA(Drawing!$N88:$O88),\"-\")","v":"-"}]
[null,"065",8.5,null,"7/8\"",null,null,{"$f":"COUNTIF(Drawing!$D$25:$E$65,I17)+COUNTIF(Drawing!$N$25:$O$65,I17)+COUNTIF(Drawing!$D$77:$E$131,I17)+COUNTIF(Drawing!$N$77:$O$131,I17)","v":0},6,null,"CIRCULAR HOLE 2\"",null,{"$f":"IF(Drawing!$G37='Lookup Tables'!$M$3,COUNTA(Drawing!$D37:$E37),\"-\")","v":"-"},{"$f":"IF(Drawing!$Q37='Lookup Tables'!$M$3,COUNTA(Drawing!$N37:$O37),\"-\")","v":"-"},{"$f":"IF(Drawing!$G89='Lookup Tables'!$M$3,COUNTA(Drawing!$D89:$E89),\"-\")","v":"-"},{"$f":"IF(Drawing!$Q89='Lookup Tables'!$M$3,COUNTA(Drawing!$N89:$O89),\"-\")","v":"-"},null,{"$f":"IF(Drawing!$G37='Lookup Tables'!$R$3,COUNTA(Drawing!$D37:$E37),\"-\")","v":"-"},{"$f":"IF(Drawing!$Q37='Lookup Tables'!$R$3,COUNTA(Drawing!$N37:$O37),\"-\")","v":"-"},{"$f":"IF(Drawing!$G89='Lookup Tables'!$R$3,COUNTA(Drawing!$D89:$E89),\"-\")","v":"-"},{"$f":"IF(Drawing!$Q89='Lookup Tables'!$R$3,COUNTA(Drawing!$N89:$O89),\"-\")","v":"-"},null,{"$f":"IF(Drawing!$G37='Lookup Tables'!$K$12,COUNTA(Drawing!$D37:$E37),\"-\")","v":"-"},{"$f":"IF(Drawing!$Q37='Lookup Tables'!$K$12,COUNTA(Drawing!$N37:$O37),\"-\")","v":"-"},{"$f":"IF(Drawing!$G89='Lookup Tables'!$K$12,COUNTA(Drawing!$D89:$E89),\"-\")","v":"-"},{"$f":"IF(Drawing!$Q89='Lookup Tables'!$K$12,COUNTA(Drawing!$N89:$O89),\"-\")","v":"-"},null,{"$f":"IF(Drawing!$G37='Lookup Tables'!$K$11,COUNTA(Drawing!$D37:$E37),\"-\")","v":"-"},{"$f":"IF(Drawing!$Q37='Lookup Tables'!$K$11,COUNTA(Drawing!$N37:$O37),\"-\")","v":"-"},{"$f":"IF(Drawing!$G89='Lookup Tables'!$K$11,COUNTA(Drawing!$D89:$E89),\"-\")","v":"-"},{"$f":"IF(Drawing!$Q89='Lookup Tables'!$K$11,COUNTA(Drawing!$N89:$O89),\"-\")","v":"-"},null,{"$f":"IF(Drawing!$G37='Lookup Tables'!$K$20,COUNTA(Drawing!$D37:$E37),\"-\")","v":"-"},{"$f":"IF(Drawing!$Q37='Lookup Tables'!$K$20,COUNTA(Drawing!$N37:$O37),\"-\")","v":"-"},{"$f":"IF(Drawing!$G89='Lookup Tables'!$K$20,COUNTA(Drawing!$D89:$E89),\"-\")","v":"-"},{"$f":"IF(Drawing!$Q89='Lookup Tables'!$K$20,COUNTA(Drawing!$N89:$O89),\"-\")","v":"-"}]
[null,"070",9,null,"9/16\"",null,null,{"$f":"COUNTIF(Drawing!$D$25:$E$65,I18)+COUNTIF(Drawing!$N$25:$O$65,I18)+COUNTIF(Drawing!$D$77:$E$131,I18)+COUNTIF(Drawing!$N$77:$O$131,I18)","v":0},7,null,"3/4\" TAP",null,{"$f":"IF(Drawing!$G38='Lookup Tables'!$M$3,COUNTA(Drawing!$D38:$E38),\"-\")","v":"-"},{"$f":"IF(Drawing!$Q38='Lookup Tables'!$M$3,COUNTA(Drawing!$N38:$O38),\"-\")","v":"-"},{"$f":"IF(Drawing!$G90='Lookup Tables'!$M$3,COUNTA(Drawing!$D90:$E90),\"-\")","v":"-"},{"$f":"IF(Drawing!$Q90='Lookup Tables'!$M$3,COUNTA(Drawing!$N90:$O90),\"-\")","v":"-"},null,{"$f":"IF(Drawing!$G38='Lookup Tables'!$R$3,COUNTA(Drawing!$D38:$E38),\"-\")","v":"-"},{"$f":"IF(Drawing!$Q38='Lookup Tables'!$R$3,COUNTA(Drawing!$N38:$O38),\"-\")","v":"-"},{"$f":"IF(Drawing!$G90='Lookup Tables'!$R$3,COUNTA(Drawing!$D90:$E90),\"-\")","v":"-"},{"$f":"IF(Drawing!$Q90='Lookup Tables'!$R$3,COUNTA(Drawing!$N90:$O90),\"-\")","v":"-"},null,{"$f":"IF(Drawing!$G38='Lookup Tables'!$K$12,COUNTA(Drawing!$D38:$E38),\"-\")","v":"-"},{"$f":"IF(Drawing!$Q38='Lookup Tables'!$K$12,COUNTA(Drawing!$N38:$O38),\"-\")","v":"-"},{"$f":"IF(Drawing!$G90='Lookup Tables'!$K$12,COUNTA(Drawing!$D90:$E90),\"-\")","v":"-"},{"$f":"IF(Drawing!$Q90='Lookup Tables'!$K$12,COUNTA(Drawing!$N90:$O90),\"-\")","v":"-"},null,{"$f":"IF(Drawing!$G38='Lookup Tables'!$K$11,COUNTA(Drawing!$D38:$E38),\"-\")","v":"-"},{"$f":"IF(Drawing!$Q38='Lookup Tables'!$K$11,COUNTA(Drawing!$N38:$O38),\"-\")","v":"-"},{"$f":"IF(Drawing!$G90='Lookup Tables'!$K$11,COUNTA(Drawing!$D90:$E90),\"-\")","v":"-"},{"$f":"IF(Drawing!$Q90='Lookup Tables'!$K$11,COUNTA(Drawing!$N90:$O90),\"-\")","v":"-"},null,{"$f":"IF(Drawing!$G38='Lookup Tables'!$K$20,COUNTA(Drawing!$D38:$E38),\"-\")","v":"-"},{"$f":"IF(Drawing!$Q38='Lookup Tables'!$K$20,COUNTA(Drawing!$N38:$O38),\"-\")","v":"-"},{"$f":"IF(Drawing!$G90='Lookup Tables'!$K$20,COUNTA(Drawing!$D90:$E90),\"-\")","v":"-"},{"$f":"IF(Drawing!$Q90='Lookup Tables'!$K$20,COUNTA(Drawing!$N90:$O90),\"-\")","v":"-"}]
[null,"075",9.5,null,"7/32\"",null,null,{"$f":"COUNTIF(Drawing!$D$25:$E$65,I19)+COUNTIF(Drawing!$N$25:$O$65,I19)+COUNTIF(Drawing!$D$77:$E$131,I19)+COUNTIF(Drawing!$N$77:$O$131,I19)","v":0},8,null,"5/8\" TAP",null,{"$f":"IF(Drawing!$G39='Lookup Tables'!$M$3,COUNTA(Drawing!$D39:$E39),\"-\")","v":"-"},{"$f":"IF(Drawing!$Q39='Lookup Tables'!$M$3,COUNTA(Drawing!$N39:$O39),\"-\")","v":"-"},{"$f":"IF(Drawing!$G91='Lookup Tables'!$M$3,COUNTA(Drawing!$D91:$E91),\"-\")","v":"-"},{"$f":"IF(Drawing!$Q91='Lookup Tables'!$M$3,COUNTA(Drawing!$N91:$O91),\"-\")","v":"-"},null,{"$f":"IF(Drawing!$G39='Lookup Tables'!$R$3,COUNTA(Drawing!$D39:$E39),\"-\")","v":"-"},{"$f":"IF(Drawing!$Q39='Lookup Tables'!$R$3,COUNTA(Drawing!$N39:$O39),\"-\")","v":"-"},{"$f":"IF(Drawing!$G91='Lookup Tables'!$R$3,COUNTA(Drawing!$D91:$E91),\"-\")","v":"-"},{"$f":"IF(Drawing!$Q91='Lookup Tables'!$R$3,COUNTA(Drawing!$N91:$O91),\"-\")","v":"-"},null,{"$f":"IF(Drawing!$G39='Lookup Tables'!$K$12,COUNTA(Drawing!$D39:$E39),\"-\")","v":"-"},{"$f":"IF(Drawing!$Q39='Lookup Tables'!$K$12,COUNTA(Drawing!$N39:$O39),\"-\")","v":"-"},{"$f":"IF(Drawing!$G91='Lookup Tables'!$K$12,COUNTA(Drawing!$D91:$E91),\"-\")","v":"-"},{"$f":"IF(Drawing!$Q91='Lookup Tables'!$K$12,COUNTA(Drawing!$N91:$O91),\"-\")","v":"-"},null,{"$f":"IF(Drawing!$G39='Lookup Tables'!$K$11,COUNTA(Drawing!$D39:$E39),\"-\")","v":"-"},{"$f":"IF(Drawing!$Q39='Lookup Tables'!$K$11,COUNTA(Drawing!$N39:$O39),\"-\")","v":"-"},{"$f":"IF(Drawing!$G91='Lookup Tables'!$K$11,COUNTA(Drawing!$D91:$E91),\"-\")","v":"-"},{"$f":"IF(Drawing!$Q91='Lookup Tables'!$K$11,COUNTA(Drawing!$N91:$O91),\"-\")","v":"-"},null,{"$f":"IF(Drawing!$G39='Lookup Tables'!$K$20,COUNTA(Drawing!$D39:$E39),\"-\")","v":"-"},{"$f":"IF(Drawing!$Q39='Lookup Tables'!$K$20,COUNTA(Drawing!$N39:$O39),\"-\")","v":"-"},{"$f":"IF(Drawing!$G91='Lookup Tables'!$K$20,COUNTA(Drawing!$D91:$E91),\"-\")","v":"-"},{"$f":"IF(Drawing!$Q91='Lookup Tables'!$K$20,COUNTA(Drawing!$N91:$O91),\"-\")","v":"-"}]
[null,"080",10,null,"5/8\"",null,null,{"$f":"COUNTIF(Drawing!$D$25:$E$65,I20)+COUNTIF(Drawing!$N$25:$O$65,I20)+COUNTIF(Drawing!$D$77:$E$131,I20)+COUNTIF(Drawing!$N$77:$O$131,I20)","v":0},9,null,"1/4\" TAP",null,{"$f":"IF(Drawing!$G40='Lookup Tables'!$M$3,COUNTA(Drawing!$D40:$E40),\"-\")","v":"-"},{"$f":"IF(Drawing!$Q40='Lookup Tables'!$M$3,COUNTA(Drawing!$N40:$O40),\"-\")","v":"-"},{"$f":"IF(Drawing!$G92='Lookup Tables'!$M$3,COUNTA(Drawing!$D92:$E92),\"-\")","v":"-"},{"$f":"IF(Drawing!$Q92='Lookup Tables'!$M$3,COUNTA(Drawing!$N92:$O92),\"-\")","v":"-"},null,{"$f":"IF(Drawing!$G40='Lookup Tables'!$R$3,COUNTA(Drawing!$D40:$E40),\"-\")","v":"-"},{"$f":"IF(Drawing!$Q40='Lookup Tables'!$R$3,COUNTA(Drawing!$N40:$O40),\"-\")","v":"-"},{"$f":"IF(Drawing!$G92='Lookup Tables'!$R$3,COUNTA(Drawing!$D92:$E92),\"-\")","v":"-"},{"$f":"IF(Drawing!$Q92='Lookup Tables'!$R$3,COUNTA(Drawing!$N92:$O92),\"-\")","v":"-"},null,{"$f":"IF(Drawing!$G40='Lookup Tables'!$K$12,COUNTA(Drawing!$D40:$E40),\"-\")","v":"-"},{"$f":"IF(Drawing!$Q40='Lookup Tables'!$K$12,COUNTA(Drawing!$N40:$O40),\"-\")","v":"-"},{"$f":"IF(Drawing!$G92='Lookup Tables'!$K$12,COUNTA(Drawing!$D92:$E92),\"-\")","v":"-"},{"$f":"IF(Drawing!$Q92='Lookup Tables'!$K$12,COUNTA(Drawing!$N92:$O92),\"-\")","v":"-"},null,{"$f":"IF(Drawing!$G40='Lookup Tables'!$K$11,COUNTA(Drawing!$D40:$E40),\"-\")","v":"-"},{"$f":"IF(Drawing!$Q40='Lookup Tables'!$K$11,COUNTA(Drawing!$N40:$O40),\"-\")","v":"-"},{"$f":"IF(Drawing!$G92='Lookup Tables'!$K$11,COUNTA(Drawing!$D92:$E92),\"-\")","v":"-"},{"$f":"IF(Drawing!$Q92='Lookup Tables'!$K$11,COUNTA(Drawing!$N92:$O92),\"-\")","v":"-"},null,{"$f":"IF(Drawing!$G40='Lookup Tables'!$K$20,COUNTA(Drawing!$D40:$E40),\"-\")","v":"-"},{"$f":"IF(Drawing!$Q40='Lookup Tables'!$K$20,COUNTA(Drawing!$N40:$O40),\"-\")","v":"-"},{"$f":"IF(Drawing!$G92='Lookup Tables'!$K$20,COUNTA(Drawing!$D92:$E92),\"-\")","v":"-"},{"$f":"IF(Drawing!$Q92='Lookup Tables'!$K$20,COUNTA(Drawing!$N92:$O92),\"-\")","v":"-"}]
[null,"085",10.5,null,"1/2\"",null,null,{"$f":"COUNTIF(Drawing!$D$25:$E$65,I21)+COUNTIF(Drawing!$N$25:$O$65,I21)+COUNTIF(Drawing!$D$77:$E$131,I21)+COUNTIF(Drawing!$N$77:$O$131,I21)","v":0},10,null,"1/2\" TAP (Step)",null,{"$f":"IF(Drawing!$G41='Lookup Tables'!$M$3,COUNTA(Drawing!$D41:$E41),\"-\")","v":"-"},{"$f":"IF(Drawing!$Q41='Lookup Tables'!$M$3,COUNTA(Drawing!$N41:$O41),\"-\")","v":"-"},{"$f":"IF(Drawing!$G93='Lookup Tables'!$M$3,COUNTA(Drawing!$D93:$E93),\"-\")","v":"-"},{"$f":"IF(Drawing!$Q93='Lookup Tables'!$M$3,COUNTA(Drawing!$N93:$O93),\"-\")","v":"-"},null,{"$f":"IF(Drawing!$G41='Lookup Tables'!$R$3,COUNTA(Drawing!$D41:$E41),\"-\")","v":"-"},{"$f":"IF(Drawing!$Q41='Lookup Tables'!$R$3,COUNTA(Drawing!$N41:$O41),\"-\")","v":"-"},{"$f":"IF(Drawing!$G93='Lookup Tables'!$R$3,COUNTA(Drawing!$D93:$E93),\"-\")","v":"-"},{"$f":"IF(Drawing!$Q93='Lookup Tables'!$R$3,COUNTA(Drawing!$N93:$O93),\"-\")","v":"-"},null,{"$f":"IF(Drawing!$G41='Lookup Tables'!$K$12,COUNTA(Drawing!$D41:$E41),\"-\")","v":"-"},{"$f":"IF(Drawing!$Q41='Lookup Tables'!$K$12,COUNTA(Drawing!$N41:$O41),\"-\")","v":"-"},{"$f":"IF(Drawing!$G93='Lookup Tables'!$K$12,COUNTA(Drawing!$D93:$E93),\"-\")","v":"-"},{"$f":"IF(Drawing!$Q93='Lookup Tables'!$K$12,COUNTA(Drawing!$N93:$O93),\"-\")","v":"-"},null,{"$f":"IF(Drawing!$G41='Lookup Tables'!$K$11,COUNTA(Drawing!$D41:$E41),\"-\")","v":"-"},{"$f":"IF(Drawing!$Q41='Lookup Tables'!$K$11,COUNTA(Drawing!$N41:$O41),\"-\")","v":"-"},{"$f":"IF(Drawing!$G93='Lookup Tables'!$K$11,COUNTA(Drawing!$D93:$E93),\"-\")","v":"-"},{"$f":"IF(Drawing!$Q93='Lookup Tables'!$K$11,COUNTA(Drawing!$N93:$O93),\"-\")","v":"-"},null,{"$f":"IF(Drawing!$G41='Lookup Tables'!$K$20,COUNTA(Drawing!$D41:$E41),\"-\")","v":"-"},{"$f":"IF(Drawing!$Q41='Lookup Tables'!$K$20,COUNTA(Drawing!$N41:$O41),\"-\")","v":"-"},{"$f":"IF(Drawing!$G93='Lookup Tables'!$K$20,COUNTA(Drawing!$D93:$E93),\"-\")","v":"-"},{"$f":"IF(Drawing!$Q93='Lookup Tables'!$K$20,COUNTA(Drawing!$N93:$O93),\"-\")","v":"-"}]
[null,"090",11,null,"21/32\"",null,null,{"$f":"COUNTIF(Drawing!$D$25:$E$65,I22)+COUNTIF(Drawing!$N$25:$O$65,I22)+COUNTIF(Drawing!$D$77:$E$131,I22)+COUNTIF(Drawing!$N$77:$O$131,I22)","v":0},11,null,"3/4\" TAP (Step)",null,{"$f":"IF(Drawing!$G42='Lookup Tables'!$M$3,COUNTA(Drawing!$D42:$E42),\"-\")","v":"-"},{"$f":"IF(Drawing!$Q42='Lookup Tables'!$M$3,COUNTA(Drawing!$N42:$O42),\"-\")","v":"-"},{"$f":"IF(Drawing!$G94='Lookup Tables'!$M$3,COUNTA(Drawing!$D94:$E94),\"-\")","v":"-"},{"$f":"IF(Drawing!$Q94='Lookup Tables'!$M$3,COUNTA(Drawing!$N94:$O94),\"-\")","v":"-"},null,{"$f":"IF(Drawing!$G42='Lookup Tables'!$R$3,COUNTA(Drawing!$D42:$E42),\"-\")","v":"-"},{"$f":"IF(Drawing!$Q42='Lookup Tables'!$R$3,COUNTA(Drawing!$N42:$O42),\"-\")","v":"-"},{"$f":"IF(Drawing!$G94='Lookup Tables'!$R$3,COUNTA(Drawing!$D94:$E94),\"-\")","v":"-"},{"$f":"IF(Drawing!$Q94='Lookup Tables'!$R$3,COUNTA(Drawing!$N94:$O94),\"-\")","v":"-"},null,{"$f":"IF(Drawing!$G42='Lookup Tables'!$K$12,COUNTA(Drawing!$D42:$E42),\"-\")","v":"-"},{"$f":"IF(Drawing!$Q42='Lookup Tables'!$K$12,COUNTA(Drawing!$N42:$O42),\"-\")","v":"-"},{"$f":"IF(Drawing!$G94='Lookup Tables'!$K$12,COUNTA(Drawing!$D94:$E94),\"-\")","v":"-"},{"$f":"IF(Drawing!$Q94='Lookup Tables'!$K$12,COUNTA(Drawing!$N94:$O94),\"-\")","v":"-"},null,{"$f":"IF(Drawing!$G42='Lookup Tables'!$K$11,COUNTA(Drawing!$D42:$E42),\"-\")","v":"-"},{"$f":"IF(Drawing!$Q42='Lookup Tables'!$K$11,COUNTA(Drawing!$N42:$O42),\"-\")","v":"-"},{"$f":"IF(Drawing!$G94='Lookup Tables'!$K$11,COUNTA(Drawing!$D94:$E94),\"-\")","v":"-"},{"$f":"IF(Drawing!$Q94='Lookup Tables'!$K$11,COUNTA(Drawing!$N94:$O94),\"-\")","v":"-"},null,{"$f":"IF(Drawing!$G42='Lookup Tables'!$K$20,COUNTA(Drawing!$D42:$E42),\"-\")","v":"-"},{"$f":"IF(Drawing!$Q42='Lookup Tables'!$K$20,COUNTA(Drawing!$N42:$O42),\"-\")","v":"-"},{"$f":"IF(Drawing!$G94='Lookup Tables'!$K$20,COUNTA(Drawing!$D94:$E94),\"-\")","v":"-"},{"$f":"IF(Drawing!$Q94='Lookup Tables'!$K$20,COUNTA(Drawing!$N94:$O94),\"-\")","v":"-"}]
[null,"095",11.5,null,"1-1/16\"",null,null,{"$f":"COUNTIF(Drawing!$D$25:$E$65,I23)+COUNTIF(Drawing!$N$25:$O$65,I23)+COUNTIF(Drawing!$D$77:$E$131,I23)+COUNTIF(Drawing!$N$77:$O$131,I23)","v":0},12,null,"LADDER CLIP",null,{"$f":"IF(Drawing!$G43='Lookup Tables'!$M$3,COUNTA(Drawing!$D43:$E43),\"-\")","v":"-"},{"$f":"IF(Drawing!$Q43='Lookup Tables'!$M$3,COUNTA(Drawing!$N43:$O43),\"-\")","v":"-"},{"$f":"IF(Drawing!$G95='Lookup Tables'!$M$3,COUNTA(Drawing!$D95:$E95),\"-\")","v":"-"},{"$f":"IF(Drawing!$Q95='Lookup Tables'!$M$3,COUNTA(Drawing!$N95:$O95),\"-\")","v":"-"},null,{"$f":"IF(Drawing!$G43='Lookup Tables'!$R$3,COUNTA(Drawing!$D43:$E43),\"-\")","v":"-"},{"$f":"IF(Drawing!$Q43='Lookup Tables'!$R$3,COUNTA(Drawing!$N43:$O43),\"-\")","v":"-"},{"$f":"IF(Drawing!$G95='Lookup Tables'!$R$3,COUNTA(Drawing!$D95:$E95),\"-\")","v":"-"},{"$f":"IF(Drawing!$Q95='Lookup Tables'!$R$3,COUNTA(Drawing!$N95:$O95),\"-\")","v":"-"},null,{"$f":"IF(Drawing!$G43='Lookup Tables'!$K$12,COUNTA(Drawing!$D43:$E43),\"-\")","v":"-"},{"$f":"IF(Drawing!$Q43='Lookup Tables'!$K$12,COUNTA(Drawing!$N43:$O43),\"-\")","v":"-"},{"$f":"IF(Drawing!$G95='Lookup Tables'!$K$12,COUNTA(Drawing!$D95:$E95),\"-\")","v":"-"},{"$f":"IF(Drawing!$Q95='Lookup Tables'!$K$12,COUNTA(Drawing!$N95:$O95),\"-\")","v":"-"},null,{"$f":"IF(Drawing!$G43='Lookup Tables'!$K$11,COUNTA(Drawing!$D43:$E43),\"-\")","v":"-"},{"$f":"IF(Drawing!$Q43='Lookup Tables'!$K$11,COUNTA(Drawing!$N43:$O43),\"-\")","v":"-"},{"$f":"IF(Drawing!$G95='Lookup Tables'!$K$11,COUNTA(Drawing!$D95:$E95),\"-\")","v":"-"},{"$f":"IF(Drawing!$Q95='Lookup Tables'!$K$11,COUNTA(Drawing!$N95:$O95),\"-\")","v":"-"},null,{"$f":"IF(Drawing!$G43='Lookup Tables'!$K$20,COUNTA(Drawing!$D43:$E43),\"-\")","v":"-"},{"$f":"IF(Drawing!$Q43='Lookup Tables'!$K$20,COUNTA(Drawing!$N43:$O43),\"-\")","v":"-"},{"$f":"IF(Drawing!$G95='Lookup Tables'!$K$20,COUNTA(Drawing!$D95:$E95),\"-\")","v":"-"},{"$f":"IF(Drawing!$Q95='Lookup Tables'!$K$20,COUNTA(Drawing!$N95:$O95),\"-\")","v":"-"}]
[null,"100",12,null,"1-1/8\"",null,null,{"$f":"COUNTIF(Drawing!$D$25:$E$65,I24)+COUNTIF(Drawing!$N$25:$O$65,I24)+COUNTIF(Drawing!$D$77:$E$131,I24)+COUNTIF(Drawing!$N$77:$O$131,I24)","v":0},13,null,"1/2\" SS RIVNUT",null,{"$f":"IF(Drawing!$G44='Lookup Tables'!$M$3,COUNTA(Drawing!$D44:$E44),\"-\")","v":"-"},{"$f":"IF(Drawing!$Q44='Lookup Tables'!$M$3,COUNTA(Drawing!$N44:$O44),\"-\")","v":"-"},{"$f":"IF(Drawing!$G96='Lookup Tables'!$M$3,COUNTA(Drawing!$D96:$E96),\"-\")","v":"-"},{"$f":"IF(Drawing!$Q96='Lookup Tables'!$M$3,COUNTA(Drawing!$N96:$O96),\"-\")","v":"-"},null,{"$f":"IF(Drawing!$G44='Lookup Tables'!$R$3,COUNTA(Drawing!$D44:$E44),\"-\")","v":"-"},{"$f":"IF(Drawing!$Q44='Lookup Tables'!$R$3,COUNTA(Drawing!$N44:$O44),\"-\")","v":"-"},{"$f":"IF(Drawing!$G96='Lookup Tables'!$R$3,COUNTA(Drawing!$D96:$E96),\"-\")","v":"-"},{"$f":"IF(Drawing!$Q96='Lookup Tables'!$R$3,COUNTA(Drawing!$N96:$O96),\"-\")","v":"-"},null,{"$f":"IF(Drawing!$G44='Lookup Tables'!$K$12,COUNTA(Drawing!$D44:$E44),\"-\")","v":"-"},{"$f":"IF(Drawing!$Q44='Lookup Tables'!$K$12,COUNTA(Drawing!$N44:$O44),\"-\")","v":"-"},{"$f":"IF(Drawing!$G96='Lookup Tables'!$K$12,COUNTA(Drawing!$D96:$E96),\"-\")","v":"-"},{"$f":"IF(Drawing!$Q96='Lookup Tables'!$K$12,COUNTA(Drawing!$N96:$O96),\"-\")","v":"-"},null,{"$f":"IF(Drawing!$G44='Lookup Tables'!$K$11,COUNTA(Drawing!$D44:$E44),\"-\")","v":"-"},{"$f":"IF(Drawing!$Q44='Lookup Tables'!$K$11,COUNTA(Drawing!$N44:$O44),\"-\")","v":"-"},{"$f":"IF(Drawing!$G96='Lookup Tables'!$K$11,COUNTA(Drawing!$D96:$E96),\"-\")","v":"-"},{"$f":"IF(Drawing!$Q96='Lookup Tables'!$K$11,COUNTA(Drawing!$N96:$O96),\"-\")","v":"-"},null,{"$f":"IF(Drawing!$G44='Lookup Tables'!$K$20,COUNTA(Drawing!$D44:$E44),\"-\")","v":"-"},{"$f":"IF(Drawing!$Q44='Lookup Tables'!$K$20,COUNTA(Drawing!$N44:$O44),\"-\")","v":"-"},{"$f":"IF(Drawing!$G96='Lookup Tables'!$K$20,COUNTA(Drawing!$D96:$E96),\"-\")","v":"-"},{"$f":"IF(Drawing!$Q96='Lookup Tables'!$K$20,COUNTA(Drawing!$N96:$O96),\"-\")","v":"-"}]
[null,"105",12.5,null,"1-3/16\"",null,null,{"$f":"COUNTIF(Drawing!$D$25:$E$65,I25)+COUNTIF(Drawing!$N$25:$O$65,I25)+COUNTIF(Drawing!$D$77:$E$131,I25)+COUNTIF(Drawing!$N$77:$O$131,I25)","v":0},14,null,"SS PIN JOINT",null,{"$f":"IF(Drawing!$G45='Lookup Tables'!$M$3,COUNTA(Drawing!$D45:$E45),\"-\")","v":"-"},{"$f":"IF(Drawing!$Q45='Lookup Tables'!$M$3,COUNTA(Drawing!$N45:$O45),\"-\")","v":"-"},{"$f":"IF(Drawing!$G97='Lookup Tables'!$M$3,COUNTA(Drawing!$D97:$E97),\"-\")","v":"-"},{"$f":"IF(Drawing!$Q97='Lookup Tables'!$M$3,COUNTA(Drawing!$N97:$O97),\"-\")","v":"-"},null,{"$f":"IF(Drawing!$G45='Lookup Tables'!$R$3,COUNTA(Drawing!$D45:$E45),\"-\")","v":"-"},{"$f":"IF(Drawing!$Q45='Lookup Tables'!$R$3,COUNTA(Drawing!$N45:$O45),\"-\")","v":"-"},{"$f":"IF(Drawing!$G97='Lookup Tables'!$R$3,COUNTA(Drawing!$D97:$E97),\"-\")","v":"-"},{"$f":"IF(Drawing!$Q97='Lookup Tables'!$R$3,COUNTA(Drawing!$N97:$O97),\"-\")","v":"-"},null,{"$f":"IF(Drawing!$G45='Lookup Tables'!$K$12,COUNTA(Drawing!$D45:$E45),\"-\")","v":"-"},{"$f":"IF(Drawing!$Q45='Lookup Tables'!$K$12,COUNTA(Drawing!$N45:$O45),\"-\")","v":"-"},{"$f":"IF(Drawing!$G97='Lookup Tables'!$K$12,COUNTA(Drawing!$D97:$E97),\"-\")","v":"-"},{"$f":"IF(Drawing!$Q97='Lookup Tables'!$K$12,COUNTA(Drawing!$N97:$O97),\"-\")","v":"-"},null,{"$f":"IF(Drawing!$G45='Lookup Tables'!$K$11,COUNTA(Drawing!$D45:$E45),\"-\")","v":"-"},{"$f":"IF(Drawing!$Q45='Lookup Tables'!$K$11,COUNTA(Drawing!$N45:$O45),\"-\")","v":"-"},{"$f":"IF(Drawing!$G97='Lookup Tables'!$K$11,COUNTA(Drawing!$D97:$E97),\"-\")","v":"-"},{"$f":"IF(Drawing!$Q97='Lookup Tables'!$K$11,COUNTA(Drawing!$N97:$O97),\"-\")","v":"-"},null,{"$f":"IF(Drawing!$G45='Lookup Tables'!$K$20,COUNTA(Drawing!$D45:$E45),\"-\")","v":"-"},{"$f":"IF(Drawing!$Q45='Lookup Tables'!$K$20,COUNTA(Drawing!$N45:$O45),\"-\")","v":"-"},{"$f":"IF(Drawing!$G97='Lookup Tables'!$K$20,COUNTA(Drawing!$D97:$E97),\"-\")","v":"-"},{"$f":"IF(Drawing!$Q97='Lookup Tables'!$K$20,COUNTA(Drawing!$N97:$O97),\"-\")","v":"-"}]
[null,"110",13,null,"1-1/4\"",null,null,{"$f":"COUNTIF(Drawing!$D$25:$E$65,I26)+COUNTIF(Drawing!$N$25:$O$65,I26)+COUNTIF(Drawing!$D$77:$E$131,I26)+COUNTIF(Drawing!$N$77:$O$131,I26)","v":0},15,null,null,null,{"$f":"IF(Drawing!$G46='Lookup Tables'!$M$3,COUNTA(Drawing!$D46:$E46),\"-\")","v":"-"},{"$f":"IF(Drawing!$Q46='Lookup Tables'!$M$3,COUNTA(Drawing!$N46:$O46),\"-\")","v":"-"},{"$f":"IF(Drawing!$G98='Lookup Tables'!$M$3,COUNTA(Drawing!$D98:$E98),\"-\")","v":"-"},{"$f":"IF(Drawing!$Q98='Lookup Tables'!$M$3,COUNTA(Drawing!$N98:$O98),\"-\")","v":"-"},null,{"$f":"IF(Drawing!$G46='Lookup Tables'!$R$3,COUNTA(Drawing!$D46:$E46),\"-\")","v":"-"},{"$f":"IF(Drawing!$Q46='Lookup Tables'!$R$3,COUNTA(Drawing!$N46:$O46),\"-\")","v":"-"},{"$f":"IF(Drawing!$G98='Lookup Tables'!$R$3,COUNTA(Drawing!$D98:$E98),\"-\")","v":"-"},{"$f":"IF(Drawing!$Q98='Lookup Tables'!$R$3,COUNTA(Drawing!$N98:$O98),\"-\")","v":"-"},null,{"$f":"IF(Drawing!$G46='Lookup Tables'!$K$12,COUNTA(Drawing!$D46:$E46),\"-\")","v":"-"},{"$f":"IF(Drawing!$Q46='Lookup Tables'!$K$12,COUNTA(Drawing!$N46:$O46),\"-\")","v":"-"},{"$f":"IF(Drawing!$G98='Lookup Tables'!$K$12,COUNTA(Drawing!$D98:$E98),\"-\")","v":"-"},{"$f":"IF(Drawing!$Q98='Lookup Tables'!$K$12,COUNTA(Drawing!$N98:$O98),\"-\")","v":"-"},null,{"$f":"IF(Drawing!$G46='Lookup Tables'!$K$11,COUNTA(Drawing!$D46:$E46),\"-\")","v":"-"},{"$f":"IF(Drawing!$Q46='Lookup Tables'!$K$11,COUNTA(Drawing!$N46:$O46),\"-\")","v":"-"},{"$f":"IF(Drawing!$G98='Lookup Tables'!$K$11,COUNTA(Drawing!$D98:$E98),\"-\")","v":"-"},{"$f":"IF(Drawing!$Q98='Lookup Tables'!$K$11,COUNTA(Drawing!$N98:$O98),\"-\")","v":"-"},null,{"$f":"IF(Drawing!$G46='Lookup Tables'!$K$20,COUNTA(Drawing!$D46:$E46),\"-\")","v":"-"},{"$f":"IF(Drawing!$Q46='Lookup Tables'!$K$20,COUNTA(Drawing!$N46:$O46),\"-\")","v":"-"},{"$f":"IF(Drawing!$G98='Lookup Tables'!$K$20,COUNTA(Drawing!$D98:$E98),\"-\")","v":"-"},{"$f":"IF(Drawing!$Q98='Lookup Tables'!$K$20,COUNTA(Drawing!$N98:$O98),\"-\")","v":"-"}]
[null,null,null,null,"1-5/16\"",null,null,{"$f":"COUNTIF(Drawing!$D$25:$E$65,I27)+COUNTIF(Drawing!$N$25:$O$65,I27)+COUNTIF(Drawing!$D$77:$E$131,I27)+COUNTIF(Drawing!$N$77:$O$131,I27)","v":0},16,null,null,null,{"$f":"IF(Drawing!$G47='Lookup Tables'!$M$3,COUNTA(Drawing!$D47:$E47),\"-\")","v":"-"},{"$f":"IF(Drawing!$Q47='Lookup Tables'!$M$3,COUNTA(Drawing!$N47:$O47),\"-\")","v":"-"},{"$f":"IF(Drawing!$G99='Lookup Tables'!$M$3,COUNTA(Drawing!$D99:$E99),\"-\")","v":"-"},{"$f":"IF(Drawing!$Q99='Lookup Tables'!$M$3,COUNTA(Drawing!$N99:$O99),\"-\")","v":"-"},null,{"$f":"IF(Drawing!$G47='Lookup Tables'!$R$3,COUNTA(Drawing!$D47:$E47),\"-\")","v":"-"},{"$f":"IF(Drawing!$Q47='Lookup Tables'!$R$3,COUNTA(Drawing!$N47:$O47),\"-\")","v":"-"},{"$f":"IF(Drawing!$G99='Lookup Tables'!$R$3,COUNTA(Drawing!$D99:$E99),\"-\")","v":"-"},{"$f":"IF(Drawing!$Q99='Lookup Tables'!$R$3,COUNTA(Drawing!$N99:$O99),\"-\")","v":"-"},null,{"$f":"IF(Drawing!$G47='Lookup Tables'!$K$12,COUNTA(Drawing!$D47:$E47),\"-\")","v":"-"},{"$f":"IF(Drawing!$Q47='Lookup Tables'!$K$12,COUNTA(Drawing!$N47:$O47),\"-\")","v":"-"},{"$f":"IF(Drawing!$G99='Lookup Tables'!$K$12,COUNTA(Drawing!$D99:$E99),\"-\")","v":"-"},{"$f":"IF(Drawing!$Q99='Lookup Tables'!$K$12,COUNTA(Drawing!$N99:$O99),\"-\")","v":"-"},null,{"$f":"IF(Drawing!$G47='Lookup Tables'!$K$11,COUNTA(Drawing!$D47:$E47),\"-\")","v":"-"},{"$f":"IF(Drawing!$Q47='Lookup Tables'!$K$11,COUNTA(Drawing!$N47:$O47),\"-\")","v":"-"},{"$f":"IF(Drawing!$G99='Lookup Tables'!$K$11,COUNTA(Drawing!$D99:$E99),\"-\")","v":"-"},{"$f":"IF(Drawing!$Q99='Lookup Tables'!$K$11,COUNTA(Drawing!$N99:$O99),\"-\")","v":"-"},null,{"$f":"IF(Drawing!$G47='Lookup Tables'!$K$20,COUNTA(Drawing!$D47:$E47),\"-\")","v":"-"},{"$f":"IF(Drawing!$Q47='Lookup Tables'!$K$20,COUNTA(Drawing!$N47:$O47),\"-\")","v":"-"},{"$f":"IF(Drawing!$G99='Lookup Tables'!$K$20,COUNTA(Drawing!$D99:$E99),\"-\")","v":"-"},{"$f":"IF(Drawing!$Q99='Lookup Tables'!$K$20,COUNTA(Drawing!$N99:$O99),\"-\")","v":"-"}]
[null,"Class","Capacity",null,"1-3/8\"",null,null,{"$f":"COUNTIF(Drawing!$D$25:$E$65,I28)+COUNTIF(Drawing!$N$25:$O$65,I28)+COUNTIF(Drawing!$D$77:$E$131,I28)+COUNTIF(Drawing!$N$77:$O$131,I28)","v":0},17,null,null,null,{"$f":"IF(Drawing!$G48='Lookup Tables'!$M$3,COUNTA(Drawing!$D48:$E48),\"-\")","v":"-"},{"$f":"IF(Drawing!$Q48='Lookup Tables'!$M$3,COUNTA(Drawing!$N48:$O48),\"-\")","v":"-"},{"$f":"IF(Drawing!$G100='Lookup Tables'!$M$3,COUNTA(Drawing!$D100:$E100),\"-\")","v":"-"},{"$f":"IF(Drawing!$Q100='Lookup Tables'!$M$3,COUNTA(Drawing!$N100:$O100),\"-\")","v":"-"},null,{"$f":"IF(Drawing!$G48='Lookup Tables'!$R$3,COUNTA(Drawing!$D48:$E48),\"-\")","v":"-"},{"$f":"IF(Drawing!$Q48='Lookup Tables'!$R$3,COUNTA(Drawing!$N48:$O48),\"-\")","v":"-"},{"$f":"IF(Drawing!$G100='Lookup Tables'!$R$3,COUNTA(Drawing!$D100:$E100),\"-\")","v":"-"},{"$f":"IF(Drawing!$Q100='Lookup Tables'!$R$3,COUNTA(Drawing!$N100:$O100),\"-\")","v":"-"},null,{"$f":"IF(Drawing!$G48='Lookup Tables'!$K$12,COUNTA(Drawing!$D48:$E48),\"-\")","v":"-"},{"$f":"IF(Drawing!$Q48='Lookup Tables'!$K$12,COUNTA(Drawing!$N48:$O48),\"-\")","v":"-"},{"$f":"IF(Drawing!$G100='Lookup Tables'!$K$12,COUNTA(Drawing!$D100:$E100),\"-\")","v":"-"},{"$f":"IF(Drawing!$Q100='Lookup Tables'!$K$12,COUNTA(Drawing!$N100:$O100),\"-\")","v":"-"},null,{"$f":"IF(Drawing!$G48='Lookup Tables'!$K$11,COUNTA(Drawing!$D48:$E48),\"-\")","v":"-"},{"$f":"IF(Drawing!$Q48='Lookup Tables'!$K$11,COUNTA(Drawing!$N48:$O48),\"-\")","v":"-"},{"$f":"IF(Drawing!$G100='Lookup Tables'!$K$11,COUNTA(Drawing!$D100:$E100),\"-\")","v":"-"},{"$f":"IF(Drawing!$Q100='Lookup Tables'!$K$11,COUNTA(Drawing!$N100:$O100),\"-\")","v":"-"},null,{"$f":"IF(Drawing!$G48='Lookup Tables'!$K$20,COUNTA(Drawing!$D48:$E48),\"-\")","v":"-"},{"$f":"IF(Drawing!$Q48='Lookup Tables'!$K$20,COUNTA(Drawing!$N48:$O48),\"-\")","v":"-"},{"$f":"IF(Drawing!$G100='Lookup Tables'!$K$20,COUNTA(Drawing!$D100:$E100),\"-\")","v":"-"},{"$f":"IF(Drawing!$Q100='Lookup Tables'!$K$20,COUNTA(Drawing!$N100:$O100),\"-\")","v":"-"}]
[null,"C3",1950,null,"1-7/16\"",null,null,{"$f":"COUNTIF(Drawing!$D$25:$E$65,I29)+COUNTIF(Drawing!$N$25:$O$65,I29)+COUNTIF(Drawing!$D$77:$E$131,I29)+COUNTIF(Drawing!$N$77:$O$131,I29)","v":0},18,null,null,null,{"$f":"IF(Drawing!$G49='Lookup Tables'!$M$3,COUNTA(Drawing!$D49:$E49),\"-\")","v":"-"},{"$f":"IF(Drawing!$Q49='Lookup Tables'!$M$3,COUNTA(Drawing!$N49:$O49),\"-\")","v":"-"},{"$f":"IF(Drawing!$G101='Lookup Tables'!$M$3,COUNTA(Drawing!$D101:$E101),\"-\")","v":"-"},{"$f":"IF(Drawing!$Q101='Lookup Tables'!$M$3,COUNTA(Drawing!$N101:$O101),\"-\")","v":"-"},null,{"$f":"IF(Drawing!$G49='Lookup Tables'!$R$3,COUNTA(Drawing!$D49:$E49),\"-\")","v":"-"},{"$f":"IF(Drawing!$Q49='Lookup Tables'!$R$3,COUNTA(Drawing!$N49:$O49),\"-\")","v":"-"},{"$f":"IF(Drawing!$G101='Lookup Tables'!$R$3,COUNTA(Drawing!$D101:$E101),\"-\")","v":"-"},{"$f":"IF(Drawing!$Q101='Lookup Tables'!$R$3,COUNTA(Drawing!$N101:$O101),\"-\")","v":"-"},null,{"$f":"IF(Drawing!$G49='Lookup Tables'!$K$12,COUNTA(Drawing!$D49:$E49),\"-\")","v":"-"},{"$f":"IF(Drawing!$Q49='Lookup Tables'!$K$12,COUNTA(Drawing!$N49:$O49),\"-\")","v":"-"},{"$f":"IF(Drawing!$G101='Lookup Tables'!$K$12,COUNTA(Drawing!$D101:$E101),\"-\")","v":"-"},{"$f":"IF(Drawing!$Q101='Lookup Tables'!$K$12,COUNTA(Drawing!$N101:$O101),\"-\")","v":"-"},null,{"$f":"IF(Drawing!$G49='Lookup Tables'!$K$11,COUNTA(Drawing!$D49:$E49),\"-\")","v":"-"},{"$f":"IF(Drawing!$Q49='Lookup Tables'!$K$11,COUNTA(Drawing!$N49:$O49),\"-\")","v":"-"},{"$f":"IF(Drawing!$G101='Lookup Tables'!$K$11,COUNTA(Drawing!$D101:$E101),\"-\")","v":"-"},{"$f":"IF(Drawing!$Q101='Lookup Tables'!$K$11,COUNTA(Drawing!$N101:$O101),\"-\")","v":"-"},null,{"$f":"IF(Drawing!$G49='Lookup Tables'!$K$20,COUNTA(Drawing!$D49:$E49),\"-\")","v":"-"},{"$f":"IF(Drawing!$Q49='Lookup Tables'!$K$20,COUNTA(Drawing!$N49:$O49),\"-\")","v":"-"},{"$f":"IF(Drawing!$G101='Lookup Tables'!$K$20,COUNTA(Drawing!$D101:$E101),\"-\")","v":"-"},{"$f":"IF(Drawing!$Q101='Lookup Tables'!$K$20,COUNTA(Drawing!$N101:$O101),\"-\")","v":"-"}]
[null,"C2",2405,null,null,null,null,{"$f":"COUNTIF(Drawing!$D$25:$E$65,I30)+COUNTIF(Drawing!$N$25:$O$65,I30)+COUNTIF(Drawing!$D$77:$E$131,I30)+COUNTIF(Drawing!$N$77:$O$131,I30)","v":0},19,null,null,null,{"$f":"IF(Drawing!$G50='Lookup Tables'!$M$3,COUNTA(Drawing!$D50:$E50),\"-\")","v":"-"},{"$f":"IF(Drawing!$Q50='Lookup Tables'!$M$3,COUNTA(Drawing!$N50:$O50),\"-\")","v":"-"},{"$f":"IF(Drawing!$G102='Lookup Tables'!$M$3,COUNTA(Drawing!$D102:$E102),\"-\")","v":"-"},{"$f":"IF(Drawing!$Q102='Lookup Tables'!$M$3,COUNTA(Drawing!$N102:$O102),\"-\")","v":"-"},null,{"$f":"IF(Drawing!$G50='Lookup Tables'!$R$3,COUNTA(Drawing!$D50:$E50),\"-\")","v":"-"},{"$f":"IF(Drawing!$Q50='Lookup Tables'!$R$3,COUNTA(Drawing!$N50:$O50),\"-\")","v":"-"},{"$f":"IF(Drawing!$G102='Lookup Tables'!$R$3,COUNTA(Drawing!$D102:$E102),\"-\")","v":"-"},{"$f":"IF(Drawing!$Q102='Lookup Tables'!$R$3,COUNTA(Drawing!$N102:$O102),\"-\")","v":"-"},null,{"$f":"IF(Drawing!$G50='Lookup Tables'!$K$12,COUNTA(Drawing!$D50:$E50),\"-\")","v":"-"},{"$f":"IF(Drawing!$Q50='Lookup Tables'!$K$12,COUNTA(Drawing!$N50:$O50),\"-\")","v":"-"},{"$f":"IF(Drawing!$G102='Lookup Tables'!$K$12,COUNTA(Drawing!$D102:$E102),\"-\")","v":"-"},{"$f":"IF(Drawing!$Q102='Lookup Tables'!$K$12,COUNTA(Drawing!$N102:$O102),\"-\")","v":"-"},null,{"$f":"IF(Drawing!$G50='Lookup Tables'!$K$11,COUNTA(Drawing!$D50:$E50),\"-\")","v":"-"},{"$f":"IF(Drawing!$Q50='Lookup Tables'!$K$11,COUNTA(Drawing!$N50:$O50),\"-\")","v":"-"},{"$f":"IF(Drawing!$G102='Lookup Tables'!$K$11,COUNTA(Drawing!$D102:$E102),\"-\")","v":"-"},{"$f":"IF(Drawing!$Q102='Lookup Tables'!$K$11,COUNTA(Drawing!$N102:$O102),\"-\")","v":"-"},null,{"$f":"IF(Drawing!$G50='Lookup Tables'!$K$20,COUNTA(Drawing!$D50:$E50),\"-\")","v":"-"},{"$f":"IF(Drawing!$Q50='Lookup Tables'!$K$20,COUNTA(Drawing!$N50:$O50),\"-\")","v":"-"},{"$f":"IF(Drawing!$G102='Lookup Tables'!$K$20,COUNTA(Drawing!$D102:$E102),\"-\")","v":"-"},{"$f":"IF(Drawing!$Q102='Lookup Tables'!$K$20,COUNTA(Drawing!$N102:$O102),\"-\")","v":"-"}]
[null,"C1",2925,null,null,null,null,{"$f":"COUNTIF(Drawing!$D$25:$E$65,I31)+COUNTIF(Drawing!$N$25:$O$65,I31)+COUNTIF(Drawing!$D$77:$E$131,I31)+COUNTIF(Drawing!$N$77:$O$131,I31)","v":0},20,null,null,null,{"$f":"IF(Drawing!$G51='Lookup Tables'!$M$3,COUNTA(Drawing!$D51:$E51),\"-\")","v":"-"},{"$f":"IF(Drawing!$Q51='Lookup Tables'!$M$3,COUNTA(Drawing!$N51:$O51),\"-\")","v":"-"},{"$f":"IF(Drawing!$G103='Lookup Tables'!$M$3,COUNTA(Drawing!$D103:$E103),\"-\")","v":"-"},{"$f":"IF(Drawing!$Q103='Lookup Tables'!$M$3,COUNTA(Drawing!$N103:$O103),\"-\")","v":"-"},null,{"$f":"IF(Drawing!$G51='Lookup Tables'!$R$3,COUNTA(Drawing!$D51:$E51),\"-\")","v":"-"},{"$f":"IF(Drawing!$Q51='Lookup Tables'!$R$3,COUNTA(Drawing!$N51:$O51),\"-\")","v":"-"},{"$f":"IF(Drawing!$G103='Lookup Tables'!$R$3,COUNTA(Drawing!$D103:$E103),\"-\")","v":"-"},{"$f":"IF(Drawing!$Q103='Lookup Tables'!$R$3,COUNTA(Drawing!$N103:$O103),\"-\")","v":"-"},null,{"$f":"IF(Drawing!$G51='Lookup Tables'!$K$12,COUNTA(Drawing!$D51:$E51),\"-\")","v":"-"},{"$f":"IF(Drawing!$Q51='Lookup Tables'!$K$12,COUNTA(Drawing!$N51:$O51),\"-\")","v":"-"},{"$f":"IF(Drawing!$G103='Lookup Tables'!$K$12,COUNTA(Drawing!$D103:$E103),\"-\")","v":"-"},{"$f":"IF(Drawing!$Q103='Lookup Tables'!$K$12,COUNTA(Drawing!$N103:$O103),\"-\")","v":"-"},null,{"$f":"IF(Drawing!$G51='Lookup Tables'!$K$11,COUNTA(Drawing!$D51:$E51),\"-\")","v":"-"},{"$f":"IF(Drawing!$Q51='Lookup Tables'!$K$11,COUNTA(Drawing!$N51:$O51),\"-\")","v":"-"},{"$f":"IF(Drawing!$G103='Lookup Tables'!$K$11,COUNTA(Drawing!$D103:$E103),\"-\")","v":"-"},{"$f":"IF(Drawing!$Q103='Lookup Tables'!$K$11,COUNTA(Drawing!$N103:$O103),\"-\")","v":"-"},null,{"$f":"IF(Drawing!$G51='Lookup Tables'!$K$20,COUNTA(Drawing!$D51:$E51),\"-\")","v":"-"},{"$f":"IF(Drawing!$Q51='Lookup Tables'!$K$20,COUNTA(Drawing!$N51:$O51),\"-\")","v":"-"},{"$f":"IF(Drawing!$G103='Lookup Tables'!$K$20,COUNTA(Drawing!$D103:$E103),\"-\")","v":"-"},{"$f":"IF(Drawing!$Q103='Lookup Tables'!$K$20,COUNTA(Drawing!$N103:$O103),\"-\")","v":"-"}]
[null,"H1",3510,null,null,null,null,{"$f":"COUNTIF(Drawing!$D$25:$E$65,I32)+COUNTIF(Drawing!$N$25:$O$65,I32)+COUNTIF(Drawing!$D$77:$E$131,I32)+COUNTIF(Drawing!$N$77:$O$131,I32)","v":0},21,null,null,null,{"$f":"IF(Drawing!$G52='Lookup Tables'!$M$3,COUNTA(Drawing!$D52:$E52),\"-\")","v":"-"},{"$f":"IF(Drawing!$Q52='Lookup Tables'!$M$3,COUNTA(Drawing!$N52:$O52),\"-\")","v":"-"},{"$f":"IF(Drawing!$G104='Lookup Tables'!$M$3,COUNTA(Drawing!$D104:$E104),\"-\")","v":"-"},{"$f":"IF(Drawing!$Q104='Lookup Tables'!$M$3,COUNTA(Drawing!$N104:$O104),\"-\")","v":"-"},null,{"$f":"IF(Drawing!$G52='Lookup Tables'!$R$3,COUNTA(Drawing!$D52:$E52),\"-\")","v":"-"},{"$f":"IF(Drawing!$Q52='Lookup Tables'!$R$3,COUNTA(Drawing!$N52:$O52),\"-\")","v":"-"},{"$f":"IF(Drawing!$G104='Lookup Tables'!$R$3,COUNTA(Drawing!$D104:$E104),\"-\")","v":"-"},{"$f":"IF(Drawing!$Q104='Lookup Tables'!$R$3,COUNTA(Drawing!$N104:$O104),\"-\")","v":"-"},null,{"$f":"IF(Drawing!$G52='Lookup Tables'!$K$12,COUNTA(Drawing!$D52:$E52),\"-\")","v":"-"},{"$f":"IF(Drawing!$Q52='Lookup Tables'!$K$12,COUNTA(Drawing!$N52:$O52),\"-\")","v":"-"},{"$f":"IF(Drawing!$G104='Lookup Tables'!$K$12,COUNTA(Drawing!$D104:$E104),\"-\")","v":"-"},{"$f":"IF(Drawing!$Q104='Lookup Tables'!$K$12,COUNTA(Drawing!$N104:$O104),\"-\")","v":"-"},null,{"$f":"IF(Drawing!$G52='Lookup Tables'!$K$11,COUNTA(Drawing!$D52:$E52),\"-\")","v":"-"},{"$f":"IF(Drawing!$Q52='Lookup Tables'!$K$11,COUNTA(Drawing!$N52:$O52),\"-\")","v":"-"},{"$f":"IF(Drawing!$G104='Lookup Tables'!$K$11,COUNTA(Drawing!$D104:$E104),\"-\")","v":"-"},{"$f":"IF(Drawing!$Q104='Lookup Tables'!$K$11,COUNTA(Drawing!$N104:$O104),\"-\")","v":"-"},null,{"$f":"IF(Drawing!$G52='Lookup Tables'!$K$20,COUNTA(Drawing!$D52:$E52),\"-\")","v":"-"},{"$f":"IF(Drawing!$Q52='Lookup Tables'!$K$20,COUNTA(Drawing!$N52:$O52),\"-\")","v":"-"},{"$f":"IF(Drawing!$G104='Lookup Tables'!$K$20,COUNTA(Drawing!$D104:$E104),\"-\")","v":"-"},{"$f":"IF(Drawing!$Q104='Lookup Tables'!$K$20,COUNTA(Drawing!$N104:$O104),\"-\")","v":"-"}]
[null,"H2",4160,null,null,null,null,{"$f":"COUNTIF(Drawing!$D$25:$E$65,I33)+COUNTIF(Drawing!$N$25:$O$65,I33)+COUNTIF(Drawing!$D$77:$E$131,I33)+COUNTIF(Drawing!$N$77:$O$131,I33)","v":0},22,null,null,null,{"$f":"IF(Drawing!$G53='Lookup Tables'!$M$3,COUNTA(Drawing!$D53:$E53),\"-\")","v":"-"},{"$f":"IF(Drawing!$Q53='Lookup Tables'!$M$3,COUNTA(Drawing!$N53:$O53),\"-\")","v":"-"},{"$f":"IF(Drawing!$G105='Lookup Tables'!$M$3,COUNTA(Drawing!$D105:$E105),\"-\")","v":"-"},{"$f":"IF(Drawing!$Q105='Lookup Tables'!$M$3,COUNTA(Drawing!$N105:$O105),\"-\")","v":"-"},null,{"$f":"IF(Drawing!$G53='Lookup Tables'!$R$3,COUNTA(Drawing!$D53:$E53),\"-\")","v":"-"},{"$f":"IF(Drawing!$Q53='Lookup Tables'!$R$3,COUNTA(Drawing!$N53:$O53),\"-\")","v":"-"},{"$f":"IF(Drawing!$G105='Lookup Tables'!$R$3,COUNTA(Drawing!$D105:$E105),\"-\")","v":"-"},{"$f":"IF(Drawing!$Q105='Lookup Tables'!$R$3,COUNTA(Drawing!$N105:$O105),\"-\")","v":"-"},null,{"$f":"IF(Drawing!$G53='Lookup Tables'!$K$12,COUNTA(Drawing!$D53:$E53),\"-\")","v":"-"},{"$f":"IF(Drawing!$Q53='Lookup Tables'!$K$12,COUNTA(Drawing!$N53:$O53),\"-\")","v":"-"},{"$f":"IF(Drawing!$G105='Lookup Tables'!$K$12,COUNTA(Drawing!$D105:$E105),\"-\")","v":"-"},{"$f":"IF(Drawing!$Q105='Lookup Tables'!$K$12,COUNTA(Drawing!$N105:$O105),\"-\")","v":"-"},null,{"$f":"IF(Drawing!$G53='Lookup Tables'!$K$11,COUNTA(Drawing!$D53:$E53),\"-\")","v":"-"},{"$f":"IF(Drawing!$Q53='Lookup Tables'!$K$11,COUNTA(Drawing!$N53:$O53),\"-\")","v":"-"},{"$f":"IF(Drawing!$G105='Lookup Tables'!$K$11,COUNTA(Drawing!$D105:$E105),\"-\")","v":"-"},{"$f":"IF(Drawing!$Q105='Lookup Tables'!$K$11,COUNTA(Drawing!$N105:$O105),\"-\")","v":"-"},null,{"$f":"IF(Drawing!$G53='Lookup Tables'!$K$20,COUNTA(Drawing!$D53:$E53),\"-\")","v":"-"},{"$f":"IF(Drawing!$Q53='Lookup Tables'!$K$20,COUNTA(Drawing!$N53:$O53),\"-\")","v":"-"},{"$f":"IF(Drawing!$G105='Lookup Tables'!$K$20,COUNTA(Drawing!$D105:$E105),\"-\")","v":"-"},{"$f":"IF(Drawing!$Q105='Lookup Tables'!$K$20,COUNTA(Drawing!$N105:$O105),\"-\")","v":"-"}]
[null,"H3",4875,null,null,null,null,{"$f":"COUNTIF(Drawing!$D$25:$E$65,I34)+COUNTIF(Drawing!$N$25:$O$65,I34)+COUNTIF(Drawing!$D$77:$E$131,I34)+COUNTIF(Drawing!$N$77:$O$131,I34)","v":0},23,null,null,null,{"$f":"IF(Drawing!$G54='Lookup Tables'!$M$3,COUNTA(Drawing!$D54:$E54),\"-\")","v":"-"},{"$f":"IF(Drawing!$Q54='Lookup Tables'!$M$3,COUNTA(Drawing!$N54:$O54),\"-\")","v":"-"},{"$f":"IF(Drawing!$G106='Lookup Tables'!$M$3,COUNTA(Drawing!$D106:$E106),\"-\")","v":"-"},{"$f":"IF(Drawing!$Q106='Lookup Tables'!$M$3,COUNTA(Drawing!$N106:$O106),\"-\")","v":"-"},null,{"$f":"IF(Drawing!$G54='Lookup Tables'!$R$3,COUNTA(Drawing!$D54:$E54),\"-\")","v":"-"},{"$f":"IF(Drawing!$Q54='Lookup Tables'!$R$3,COUNTA(Drawing!$N54:$O54),\"-\")","v":"-"},{"$f":"IF(Drawing!$G106='Lookup Tables'!$R$3,COUNTA(Drawing!$D106:$E106),\"-\")","v":"-"},{"$f":"IF(Drawing!$Q106='Lookup Tables'!$R$3,COUNTA(Drawing!$N106:$O106),\"-\")","v":"-"},null,{"$f":"IF(Drawing!$G54='Lookup Tables'!$K$12,COUNTA(Drawing!$D54:$E54),\"-\")","v":"-"},{"$f":"IF(Drawing!$Q54='Lookup Tables'!$K$12,COUNTA(Drawing!$N54:$O54),\"-\")","v":"-"},{"$f":"IF(Drawing!$G106='Lookup Tables'!$K$12,COUNTA(Drawing!$D106:$E106),\"-\")","v":"-"},{"$f":"IF(Drawing!$Q106='Lookup Tables'!$K$12,COUNTA(Drawing!$N106:$O106),\"-\")","v":"-"},null,{"$f":"IF(Drawing!$G54='Lookup Tables'!$K$11,COUNTA(Drawing!$D54:$E54),\"-\")","v":"-"},{"$f":"IF(Drawing!$Q54='Lookup Tables'!$K$11,COUNTA(Drawing!$N54:$O54),\"-\")","v":"-"},{"$f":"IF(Drawing!$G106='Lookup Tables'!$K$11,COUNTA(Drawing!$D106:$E106),\"-\")","v":"-"},{"$f":"IF(Drawing!$Q106='Lookup Tables'!$K$11,COUNTA(Drawing!$N106:$O106),\"-\")","v":"-"},null,{"$f":"IF(Drawing!$G54='Lookup Tables'!$K$20,COUNTA(Drawing!$D54:$E54),\"-\")","v":"-"},{"$f":"IF(Drawing!$Q54='Lookup Tables'!$K$20,COUNTA(Drawing!$N54:$O54),\"-\")","v":"-"},{"$f":"IF(Drawing!$G106='Lookup Tables'!$K$20,COUNTA(Drawing!$D106:$E106),\"-\")","v":"-"},{"$f":"IF(Drawing!$Q106='Lookup Tables'!$K$20,COUNTA(Drawing!$N106:$O106),\"-\")","v":"-"}]
[null,"H4",5655,null,null,null,null,{"$f":"COUNTIF(Drawing!$D$25:$E$65,I35)+COUNTIF(Drawing!$N$25:$O$65,I35)+COUNTIF(Drawing!$D$77:$E$131,I35)+COUNTIF(Drawing!$N$77:$O$131,I35)","v":0},24,null,null,null,{"$f":"IF(Drawing!$G55='Lookup Tables'!$M$3,COUNTA(Drawing!$D55:$E55),\"-\")","v":"-"},{"$f":"IF(Drawing!$Q55='Lookup Tables'!$M$3,COUNTA(Drawing!$N55:$O55),\"-\")","v":"-"},{"$f":"IF(Drawing!$G107='Lookup Tables'!$M$3,COUNTA(Drawing!$D107:$E107),\"-\")","v":"-"},{"$f":"IF(Drawing!$Q107='Lookup Tables'!$M$3,COUNTA(Drawing!$N107:$O107),\"-\")","v":"-"},null,{"$f":"IF(Drawing!$G55='Lookup Tables'!$R$3,COUNTA(Drawing!$D55:$E55),\"-\")","v":"-"},{"$f":"IF(Drawing!$Q55='Lookup Tables'!$R$3,COUNTA(Drawing!$N55:$O55),\"-\")","v":"-"},{"$f":"IF(Drawing!$G107='Lookup Tables'!$R$3,COUNTA(Drawing!$D107:$E107),\"-\")","v":"-"},{"$f":"IF(Drawing!$Q107='Lookup Tables'!$R$3,COUNTA(Drawing!$N107:$O107),\"-\")","v":"-"},null,{"$f":"IF(Drawing!$G55='Lookup Tables'!$K$12,COUNTA(Drawing!$D55:$E55),\"-\")","v":"-"},{"$f":"IF(Drawing!$Q55='Lookup Tables'!$K$12,COUNTA(Drawing!$N55:$O55),\"-\")","v":"-"},{"$f":"IF(Drawing!$G107='Lookup Tables'!$K$12,COUNTA(Drawing!$D107:$E107),\"-\")","v":"-"},{"$f":"IF(Drawing!$Q107='Lookup Tables'!$K$12,COUNTA(Drawing!$N107:$O107),\"-\")","v":"-"},null,{"$f":"IF(Drawing!$G55='Lookup Tables'!$K$11,COUNTA(Drawing!$D55:$E55),\"-\")","v":"-"},{"$f":"IF(Drawing!$Q55='Lookup Tables'!$K$11,COUNTA(Drawing!$N55:$O55),\"-\")","v":"-"},{"$f":"IF(Drawing!$G107='Lookup Tables'!$K$11,COUNTA(Drawing!$D107:$E107),\"-\")","v":"-"},{"$f":"IF(Drawing!$Q107='Lookup Tables'!$K$11,COUNTA(Drawing!$N107:$O107),\"-\")","v":"-"},null,{"$f":"IF(Drawing!$G55='Lookup Tables'!$K$20,COUNTA(Drawing!$D55:$E55),\"-\")","v":"-"},{"$f":"IF(Drawing!$Q55='Lookup Tables'!$K$20,COUNTA(Drawing!$N55:$O55),\"-\")","v":"-"},{"$f":"IF(Drawing!$G107='Lookup Tables'!$K$20,COUNTA(Drawing!$D107:$E107),\"-\")","v":"-"},{"$f":"IF(Drawing!$Q107='Lookup Tables'!$K$20,COUNTA(Drawing!$N107:$O107),\"-\")","v":"-"}]
[null,"H5",6500,null,null,null,null,{"$f":"COUNTIF(Drawing!$D$25:$E$65,I36)+COUNTIF(Drawing!$N$25:$O$65,I36)+COUNTIF(Drawing!$D$77:$E$131,I36)+COUNTIF(Drawing!$N$77:$O$131,I36)","v":0},25,null,null,null,{"$f":"IF(Drawing!$G56='Lookup Tables'!$M$3,COUNTA(Drawing!$D56:$E56),\"-\")","v":"-"},{"$f":"IF(Drawing!$Q56='Lookup Tables'!$M$3,COUNTA(Drawing!$N56:$O56),\"-\")","v":"-"},{"$f":"IF(Drawing!$G108='Lookup Tables'!$M$3,COUNTA(Drawing!$D108:$E108),\"-\")","v":"-"},{"$f":"IF(Drawing!$Q108='Lookup Tables'!$M$3,COUNTA(Drawing!$N108:$O108),\"-\")","v":"-"},null,{"$f":"IF(Drawing!$G56='Lookup Tables'!$R$3,COUNTA(Drawing!$D56:$E56),\"-\")","v":"-"},{"$f":"IF(Drawing!$Q56='Lookup Tables'!$R$3,COUNTA(Drawing!$N56:$O56),\"-\")","v":"-"},{"$f":"IF(Drawing!$G123='Lookup Tables'!$R$3,COUNTA(Drawing!$D123:$E123),\"-\")","v":"-"},{"$f":"IF(Drawing!$Q123='Lookup Tables'!$R$3,COUNTA(Drawing!$N123:$O123),\"-\")","v":"-"},null,{"$f":"IF(Drawing!$G56='Lookup Tables'!$K$12,COUNTA(Drawing!$D56:$E56),\"-\")","v":"-"},{"$f":"IF(Drawing!$Q56='Lookup Tables'!$K$12,COUNTA(Drawing!$N56:$O56),\"-\")","v":"-"},{"$f":"IF(Drawing!$G123='Lookup Tables'!$K$12,COUNTA(Drawing!$D123:$E123),\"-\")","v":"-"},{"$f":"IF(Drawing!$Q123='Lookup Tables'!$K$12,COUNTA(Drawing!$N123:$O123),\"-\")","v":"-"},null,{"$f":"IF(Drawing!$G56='Lookup Tables'!$K$11,COUNTA(Drawing!$D56:$E56),\"-\")","v":"-"},{"$f":"IF(Drawing!$Q56='Lookup Tables'!$K$11,COUNTA(Drawing!$N56:$O56),\"-\")","v":"-"},{"$f":"IF(Drawing!$G123='Lookup Tables'!$K$11,COUNTA(Drawing!$D123:$E123),\"-\")","v":"-"},{"$f":"IF(Drawing!$Q123='Lookup Tables'!$K$11,COUNTA(Drawing!$N123:$O123),\"-\")","v":"-"},null,{"$f":"IF(Drawing!$G56='Lookup Tables'!$K$20,COUNTA(Drawing!$D56:$E56),\"-\")","v":"-"},{"$f":"IF(Drawing!$Q56='Lookup Tables'!$K$20,COUNTA(Drawing!$N56:$O56),\"-\")","v":"-"},{"$f":"IF(Drawing!$G108='Lookup Tables'!$K$20,COUNTA(Drawing!$D108:$E108),\"-\")","v":"-"},{"$f":"IF(Drawing!$Q108='Lookup Tables'!$K$20,COUNTA(Drawing!$N108:$O108),\"-\")","v":"-"}]
[null,"H6",7410,null,null,null,null,{"$f":"COUNTIF(Drawing!$D$25:$E$65,I37)+COUNTIF(Drawing!$N$25:$O$65,I37)+COUNTIF(Drawing!$D$77:$E$131,I37)+COUNTIF(Drawing!$N$77:$O$131,I37)","v":0},26,null,null,null,{"$f":"IF(Drawing!$G57='Lookup Tables'!$M$3,COUNTA(Drawing!$D57:$E57),\"-\")","v":"-"},{"$f":"IF(Drawing!$Q57='Lookup Tables'!$M$3,COUNTA(Drawing!$N57:$O57),\"-\")","v":"-"},{"$f":"IF(Drawing!$G109='Lookup Tables'!$M$3,COUNTA(Drawing!$D109:$E109),\"-\")","v":"-"},{"$f":"IF(Drawing!$Q109='Lookup Tables'!$M$3,COUNTA(Drawing!$N109:$O109),\"-\")","v":"-"},null,{"$f":"IF(Drawing!$G57='Lookup Tables'!$R$3,COUNTA(Drawing!$D57:$E57),\"-\")","v":"-"},{"$f":"IF(Drawing!$Q57='Lookup Tables'!$R$3,COUNTA(Drawing!$N57:$O57),\"-\")","v":"-"},{"$f":"IF(Drawing!$G124='Lookup Tables'!$R$3,COUNTA(Drawing!$D124:$E124),\"-\")","v":"-"},{"$f":"IF(Drawing!$Q124='Lookup Tables'!$R$3,COUNTA(Drawing!$N124:$O124),\"-\")","v":"-"},null,{"$f":"IF(Drawing!$G57='Lookup Tables'!$K$12,COUNTA(Drawing!$D57:$E57),\"-\")","v":"-"},{"$f":"IF(Drawing!$Q57='Lookup Tables'!$K$12,COUNTA(Drawing!$N57:$O57),\"-\")","v":"-"},{"$f":"IF(Drawing!$G124='Lookup Tables'!$K$12,COUNTA(Drawing!$D124:$E124),\"-\")","v":"-"},{"$f":"IF(Drawing!$Q124='Lookup Tables'!$K$12,COUNTA(Drawing!$N124:$O124),\"-\")","v":"-"},null,{"$f":"IF(Drawing!$G57='Lookup Tables'!$K$11,COUNTA(Drawing!$D57:$E57),\"-\")","v":"-"},{"$f":"IF(Drawing!$Q57='Lookup Tables'!$K$11,COUNTA(Drawing!$N57:$O57),\"-\")","v":"-"},{"$f":"IF(Drawing!$G124='Lookup Tables'!$K$11,COUNTA(Drawing!$D124:$E124),\"-\")","v":"-"},{"$f":"IF(Drawing!$Q124='Lookup Tables'!$K$11,COUNTA(Drawing!$N124:$O124),\"-\")","v":"-"},null,{"$f":"IF(Drawing!$G57='Lookup Tables'!$K$20,COUNTA(Drawing!$D57:$E57),\"-\")","v":"-"},{"$f":"IF(Drawing!$Q57='Lookup Tables'!$K$20,COUNTA(Drawing!$N57:$O57),\"-\")","v":"-"},{"$f":"IF(Drawing!$G109='Lookup Tables'!$K$20,COUNTA(Drawing!$D109:$E109),\"-\")","v":"-"},{"$f":"IF(Drawing!$Q109='Lookup Tables'!$K$20,COUNTA(Drawing!$N109:$O109),\"-\")","v":"-"}]
[null,"H7",8385,null,null,null,null,{"$f":"COUNTIF(Drawing!$D$25:$E$65,I38)+COUNTIF(Drawing!$N$25:$O$65,I38)+COUNTIF(Drawing!$D$77:$E$131,I38)+COUNTIF(Drawing!$N$77:$O$131,I38)","v":0},27,null,null,null,{"$f":"IF(Drawing!$G58='Lookup Tables'!$M$3,COUNTA(Drawing!$D58:$E58),\"-\")","v":"-"},{"$f":"IF(Drawing!$Q58='Lookup Tables'!$M$3,COUNTA(Drawing!$N58:$O58),\"-\")","v":"-"},{"$f":"IF(Drawing!$G110='Lookup Tables'!$M$3,COUNTA(Drawing!$D110:$E110),\"-\")","v":"-"},{"$f":"IF(Drawing!$Q110='Lookup Tables'!$M$3,COUNTA(Drawing!$N110:$O110),\"-\")","v":"-"},null,{"$f":"IF(Drawing!$G58='Lookup Tables'!$R$3,COUNTA(Drawing!$D58:$E58),\"-\")","v":"-"},{"$f":"IF(Drawing!$Q58='Lookup Tables'!$R$3,COUNTA(Drawing!$N58:$O58),\"-\")","v":"-"},{"$f":"IF(Drawing!$G125='Lookup Tables'!$R$3,COUNTA(Drawing!$D125:$E125),\"-\")","v":"-"},{"$f":"IF(Drawing!$Q125='Lookup Tables'!$R$3,COUNTA(Drawing!$N125:$O125),\"-\")","v":"-"},null,{"$f":"IF(Drawing!$G58='Lookup Tables'!$K$12,COUNTA(Drawing!$D58:$E58),\"-\")","v":"-"},{"$f":"IF(Drawing!$Q58='Lookup Tables'!$K$12,COUNTA(Drawing!$N58:$O58),\"-\")","v":"-"},{"$f":"IF(Drawing!$G125='Lookup Tables'!$K$12,COUNTA(Drawing!$D125:$E125),\"-\")","v":"-"},{"$f":"IF(Drawing!$Q125='Lookup Tables'!$K$12,COUNTA(Drawing!$N125:$O125),\"-\")","v":"-"},null,{"$f":"IF(Drawing!$G58='Lookup Tables'!$K$11,COUNTA(Drawing!$D58:$E58),\"-\")","v":"-"},{"$f":"IF(Drawing!$Q58='Lookup Tables'!$K$11,COUNTA(Drawing!$N58:$O58),\"-\")","v":"-"},{"$f":"IF(Drawing!$G125='Lookup Tables'!$K$11,COUNTA(Drawing!$D125:$E125),\"-\")","v":"-"},{"$f":"IF(Drawing!$Q125='Lookup Tables'!$K$11,COUNTA(Drawing!$N125:$O125),\"-\")","v":"-"},null,{"$f":"IF(Drawing!$G58='Lookup Tables'!$K$20,COUNTA(Drawing!$D58:$E58),\"-\")","v":"-"},{"$f":"IF(Drawing!$Q58='Lookup Tables'!$K$20,COUNTA(Drawing!$N58:$O58),\"-\")","v":"-"},{"$f":"IF(Drawing!$G110='Lookup Tables'!$K$20,COUNTA(Drawing!$D110:$E110),\"-\")","v":"-"},{"$f":"IF(Drawing!$Q110='Lookup Tables'!$K$20,COUNTA(Drawing!$N110:$O110),\"-\")","v":"-"}]
[null,"H8",9425,null,null,null,null,{"$f":"COUNTIF(Drawing!$D$25:$E$65,I39)+COUNTIF(Drawing!$N$25:$O$65,I39)+COUNTIF(Drawing!$D$77:$E$131,I39)+COUNTIF(Drawing!$N$77:$O$131,I39)","v":0},28,null,null,null,{"$f":"IF(Drawing!$G59='Lookup Tables'!$M$3,COUNTA(Drawing!$D59:$E59),\"-\")","v":"-"},{"$f":"IF(Drawing!$Q59='Lookup Tables'!$M$3,COUNTA(Drawing!$N59:$O59),\"-\")","v":"-"},{"$f":"IF(Drawing!$G111='Lookup Tables'!$M$3,COUNTA(Drawing!$D111:$E111),\"-\")","v":"-"},{"$f":"IF(Drawing!$Q111='Lookup Tables'!$M$3,COUNTA(Drawing!$N111:$O111),\"-\")","v":"-"},null,{"$f":"IF(Drawing!$G59='Lookup Tables'!$R$3,COUNTA(Drawing!$D59:$E59),\"-\")","v":"-"},{"$f":"IF(Drawing!$Q59='Lookup Tables'!$R$3,COUNTA(Drawing!$N59:$O59),\"-\")","v":"-"},{"$f":"IF(Drawing!$G126='Lookup Tables'!$R$3,COUNTA(Drawing!$D126:$E126),\"-\")","v":"-"},{"$f":"IF(Drawing!$Q126='Lookup Tables'!$R$3,COUNTA(Drawing!$N126:$O126),\"-\")","v":"-"},null,{"$f":"IF(Drawing!$G59='Lookup Tables'!$K$12,COUNTA(Drawing!$D59:$E59),\"-\")","v":"-"},{"$f":"IF(Drawing!$Q59='Lookup Tables'!$K$12,COUNTA(Drawing!$N59:$O59),\"-\")","v":"-"},{"$f":"IF(Drawing!$G126='Lookup Tables'!$K$12,COUNTA(Drawing!$D126:$E126),\"-\")","v":"-"},{"$f":"IF(Drawing!$Q126='Lookup Tables'!$K$12,COUNTA(Drawing!$N126:$O126),\"-\")","v":"-"},null,{"$f":"IF(Drawing!$G59='Lookup Tables'!$K$11,COUNTA(Drawing!$D59:$E59),\"-\")","v":"-"},{"$f":"IF(Drawing!$Q59='Lookup Tables'!$K$11,COUNTA(Drawing!$N59:$O59),\"-\")","v":"-"},{"$f":"IF(Drawing!$G126='Lookup Tables'!$K$11,COUNTA(Drawing!$D126:$E126),\"-\")","v":"-"},{"$f":"IF(Drawing!$Q126='Lookup Tables'!$K$11,COUNTA(Drawing!$N126:$O126),\"-\")","v":"-"},null,{"$f":"IF(Drawing!$G59='Lookup Tables'!$K$20,COUNTA(Drawing!$D59:$E59),\"-\")","v":"-"},{"$f":"IF(Drawing!$Q59='Lookup Tables'!$K$20,COUNTA(Drawing!$N59:$O59),\"-\")","v":"-"},{"$f":"IF(Drawing!$G111='Lookup Tables'!$K$20,COUNTA(Drawing!$D111:$E111),\"-\")","v":"-"},{"$f":"IF(Drawing!$Q111='Lookup Tables'!$K$20,COUNTA(Drawing!$N111:$O111),\"-\")","v":"-"}]
[null,"H9",10530,null,null,null,null,{"$f":"COUNTIF(Drawing!$D$25:$E$65,I40)+COUNTIF(Drawing!$N$25:$O$65,I40)+COUNTIF(Drawing!$D$77:$E$131,I40)+COUNTIF(Drawing!$N$77:$O$131,I40)","v":0},29,null,null,null,{"$f":"IF(Drawing!$G60='Lookup Tables'!$M$3,COUNTA(Drawing!$D60:$E60),\"-\")","v":"-"},{"$f":"IF(Drawing!$Q60='Lookup Tables'!$M$3,COUNTA(Drawing!$N60:$O60),\"-\")","v":"-"},{"$f":"IF(Drawing!$G112='Lookup Tables'!$M$3,COUNTA(Drawing!$D112:$E112),\"-\")","v":"-"},{"$f":"IF(Drawing!$Q112='Lookup Tables'!$M$3,COUNTA(Drawing!$N112:$O112),\"-\")","v":"-"},null,{"$f":"IF(Drawing!$G60='Lookup Tables'!$R$3,COUNTA(Drawing!$D60:$E60),\"-\")","v":"-"},{"$f":"IF(Drawing!$Q60='Lookup Tables'!$R$3,COUNTA(Drawing!$N60:$O60),\"-\")","v":"-"},{"$f":"IF(Drawing!$G127='Lookup Tables'!$R$3,COUNTA(Drawing!$D127:$E127),\"-\")","v":"-"},{"$f":"IF(Drawing!$Q127='Lookup Tables'!$R$3,COUNTA(Drawing!$N127:$O127),\"-\")","v":"-"},null,{"$f":"IF(Drawing!$G60='Lookup Tables'!$K$12,COUNTA(Drawing!$D60:$E60),\"-\")","v":"-"},{"$f":"IF(Drawing!$Q60='Lookup Tables'!$K$12,COUNTA(Drawing!$N60:$O60),\"-\")","v":"-"},{"$f":"IF(Drawing!$G127='Lookup Tables'!$K$12,COUNTA(Drawing!$D127:$E127),\"-\")","v":"-"},{"$f":"IF(Drawing!$Q127='Lookup Tables'!$K$12,COUNTA(Drawing!$N127:$O127),\"-\")","v":"-"},null,{"$f":"IF(Drawing!$G60='Lookup Tables'!$K$11,COUNTA(Drawing!$D60:$E60),\"-\")","v":"-"},{"$f":"IF(Drawing!$Q60='Lookup Tables'!$K$11,COUNTA(Drawing!$N60:$O60),\"-\")","v":"-"},{"$f":"IF(Drawing!$G127='Lookup Tables'!$K$11,COUNTA(Drawing!$D127:$E127),\"-\")","v":"-"},{"$f":"IF(Drawing!$Q127='Lookup Tables'!$K$11,COUNTA(Drawing!$N127:$O127),\"-\")","v":"-"},null,{"$f":"IF(Drawing!$G60='Lookup Tables'!$K$20,COUNTA(Drawing!$D60:$E60),\"-\")","v":"-"},{"$f":"IF(Drawing!$Q60='Lookup Tables'!$K$20,COUNTA(Drawing!$N60:$O60),\"-\")","v":"-"},{"$f":"IF(Drawing!$G112='Lookup Tables'!$K$20,COUNTA(Drawing!$D112:$E112),\"-\")","v":"-"},{"$f":"IF(Drawing!$Q112='Lookup Tables'!$K$20,COUNTA(Drawing!$N112:$O112),\"-\")","v":"-"}]
[null,"11",11700,null,null,null,null,{"$f":"COUNTIF(Drawing!$D$25:$E$65,I41)+COUNTIF(Drawing!$N$25:$O$65,I41)+COUNTIF(Drawing!$D$77:$E$131,I41)+COUNTIF(Drawing!$N$77:$O$131,I41)","v":0},30,null,null,null,{"$f":"IF(Drawing!$G61='Lookup Tables'!$M$3,COUNTA(Drawing!$D61:$E61),\"-\")","v":"-"},{"$f":"IF(Drawing!$Q61='Lookup Tables'!$M$3,COUNTA(Drawing!$N61:$O61),\"-\")","v":"-"},{"$f":"IF(Drawing!$G113='Lookup Tables'!$M$3,COUNTA(Drawing!$D113:$E113),\"-\")","v":"-"},{"$f":"IF(Drawing!$Q113='Lookup Tables'!$M$3,COUNTA(Drawing!$N113:$O113),\"-\")","v":"-"},null,{"$f":"IF(Drawing!$G61='Lookup Tables'!$R$3,COUNTA(Drawing!$D61:$E61),\"-\")","v":"-"},{"$f":"IF(Drawing!$Q61='Lookup Tables'!$R$3,COUNTA(Drawing!$N61:$O61),\"-\")","v":"-"},{"$f":"IF(Drawing!$G128='Lookup Tables'!$R$3,COUNTA(Drawing!$D128:$E128),\"-\")","v":"-"},{"$f":"IF(Drawing!$Q128='Lookup Tables'!$R$3,COUNTA(Drawing!$N128:$O128),\"-\")","v":"-"},null,{"$f":"IF(Drawing!$G61='Lookup Tables'!$K$12,COUNTA(Drawing!$D61:$E61),\"-\")","v":"-"},{"$f":"IF(Drawing!$Q61='Lookup Tables'!$K$12,COUNTA(Drawing!$N61:$O61),\"-\")","v":"-"},{"$f":"IF(Drawing!$G128='Lookup Tables'!$K$12,COUNTA(Drawing!$D128:$E128),\"-\")","v":"-"},{"$f":"IF(Drawing!$Q128='Lookup Tables'!$K$12,COUNTA(Drawing!$N128:$O128),\"-\")","v":"-"},null,{"$f":"IF(Drawing!$G61='Lookup Tables'!$K$11,COUNTA(Drawing!$D61:$E61),\"-\")","v":"-"},{"$f":"IF(Drawing!$Q61='Lookup Tables'!$K$11,COUNTA(Drawing!$N61:$O61),\"-\")","v":"-"},{"$f":"IF(Drawing!$G128='Lookup Tables'!$K$11,COUNTA(Drawing!$D128:$E128),\"-\")","v":"-"},{"$f":"IF(Drawing!$Q128='Lookup Tables'!$K$11,COUNTA(Drawing!$N128:$O128),\"-\")","v":"-"},null,{"$f":"IF(Drawing!$G61='Lookup Tables'!$K$20,COUNTA(Drawing!$D61:$E61),\"-\")","v":"-"},{"$f":"IF(Drawing!$Q61='Lookup Tables'!$K$20,COUNTA(Drawing!$N61:$O61),\"-\")","v":"-"},{"$f":"IF(Drawing!$G113='Lookup Tables'!$K$20,COUNTA(Drawing!$D113:$E113),\"-\")","v":"-"},{"$f":"IF(Drawing!$Q113='Lookup Tables'!$K$20,COUNTA(Drawing!$N113:$O113),\"-\")","v":"-"}]
[null,"13",12800,null,null,null,null,{"$f":"COUNTIF(Drawing!$D$25:$E$65,I42)+COUNTIF(Drawing!$N$25:$O$65,I42)+COUNTIF(Drawing!$D$77:$E$131,I42)+COUNTIF(Drawing!$N$77:$O$131,I42)","v":0},31,null,null,null,{"$f":"IF(Drawing!$G62='Lookup Tables'!$M$3,COUNTA(Drawing!$D62:$E62),\"-\")","v":"-"},{"$f":"IF(Drawing!$Q62='Lookup Tables'!$M$3,COUNTA(Drawing!$N62:$O62),\"-\")","v":"-"},{"$f":"IF(Drawing!$G114='Lookup Tables'!$M$3,COUNTA(Drawing!$D114:$E114),\"-\")","v":"-"},{"$f":"IF(Drawing!$Q114='Lookup Tables'!$M$3,COUNTA(Drawing!$N114:$O114),\"-\")","v":"-"},null,{"$f":"IF(Drawing!$G62='Lookup Tables'!$R$3,COUNTA(Drawing!$D62:$E62),\"-\")","v":"-"},{"$f":"IF(Drawing!$Q62='Lookup Tables'!$R$3,COUNTA(Drawing!$N62:$O62),\"-\")","v":"-"},{"$f":"IF(Drawing!$G129='Lookup Tables'!$R$3,COUNTA(Drawing!$D129:$E129),\"-\")","v":"-"},{"$f":"IF(Drawing!$Q129='Lookup Tables'!$R$3,COUNTA(Drawing!$N129:$O129),\"-\")","v":"-"},null,{"$f":"IF(Drawing!$G62='Lookup Tables'!$K$12,COUNTA(Drawing!$D62:$E62),\"-\")","v":"-"},{"$f":"IF(Drawing!$Q62='Lookup Tables'!$K$12,COUNTA(Drawing!$N62:$O62),\"-\")","v":"-"},{"$f":"IF(Drawing!$G129='Lookup Tables'!$K$12,COUNTA(Drawing!$D129:$E129),\"-\")","v":"-"},{"$f":"IF(Drawing!$Q129='Lookup Tables'!$K$12,COUNTA(Drawing!$N129:$O129),\"-\")","v":"-"},null,{"$f":"IF(Drawing!$G62='Lookup Tables'!$K$11,COUNTA(Drawing!$D62:$E62),\"-\")","v":"-"},{"$f":"IF(Drawing!$Q62='Lookup Tables'!$K$11,COUNTA(Drawing!$N62:$O62),\"-\")","v":"-"},{"$f":"IF(Drawing!$G129='Lookup Tables'!$K$11,COUNTA(Drawing!$D129:$E129),\"-\")","v":"-"},{"$f":"IF(Drawing!$Q129='Lookup Tables'!$K$11,COUNTA(Drawing!$N129:$O129),\"-\")","v":"-"},null,{"$f":"IF(Drawing!$G62='Lookup Tables'!$K$20,COUNTA(Drawing!$D62:$E62),\"-\")","v":"-"},{"$f":"IF(Drawing!$Q62='Lookup Tables'!$K$20,COUNTA(Drawing!$N62:$O62),\"-\")","v":"-"},{"$f":"IF(Drawing!$G114='Lookup Tables'!$K$20,COUNTA(Drawing!$D114:$E114),\"-\")","v":"-"},{"$f":"IF(Drawing!$Q114='Lookup Tables'!$K$20,COUNTA(Drawing!$N114:$O114),\"-\")","v":"-"}]
[null,"16",16000,null,null,null,null,{"$f":"COUNTIF(Drawing!$D$25:$E$65,I43)+COUNTIF(Drawing!$N$25:$O$65,I43)+COUNTIF(Drawing!$D$77:$E$131,I43)+COUNTIF(Drawing!$N$77:$O$131,I43)","v":0},32,null,null,null,{"$f":"IF(Drawing!$G63='Lookup Tables'!$M$3,COUNTA(Drawing!$D63:$E63),\"-\")","v":"-"},{"$f":"IF(Drawing!$Q63='Lookup Tables'!$M$3,COUNTA(Drawing!$N63:$O63),\"-\")","v":"-"},{"$f":"IF(Drawing!$G115='Lookup Tables'!$M$3,COUNTA(Drawing!$D115:$E115),\"-\")","v":"-"},{"$f":"IF(Drawing!$Q115='Lookup Tables'!$M$3,COUNTA(Drawing!$N115:$O115),\"-\")","v":"-"},null,{"$f":"IF(Drawing!$G63='Lookup Tables'!$R$3,COUNTA(Drawing!$D63:$E63),\"-\")","v":"-"},{"$f":"IF(Drawing!$Q63='Lookup Tables'!$R$3,COUNTA(Drawing!$N63:$O63),\"-\")","v":"-"},{"$f":"IF(Drawing!$G130='Lookup Tables'!$R$3,COUNTA(Drawing!$D130:$E130),\"-\")","v":"-"},{"$f":"IF(Drawing!$Q130='Lookup Tables'!$R$3,COUNTA(Drawing!$N130:$O130),\"-\")","v":"-"},null,{"$f":"IF(Drawing!$G63='Lookup Tables'!$K$12,COUNTA(Drawing!$D63:$E63),\"-\")","v":"-"},{"$f":"IF(Drawing!$Q63='Lookup Tables'!$K$12,COUNTA(Drawing!$N63:$O63),\"-\")","v":"-"},{"$f":"IF(Drawing!$G130='Lookup Tables'!$K$12,COUNTA(Drawing!$D130:$E130),\"-\")","v":"-"},{"$f":"IF(Drawing!$Q130='Lookup Tables'!$K$12,COUNTA(Drawing!$N130:$O130),\"-\")","v":"-"},null,{"$f":"IF(Drawing!$G63='Lookup Tables'!$K$11,COUNTA(Drawing!$D63:$E63),\"-\")","v":"-"},{"$f":"IF(Drawing!$Q63='Lookup Tables'!$K$11,COUNTA(Drawing!$N63:$O63),\"-\")","v":"-"},{"$f":"IF(Drawing!$G130='Lookup Tables'!$K$11,COUNTA(Drawing!$D130:$E130),\"-\")","v":"-"},{"$f":"IF(Drawing!$Q130='Lookup Tables'!$K$11,COUNTA(Drawing!$N130:$O130),\"-\")","v":"-"},null,{"$f":"IF(Drawing!$G63='Lookup Tables'!$K$20,COUNTA(Drawing!$D63:$E63),\"-\")","v":"-"},{"$f":"IF(Drawing!$Q63='Lookup Tables'!$K$20,COUNTA(Drawing!$N63:$O63),\"-\")","v":"-"},{"$f":"IF(Drawing!$G115='Lookup Tables'!$K$20,COUNTA(Drawing!$D115:$E115),\"-\")","v":"-"},{"$f":"IF(Drawing!$Q115='Lookup Tables'!$K$20,COUNTA(Drawing!$N115:$O115),\"-\")","v":"-"}]
[null,"20",20000,null,null,null,null,{"$f":"COUNTIF(Drawing!$D$25:$E$65,I44)+COUNTIF(Drawing!$N$25:$O$65,I44)+COUNTIF(Drawing!$D$77:$E$131,I44)+COUNTIF(Drawing!$N$77:$O$131,I44)","v":0},33,null,null,null,{"$f":"IF(Drawing!$G64='Lookup Tables'!$M$3,COUNTA(Drawing!$D64:$E64),\"-\")","v":"-"},{"$f":"IF(Drawing!$Q64='Lookup Tables'!$M$3,COUNTA(Drawing!$N64:$O64),\"-\")","v":"-"},{"$f":"IF(Drawing!$G116='Lookup Tables'!$M$3,COUNTA(Drawing!$D116:$E116),\"-\")","v":"-"},{"$f":"IF(Drawing!$Q116='Lookup Tables'!$M$3,COUNTA(Drawing!$N116:$O116),\"-\")","v":"-"},null,{"$f":"IF(Drawing!$G64='Lookup Tables'!$R$3,COUNTA(Drawing!$D64:$E64),\"-\")","v":"-"},{"$f":"IF(Drawing!$Q64='Lookup Tables'!$R$3,COUNTA(Drawing!$N64:$O64),\"-\")","v":"-"},{"$f":"IF(Drawing!$G131='Lookup Tables'!$R$3,COUNTA(Drawing!$D131:$E131),\"-\")","v":"-"},{"$f":"IF(Drawing!$Q131='Lookup Tables'!$R$3,COUNTA(Drawing!$N131:$O131),\"-\")","v":"-"},null,{"$f":"IF(Drawing!$G64='Lookup Tables'!$K$12,COUNTA(Drawing!$D64:$E64),\"-\")","v":"-"},{"$f":"IF(Drawing!$Q64='Lookup Tables'!$K$12,COUNTA(Drawing!$N64:$O64),\"-\")","v":"-"},{"$f":"IF(Drawing!$G131='Lookup Tables'!$K$12,COUNTA(Drawing!$D131:$E131),\"-\")","v":"-"},{"$f":"IF(Drawing!$Q131='Lookup Tables'!$K$12,COUNTA(Drawing!$N131:$O131),\"-\")","v":"-"},null,{"$f":"IF(Drawing!$G64='Lookup Tables'!$K$11,COUNTA(Drawing!$D64:$E64),\"-\")","v":"-"},{"$f":"IF(Drawing!$Q64='Lookup Tables'!$K$11,COUNTA(Drawing!$N64:$O64),\"-\")","v":"-"},{"$f":"IF(Drawing!$G131='Lookup Tables'!$K$11,COUNTA(Drawing!$D131:$E131),\"-\")","v":"-"},{"$f":"IF(Drawing!$Q131='Lookup Tables'!$K$11,COUNTA(Drawing!$N131:$O131),\"-\")","v":"-"},null,{"$f":"IF(Drawing!$G64='Lookup Tables'!$K$20,COUNTA(Drawing!$D64:$E64),\"-\")","v":"-"},{"$f":"IF(Drawing!$Q64='Lookup Tables'!$K$20,COUNTA(Drawing!$N64:$O64),\"-\")","v":"-"},{"$f":"IF(Drawing!$G116='Lookup Tables'!$K$20,COUNTA(Drawing!$D116:$E116),\"-\")","v":"-"},{"$f":"IF(Drawing!$Q116='Lookup Tables'!$K$20,COUNTA(Drawing!$N116:$O116),\"-\")","v":"-"}]
[null,null,null,null,null,null,null,{"$f":"COUNTIF(Drawing!$D$25:$E$65,I45)+COUNTIF(Drawing!$N$25:$O$65,I45)+COUNTIF(Drawing!$D$77:$E$131,I45)+COUNTIF(Drawing!$N$77:$O$131,I45)","v":0},34,null,null,null,{"$f":"IF(Drawing!$G65='Lookup Tables'!$M$3,COUNTA(Drawing!$D65:$E65),\"-\")","v":"-"},{"$f":"IF(Drawing!$Q65='Lookup Tables'!$M$3,COUNTA(Drawing!$N65:$O65),\"-\")","v":"-"},{"$f":"IF(Drawing!$G117='Lookup Tables'!$M$3,COUNTA(Drawing!$D117:$E117),\"-\")","v":"-"},{"$f":"IF(Drawing!$Q117='Lookup Tables'!$M$3,COUNTA(Drawing!$N117:$O117),\"-\")","v":"-"},null,{"$f":"IF(Drawing!$G65='Lookup Tables'!$R$3,COUNTA(Drawing!$D65:$E65),\"-\")","v":"-"},{"$f":"IF(Drawing!$Q65='Lookup Tables'!$R$3,COUNTA(Drawing!$N65:$O65),\"-\")","v":"-"},{"$f":"IF(Drawing!$G132='Lookup Tables'!$R$3,COUNTA(Drawing!$D132:$E132),\"-\")","v":"-"},{"$f":"IF(Drawing!$Q132='Lookup Tables'!$R$3,COUNTA(Drawing!$N132:$O132),\"-\")","v":"-"},null,{"$f":"IF(Drawing!$G65='Lookup Tables'!$K$12,COUNTA(Drawing!$D65:$E65),\"-\")","v":"-"},{"$f":"IF(Drawing!$Q65='Lookup Tables'!$K$12,COUNTA(Drawing!$N65:$O65),\"-\")","v":"-"},{"$f":"IF(Drawing!$G132='Lookup Tables'!$K$12,COUNTA(Drawing!$D132:$E132),\"-\")","v":"-"},{"$f":"IF(Drawing!$Q132='Lookup Tables'!$K$12,COUNTA(Drawing!$N132:$O132),\"-\")","v":"-"},null,{"$f":"IF(Drawing!$G65='Lookup Tables'!$K$11,COUNTA(Drawing!$D65:$E65),\"-\")","v":"-"},{"$f":"IF(Drawing!$Q65='Lookup Tables'!$K$11,COUNTA(Drawing!$N65:$O65),\"-\")","v":"-"},{"$f":"IF(Drawing!$G132='Lookup Tables'!$K$11,COUNTA(Drawing!$D132:$E132),\"-\")","v":"-"},{"$f":"IF(Drawing!$Q132='Lookup Tables'!$K$11,COUNTA(Drawing!$N132:$O132),\"-\")","v":"-"},null,{"$f":"IF(Drawing!$G65='Lookup Tables'!$K$20,COUNTA(Drawing!$D65:$E65),\"-\")","v":"-"},{"$f":"IF(Drawing!$Q65='Lookup Tables'!$K$20,COUNTA(Drawing!$N65:$O65),\"-\")","v":"-"},{"$f":"IF(Drawing!$G117='Lookup Tables'!$K$20,COUNTA(Drawing!$D117:$E117),\"-\")","v":"-"},{"$f":"IF(Drawing!$Q117='Lookup Tables'!$K$20,COUNTA(Drawing!$N117:$O117),\"-\")","v":"-"}]
[null,null,null,null,null,null,null,{"$f":"COUNTIF(Drawing!$D$25:$E$65,I46)+COUNTIF(Drawing!$N$25:$O$65,I46)+COUNTIF(Drawing!$D$77:$E$131,I46)+COUNTIF(Drawing!$N$77:$O$131,I46)","v":0},35,null,null,null,null,null,{"$f":"IF(Drawing!$G118='Lookup Tables'!$M$3,COUNTA(Drawing!$D118:$E118),\"-\")","v":"-"},{"$f":"IF(Drawing!$Q118='Lookup Tables'!$M$3,COUNTA(Drawing!$N118:$O118),\"-\")","v":"-"},null,null,null,{"$f":"IF(Drawing!$G133='Lookup Tables'!$R$3,COUNTA(Drawing!$D133:$E133),\"-\")","v":"-"},{"$f":"IF(Drawing!$Q133='Lookup Tables'!$R$3,COUNTA(Drawing!$N133:$O133),\"-\")","v":"-"},null,null,null,{"$f":"IF(Drawing!$G133='Lookup Tables'!$K$12,COUNTA(Drawing!$D133:$E133),\"-\")","v":"-"},{"$f":"IF(Drawing!$Q133='Lookup Tables'!$K$12,COUNTA(Drawing!$N133:$O133),\"-\")","v":"-"},null,null,null,{"$f":"IF(Drawing!$G133='Lookup Tables'!$K$11,COUNTA(Drawing!$D133:$E133),\"-\")","v":"-"},{"$f":"IF(Drawing!$Q133='Lookup Tables'!$K$11,COUNTA(Drawing!$N133:$O133),\"-\")","v":"-"},null,null,null,{"$f":"IF(Drawing!$G118='Lookup Tables'!$K$20,COUNTA(Drawing!$D118:$E118),\"-\")","v":"-"},{"$f":"IF(Drawing!$Q118='Lookup Tables'!$K$20,COUNTA(Drawing!$N118:$O118),\"-\")","v":"-"}]
[null,null,null,null,null,null,null,{"$f":"COUNTIF(Drawing!$D$25:$E$65,I47)+COUNTIF(Drawing!$N$25:$O$65,I47)+COUNTIF(Drawing!$D$77:$E$131,I47)+COUNTIF(Drawing!$N$77:$O$131,I47)","v":0},36,null,null,null,null,null,{"$f":"IF(Drawing!$G119='Lookup Tables'!$M$3,COUNTA(Drawing!$D119:$E119),\"-\")","v":"-"},{"$f":"IF(Drawing!$Q119='Lookup Tables'!$M$3,COUNTA(Drawing!$N119:$O119),\"-\")","v":"-"},null,null,null,{"$f":"IF(Drawing!$G134='Lookup Tables'!$R$3,COUNTA(Drawing!$D134:$E134),\"-\")","v":"-"},{"$f":"IF(Drawing!$Q134='Lookup Tables'!$R$3,COUNTA(Drawing!$N134:$O134),\"-\")","v":"-"},null,null,null,{"$f":"IF(Drawing!$G134='Lookup Tables'!$K$12,COUNTA(Drawing!$D134:$E134),\"-\")","v":"-"},{"$f":"IF(Drawing!$Q134='Lookup Tables'!$K$12,COUNTA(Drawing!$N134:$O134),\"-\")","v":"-"},null,null,null,{"$f":"IF(Drawing!$G134='Lookup Tables'!$K$11,COUNTA(Drawing!$D134:$E134),\"-\")","v":"-"},{"$f":"IF(Drawing!$Q134='Lookup Tables'!$K$11,COUNTA(Drawing!$N134:$O134),\"-\")","v":"-"},null,null,null,{"$f":"IF(Drawing!$G119='Lookup Tables'!$K$20,COUNTA(Drawing!$D119:$E119),\"-\")","v":"-"},{"$f":"IF(Drawing!$Q119='Lookup Tables'!$K$20,COUNTA(Drawing!$N119:$O119),\"-\")","v":"-"}]
[null,null,null,null,null,null,null,{"$f":"COUNTIF(Drawing!$D$25:$E$65,I48)+COUNTIF(Drawing!$N$25:$O$65,I48)+COUNTIF(Drawing!$D$77:$E$131,I48)+COUNTIF(Drawing!$N$77:$O$131,I48)","v":0},37,null,null,null,null,null,{"$f":"IF(Drawing!$G120='Lookup Tables'!$M$3,COUNTA(Drawing!$D120:$E120),\"-\")","v":"-"},{"$f":"IF(Drawing!$Q120='Lookup Tables'!$M$3,COUNTA(Drawing!$N120:$O120),\"-\")","v":"-"},null,null,null,{"$f":"IF(Drawing!$G135='Lookup Tables'!$R$3,COUNTA(Drawing!$D135:$E135),\"-\")","v":"-"},{"$f":"IF(Drawing!$Q135='Lookup Tables'!$R$3,COUNTA(Drawing!$N135:$O135),\"-\")","v":"-"},null,null,null,{"$f":"IF(Drawing!$G135='Lookup Tables'!$K$12,COUNTA(Drawing!$D135:$E135),\"-\")","v":"-"},{"$f":"IF(Drawing!$Q135='Lookup Tables'!$K$12,COUNTA(Drawing!$N135:$O135),\"-\")","v":"-"},null,null,null,{"$f":"IF(Drawing!$G135='Lookup Tables'!$K$11,COUNTA(Drawing!$D135:$E135),\"-\")","v":"-"},{"$f":"IF(Drawing!$Q135='Lookup Tables'!$K$11,COUNTA(Drawing!$N135:$O135),\"-\")","v":"-"},null,null,null,{"$f":"IF(Drawing!$G120='Lookup Tables'!$K$20,COUNTA(Drawing!$D120:$E120),\"-\")","v":"-"},{"$f":"IF(Drawing!$Q120='Lookup Tables'!$K$20,COUNTA(Drawing!$N120:$O120),\"-\")","v":"-"}]
[null,null,null,null,null,null,null,{"$f":"COUNTIF(Drawing!$D$25:$E$65,I49)+COUNTIF(Drawing!$N$25:$O$65,I49)+COUNTIF(Drawing!$D$77:$E$131,I49)+COUNTIF(Drawing!$N$77:$O$131,I49)","v":0},38,null,null,null,null,null,{"$f":"IF(Drawing!$G121='Lookup Tables'!$M$3,COUNTA(Drawing!$D121:$E121),\"-\")","v":"-"},{"$f":"IF(Drawing!$Q121='Lookup Tables'!$M$3,COUNTA(Drawing!$N121:$O121),\"-\")","v":"-"},null,null,null,{"$f":"IF(Drawing!$G136='Lookup Tables'!$R$3,COUNTA(Drawing!$D136:$E136),\"-\")","v":"-"},{"$f":"IF(Drawing!$Q136='Lookup Tables'!$R$3,COUNTA(Drawing!$N136:$O136),\"-\")","v":"-"},null,null,null,{"$f":"IF(Drawing!$G136='Lookup Tables'!$K$12,COUNTA(Drawing!$D136:$E136),\"-\")","v":"-"},{"$f":"IF(Drawing!$Q136='Lookup Tables'!$K$12,COUNTA(Drawing!$N136:$O136),\"-\")","v":"-"},null,null,null,{"$f":"IF(Drawing!$G136='Lookup Tables'!$K$11,COUNTA(Drawing!$D136:$E136),\"-\")","v":"-"},{"$f":"IF(Drawing!$Q136='Lookup Tables'!$K$11,COUNTA(Drawing!$N136:$O136),\"-\")","v":"-"},null,null,null,{"$f":"IF(Drawing!$G121='Lookup Tables'!$K$20,COUNTA(Drawing!$D121:$E121),\"-\")","v":"-"},{"$f":"IF(Drawing!$Q121='Lookup Tables'!$K$20,COUNTA(Drawing!$N121:$O121),\"-\")","v":"-"}]
[null,null,null,null,null,null,null,{"$f":"COUNTIF(Drawing!$D$25:$E$65,I50)+COUNTIF(Drawing!$N$25:$O$65,I50)+COUNTIF(Drawing!$D$77:$E$131,I50)+COUNTIF(Drawing!$N$77:$O$131,I50)","v":0},39,null,null,null,null,null,{"$f":"IF(Drawing!$G122='Lookup Tables'!$M$3,COUNTA(Drawing!$D122:$E122),\"-\")","v":"-"},{"$f":"IF(Drawing!$Q122='Lookup Tables'!$M$3,COUNTA(Drawing!$N122:$O122),\"-\")","v":"-"},null,null,null,{"$f":"IF(Drawing!$G137='Lookup Tables'!$R$3,COUNTA(Drawing!$D137:$E137),\"-\")","v":"-"},{"$f":"IF(Drawing!$Q137='Lookup Tables'!$R$3,COUNTA(Drawing!$N137:$O137),\"-\")","v":"-"},null,null,null,{"$f":"IF(Drawing!$G137='Lookup Tables'!$K$12,COUNTA(Drawing!$D137:$E137),\"-\")","v":"-"},{"$f":"IF(Drawing!$Q137='Lookup Tables'!$K$12,COUNTA(Drawing!$N137:$O137),\"-\")","v":"-"},null,null,null,{"$f":"IF(Drawing!$G137='Lookup Tables'!$K$11,COUNTA(Drawing!$D137:$E137),\"-\")","v":"-"},{"$f":"IF(Drawing!$Q137='Lookup Tables'!$K$11,COUNTA(Drawing!$N137:$O137),\"-\")","v":"-"},null,null,null,{"$f":"IF(Drawing!$G122='Lookup Tables'!$K$20,COUNTA(Drawing!$D122:$E122),\"-\")","v":"-"},{"$f":"IF(Drawing!$Q122='Lookup Tables'!$K$20,COUNTA(Drawing!$N122:$O122),\"-\")","v":"-"}]
[null,null,null,null,null,null,null,{"$f":"COUNTIF(Drawing!$D$25:$E$65,I51)+COUNTIF(Drawing!$N$25:$O$65,I51)+COUNTIF(Drawing!$D$77:$E$131,I51)+COUNTIF(Drawing!$N$77:$O$131,I51)","v":0},40,null,null,null,null,null,{"$f":"IF(Drawing!$G123='Lookup Tables'!$M$3,COUNTA(Drawing!$D123:$E123),\"-\")","v":"-"},{"$f":"IF(Drawing!$Q123='Lookup Tables'!$M$3,COUNTA(Drawing!$N123:$O123),\"-\")","v":"-"},null,null,null,{"$f":"IF(Drawing!$G138='Lookup Tables'!$R$3,COUNTA(Drawing!$D138:$E138),\"-\")","v":"-"},{"$f":"IF(Drawing!$Q138='Lookup Tables'!$R$3,COUNTA(Drawing!$N138:$O138),\"-\")","v":"-"},null,null,null,{"$f":"IF(Drawing!$G138='Lookup Tables'!$K$12,COUNTA(Drawing!$D138:$E138),\"-\")","v":"-"},{"$f":"IF(Drawing!$Q138='Lookup Tables'!$K$12,COUNTA(Drawing!$N138:$O138),\"-\")","v":"-"},null,null,null,{"$f":"IF(Drawing!$G138='Lookup Tables'!$K$11,COUNTA(Drawing!$D138:$E138),\"-\")","v":"-"},{"$f":"IF(Drawing!$Q138='Lookup Tables'!$K$11,COUNTA(Drawing!$N138:$O138),\"-\")","v":"-"},null,null,null,{"$f":"IF(Drawing!$G123='Lookup Tables'!$K$20,COUNTA(Drawing!$D123:$E123),\"-\")","v":"-"},{"$f":"IF(Drawing!$Q123='Lookup Tables'!$K$20,COUNTA(Drawing!$N123:$O123),\"-\")","v":"-"}]
[null,null,null,null,null,null,null,{"$f":"COUNTIF(Drawing!$D$25:$E$65,I52)+COUNTIF(Drawing!$N$25:$O$65,I52)+COUNTIF(Drawing!$D$77:$E$131,I52)+COUNTIF(Drawing!$N$77:$O$131,I52)","v":0},41,null,null,null,null,null,{"$f":"IF(Drawing!$G124='Lookup Tables'!$M$3,COUNTA(Drawing!$D124:$E124),\"-\")","v":"-"},{"$f":"IF(Drawing!$Q124='Lookup Tables'!$M$3,COUNTA(Drawing!$N124:$O124),\"-\")","v":"-"},null,null,null,{"$f":"IF(Drawing!$G139='Lookup Tables'!$R$3,COUNTA(Drawing!$D139:$E139),\"-\")","v":"-"},{"$f":"IF(Drawing!$Q139='Lookup Tables'!$R$3,COUNTA(Drawing!$N139:$O139),\"-\")","v":"-"},null,null,null,{"$f":"IF(Drawing!$G139='Lookup Tables'!$K$12,COUNTA(Drawing!$D139:$E139),\"-\")","v":"-"},{"$f":"IF(Drawing!$Q139='Lookup Tables'!$K$12,COUNTA(Drawing!$N139:$O139),\"-\")","v":"-"},null,null,null,{"$f":"IF(Drawing!$G139='Lookup Tables'!$K$11,COUNTA(Drawing!$D139:$E139),\"-\")","v":"-"},{"$f":"IF(Drawing!$Q139='Lookup Tables'!$K$11,COUNTA(Drawing!$N139:$O139),\"-\")","v":"-"},null,null,null,{"$f":"IF(Drawing!$G124='Lookup Tables'!$K$20,COUNTA(Drawing!$D124:$E124),\"-\")","v":"-"},{"$f":"IF(Drawing!$Q124='Lookup Tables'!$K$20,COUNTA(Drawing!$N124:$O124),\"-\")","v":"-"}]
[null,null,null,null,null,null,null,{"$f":"COUNTIF(Drawing!$D$25:$E$65,I53)+COUNTIF(Drawing!$N$25:$O$65,I53)+COUNTIF(Drawing!$D$77:$E$131,I53)+COUNTIF(Drawing!$N$77:$O$131,I53)","v":0},42,null,null,null,null,null,{"$f":"IF(Drawing!$G125='Lookup Tables'!$M$3,COUNTA(Drawing!$D125:$E125),\"-\")","v":"-"},{"$f":"IF(Drawing!$Q125='Lookup Tables'!$M$3,COUNTA(Drawing!$N125:$O125),\"-\")","v":"-"},null,null,null,{"$f":"IF(Drawing!$G140='Lookup Tables'!$R$3,COUNTA(Drawing!$D140:$E140),\"-\")","v":"-"},{"$f":"IF(Drawing!$Q140='Lookup Tables'!$R$3,COUNTA(Drawing!$N140:$O140),\"-\")","v":"-"},null,null,null,{"$f":"IF(Drawing!$G140='Lookup Tables'!$K$12,COUNTA(Drawing!$D140:$E140),\"-\")","v":"-"},{"$f":"IF(Drawing!$Q140='Lookup Tables'!$K$12,COUNTA(Drawing!$N140:$O140),\"-\")","v":"-"},null,null,null,{"$f":"IF(Drawing!$G140='Lookup Tables'!$K$11,COUNTA(Drawing!$D140:$E140),\"-\")","v":"-"},{"$f":"IF(Drawing!$Q140='Lookup Tables'!$K$11,COUNTA(Drawing!$N140:$O140),\"-\")","v":"-"},null,null,null,{"$f":"IF(Drawing!$G125='Lookup Tables'!$K$20,COUNTA(Drawing!$D125:$E125),\"-\")","v":"-"},{"$f":"IF(Drawing!$Q125='Lookup Tables'!$K$20,COUNTA(Drawing!$N125:$O125),\"-\")","v":"-"}]
[null,null,null,null,null,null,null,{"$f":"COUNTIF(Drawing!$D$25:$E$65,I54)+COUNTIF(Drawing!$N$25:$O$65,I54)+COUNTIF(Drawing!$D$77:$E$131,I54)+COUNTIF(Drawing!$N$77:$O$131,I54)","v":0},43,null,null,null,null,null,{"$f":"IF(Drawing!$G126='Lookup Tables'!$M$3,COUNTA(Drawing!$D126:$E126),\"-\")","v":"-"},{"$f":"IF(Drawing!$Q126='Lookup Tables'!$M$3,COUNTA(Drawing!$N126:$O126),\"-\")","v":"-"},null,null,null,{"$f":"IF(Drawing!$G141='Lookup Tables'!$R$3,COUNTA(Drawing!$D141:$E141),\"-\")","v":"-"},{"$f":"IF(Drawing!$Q141='Lookup Tables'!$R$3,COUNTA(Drawing!$N141:$O141),\"-\")","v":"-"},null,null,null,{"$f":"IF(Drawing!$G141='Lookup Tables'!$K$12,COUNTA(Drawing!$D141:$E141),\"-\")","v":"-"},{"$f":"IF(Drawing!$Q141='Lookup Tables'!$K$12,COUNTA(Drawing!$N141:$O141),\"-\")","v":"-"},null,null,null,{"$f":"IF(Drawing!$G141='Lookup Tables'!$K$11,COUNTA(Drawing!$D141:$E141),\"-\")","v":"-"},{"$f":"IF(Drawing!$Q141='Lookup Tables'!$K$11,COUNTA(Drawing!$N141:$O141),\"-\")","v":"-"},null,null,null,{"$f":"IF(Drawing!$G126='Lookup Tables'!$K$20,COUNTA(Drawing!$D126:$E126),\"-\")","v":"-"},{"$f":"IF(Drawing!$Q126='Lookup Tables'!$K$20,COUNTA(Drawing!$N126:$O126),\"-\")","v":"-"}]
[null,null,null,null,null,null,null,{"$f":"COUNTIF(Drawing!$D$25:$E$65,I55)+COUNTIF(Drawing!$N$25:$O$65,I55)+COUNTIF(Drawing!$D$77:$E$131,I55)+COUNTIF(Drawing!$N$77:$O$131,I55)","v":0},44,null,null,null,null,null,{"$f":"IF(Drawing!$G127='Lookup Tables'!$M$3,COUNTA(Drawing!$D127:$E127),\"-\")","v":"-"},{"$f":"IF(Drawing!$Q127='Lookup Tables'!$M$3,COUNTA(Drawing!$N127:$O127),\"-\")","v":"-"},null,null,null,{"$f":"IF(Drawing!$G142='Lookup Tables'!$R$3,COUNTA(Drawing!$D142:$E142),\"-\")","v":"-"},{"$f":"IF(Drawing!$Q142='Lookup Tables'!$R$3,COUNTA(Drawing!$N142:$O142),\"-\")","v":"-"},null,null,null,{"$f":"IF(Drawing!$G142='Lookup Tables'!$K$12,COUNTA(Drawing!$D142:$E142),\"-\")","v":"-"},{"$f":"IF(Drawing!$Q142='Lookup Tables'!$K$12,COUNTA(Drawing!$N142:$O142),\"-\")","v":"-"},null,null,null,{"$f":"IF(Drawing!$G142='Lookup Tables'!$K$11,COUNTA(Drawing!$D142:$E142),\"-\")","v":"-"},{"$f":"IF(Drawing!$Q142='Lookup Tables'!$K$11,COUNTA(Drawing!$N142:$O142),\"-\")","v":"-"},null,null,null,{"$f":"IF(Drawing!$G127='Lookup Tables'!$K$20,COUNTA(Drawing!$D127:$E127),\"-\")","v":"-"},{"$f":"IF(Drawing!$Q127='Lookup Tables'!$K$20,COUNTA(Drawing!$N127:$O127),\"-\")","v":"-"}]
[null,null,null,null,null,null,null,{"$f":"COUNTIF(Drawing!$D$25:$E$65,I56)+COUNTIF(Drawing!$N$25:$O$65,I56)+COUNTIF(Drawing!$D$77:$E$131,I56)+COUNTIF(Drawing!$N$77:$O$131,I56)","v":0},45,null,null,null,null,null,{"$f":"IF(Drawing!$G128='Lookup Tables'!$M$3,COUNTA(Drawing!$D128:$E128),\"-\")","v":"-"},{"$f":"IF(Drawing!$Q128='Lookup Tables'!$M$3,COUNTA(Drawing!$N128:$O128),\"-\")","v":"-"},null,null,null,{"$f":"IF(Drawing!$G143='Lookup Tables'!$R$3,COUNTA(Drawing!$D143:$E143),\"-\")","v":"-"},{"$f":"IF(Drawing!$Q143='Lookup Tables'!$R$3,COUNTA(Drawing!$N143:$O143),\"-\")","v":"-"},null,null,null,{"$f":"IF(Drawing!$G143='Lookup Tables'!$K$12,COUNTA(Drawing!$D143:$E143),\"-\")","v":"-"},{"$f":"IF(Drawing!$Q143='Lookup Tables'!$K$12,COUNTA(Drawing!$N143:$O143),\"-\")","v":"-"},null,null,null,{"$f":"IF(Drawing!$G143='Lookup Tables'!$K$11,COUNTA(Drawing!$D143:$E143),\"-\")","v":"-"},{"$f":"IF(Drawing!$Q143='Lookup Tables'!$K$11,COUNTA(Drawing!$N143:$O143),\"-\")","v":"-"},null,null,null,{"$f":"IF(Drawing!$G128='Lookup Tables'!$K$20,COUNTA(Drawing!$D128:$E128),\"-\")","v":"-"},{"$f":"IF(Drawing!$Q128='Lookup Tables'!$K$20,COUNTA(Drawing!$N128:$O128),\"-\")","v":"-"}]
[null,null,null,null,null,null,null,{"$f":"COUNTIF(Drawing!$D$25:$E$65,I57)+COUNTIF(Drawing!$N$25:$O$65,I57)+COUNTIF(Drawing!$D$77:$E$131,I57)+COUNTIF(Drawing!$N$77:$O$131,I57)","v":0},46,null,null,null,null,null,{"$f":"IF(Drawing!$G129='Lookup Tables'!$M$3,COUNTA(Drawing!$D129:$E129),\"-\")","v":"-"},{"$f":"IF(Drawing!$Q129='Lookup Tables'!$M$3,COUNTA(Drawing!$N129:$O129),\"-\")","v":"-"},null,null,null,{"$f":"IF(Drawing!$G144='Lookup Tables'!$R$3,COUNTA(Drawing!$D144:$E144),\"-\")","v":"-"},{"$f":"IF(Drawing!$Q144='Lookup Tables'!$R$3,COUNTA(Drawing!$N144:$O144),\"-\")","v":"-"},null,null,null,{"$f":"IF(Drawing!$G144='Lookup Tables'!$K$12,COUNTA(Drawing!$D144:$E144),\"-\")","v":"-"},{"$f":"IF(Drawing!$Q144='Lookup Tables'!$K$12,COUNTA(Drawing!$N144:$O144),\"-\")","v":"-"},null,null,null,{"$f":"IF(Drawing!$G144='Lookup Tables'!$K$11,COUNTA(Drawing!$D144:$E144),\"-\")","v":"-"},{"$f":"IF(Drawing!$Q144='Lookup Tables'!$K$11,COUNTA(Drawing!$N144:$O144),\"-\")","v":"-"},null,null,null,{"$f":"IF(Drawing!$G129='Lookup Tables'!$K$20,COUNTA(Drawing!$D129:$E129),\"-\")","v":"-"},{"$f":"IF(Drawing!$Q129='Lookup Tables'!$K$20,COUNTA(Drawing!$N129:$O129),\"-\")","v":"-"}]
[null,null,null,null,null,null,null,{"$f":"COUNTIF(Drawing!$D$25:$E$65,I58)+COUNTIF(Drawing!$N$25:$O$65,I58)+COUNTIF(Drawing!$D$77:$E$131,I58)+COUNTIF(Drawing!$N$77:$O$131,I58)","v":0},47,null,null,null,null,null,{"$f":"IF(Drawing!$G130='Lookup Tables'!$M$3,COUNTA(Drawing!$D130:$E130),\"-\")","v":"-"},{"$f":"IF(Drawing!$Q130='Lookup Tables'!$M$3,COUNTA(Drawing!$N130:$O130),\"-\")","v":"-"},null,null,null,{"$f":"IF(Drawing!$G145='Lookup Tables'!$R$3,COUNTA(Drawing!$D145:$E145),\"-\")","v":"-"},{"$f":"IF(Drawing!$Q145='Lookup Tables'!$R$3,COUNTA(Drawing!$N145:$O145),\"-\")","v":"-"},null,null,null,{"$f":"IF(Drawing!$G145='Lookup Tables'!$K$12,COUNTA(Drawing!$D145:$E145),\"-\")","v":"-"},{"$f":"IF(Drawing!$Q145='Lookup Tables'!$K$12,COUNTA(Drawing!$N145:$O145),\"-\")","v":"-"},null,null,null,{"$f":"IF(Drawing!$G145='Lookup Tables'!$K$11,COUNTA(Drawing!$D145:$E145),\"-\")","v":"-"},{"$f":"IF(Drawing!$Q145='Lookup Tables'!$K$11,COUNTA(Drawing!$N145:$O145),\"-\")","v":"-"},null,null,null,{"$f":"IF(Drawing!$G130='Lookup Tables'!$K$20,COUNTA(Drawing!$D130:$E130),\"-\")","v":"-"},{"$f":"IF(Drawing!$Q130='Lookup Tables'!$K$20,COUNTA(Drawing!$N130:$O130),\"-\")","v":"-"}]
[null,null,null,null,null,null,null,{"$f":"COUNTIF(Drawing!$D$25:$E$65,I59)+COUNTIF(Drawing!$N$25:$O$65,I59)+COUNTIF(Drawing!$D$77:$E$131,I59)+COUNTIF(Drawing!$N$77:$O$131,I59)","v":0},48,null,null,null,null,null,{"$f":"IF(Drawing!$G131='Lookup Tables'!$M$3,COUNTA(Drawing!$D131:$E131),\"-\")","v":"-"},{"$f":"IF(Drawing!$Q131='Lookup Tables'!$M$3,COUNTA(Drawing!$N131:$O131),\"-\")","v":"-"},null,null,null,{"$f":"IF(Drawing!$G146='Lookup Tables'!$R$3,COUNTA(Drawing!$D146:$E146),\"-\")","v":"-"},{"$f":"IF(Drawing!$Q146='Lookup Tables'!$R$3,COUNTA(Drawing!$N146:$O146),\"-\")","v":"-"},null,null,null,{"$f":"IF(Drawing!$G146='Lookup Tables'!$K$12,COUNTA(Drawing!$D146:$E146),\"-\")","v":"-"},{"$f":"IF(Drawing!$Q146='Lookup Tables'!$K$12,COUNTA(Drawing!$N146:$O146),\"-\")","v":"-"},null,null,null,{"$f":"IF(Drawing!$G146='Lookup Tables'!$K$11,COUNTA(Drawing!$D146:$E146),\"-\")","v":"-"},{"$f":"IF(Drawing!$Q146='Lookup Tables'!$K$11,COUNTA(Drawing!$N146:$O146),\"-\")","v":"-"},null,null,null,{"$f":"IF(Drawing!$G131='Lookup Tables'!$K$20,COUNTA(Drawing!$D131:$E131),\"-\")","v":"-"},{"$f":"IF(Drawing!$Q131='Lookup Tables'!$K$20,COUNTA(Drawing!$N131:$O131),\"-\")","v":"-"}]
[null,null,null,null,null,null,null,{"$f":"COUNTIF(Drawing!$D$25:$E$65,I60)+COUNTIF(Drawing!$N$25:$O$65,I60)+COUNTIF(Drawing!$D$77:$E$131,I60)+COUNTIF(Drawing!$N$77:$O$131,I60)","v":0},49]
[null,null,null,null,null,null,null,{"$f":"COUNTIF(Drawing!$D$25:$E$65,I61)+COUNTIF(Drawing!$N$25:$O$65,I61)+COUNTIF(Drawing!$D$77:$E$131,I61)+COUNTIF(Drawing!$N$77:$O$131,I61)","v":0},50]
[null,null,null,null,null,null,null,{"$f":"COUNTIF(Drawing!$D$25:$E$65,I62)+COUNTIF(Drawing!$N$25:$O$65,I62)+COUNTIF(Drawing!$D$77:$E$131,I62)+COUNTIF(Drawing!$N$77:$O$131,I62)","v":0},51]
[null,null,null,null,null,null,null,{"$f":"COUNTIF(Drawing!$D$25:$E$65,I63)+COUNTIF(Drawing!$N$25:$O$65,I63)+COUNTIF(Drawing!$D$77:$E$131,I63)+COUNTIF(Drawing!$N$77:$O$131,I63)","v":0},52]
[null,null,null,null,null,null,null,{"$f":"COUNTIF(Drawing!$D$25:$E$65,I64)+COUNTIF(Drawing!$N$25:$O$65,I64)+COUNTIF(Drawing!$D$77:$E$131,I64)+COUNTIF(Drawing!$N$77:$O$131,I64)","v":0},53]
[null,550,null,null,null,null,null,{"$f":"COUNTIF(Drawing!$D$25:$E$65,I65)+COUNTIF(Drawing!$N$25:$O$65,I65)+COUNTIF(Drawing!$D$77:$E$131,I65)+COUNTIF(Drawing!$N$77:$O$131,I65)","v":0},54]
[null,null,null,null,null,null,null,{"$f":"COUNTIF(Drawing!$D$25:$E$65,I66)+COUNTIF(Drawing!$N$25:$O$65,I66)+COUNTIF(Drawing!$D$77:$E$131,I66)+COUNTIF(Drawing!$N$77:$O$131,I66)","v":0},55]
[null,null,null,null,null,null,null,{"$f":"COUNTIF(Drawing!$D$25:$E$65,I67)+COUNTIF(Drawing!$N$25:$O$65,I67)+COUNTIF(Drawing!$D$77:$E$131,I67)+COUNTIF(Drawing!$N$77:$O$131,I67)","v":0},56]
[null,null,null,null,null,null,null,{"$f":"COUNTIF(Drawing!$D$25:$E$65,I68)+COUNTIF(Drawing!$N$25:$O$65,I68)+COUNTIF(Drawing!$D$77:$E$131,I68)+COUNTIF(Drawing!$N$77:$O$131,I68)","v":0},57]
[null,null,null,null,null,null,null,{"$f":"COUNTIF(Drawing!$D$25:$E$65,I69)+COUNTIF(Drawing!$N$25:$O$65,I69)+COUNTIF(Drawing!$D$77:$E$131,I69)+COUNTIF(Drawing!$N$77:$O$131,I69)","v":0},58]
[null,null,null,null,null,null,null,{"$f":"COUNTIF(Drawing!$D$25:$E$65,I70)+COUNTIF(Drawing!$N$25:$O$65,I70)+COUNTIF(Drawing!$D$77:$E$131,I70)+COUNTIF(Drawing!$N$77:$O$131,I70)","v":0},59]
[null,null,null,null,null,null,null,{"$f":"COUNTIF(Drawing!$D$25:$E$65,I71)+COUNTIF(Drawing!$N$25:$O$65,I71)+COUNTIF(Drawing!$D$77:$E$131,I71)+COUNTIF(Drawing!$N$77:$O$131,I71)","v":0},60]
[null,null,null,null,null,null,null,{"$f":"COUNTIF(Drawing!$D$25:$E$65,I72)+COUNTIF(Drawing!$N$25:$O$65,I72)+COUNTIF(Drawing!$D$77:$E$131,I72)+COUNTIF(Drawing!$N$77:$O$131,I72)","v":0},61]
[null,null,null,null,null,null,null,{"$f":"COUNTIF(Drawing!$D$25:$E$65,I73)+COUNTIF(Drawing!$N$25:$O$65,I73)+COUNTIF(Drawing!$D$77:$E$131,I73)+COUNTIF(Drawing!$N$77:$O$131,I73)","v":0},62]
[null,null,null,null,null,null,null,{"$f":"COUNTIF(Drawing!$D$25:$E$65,I74)+COUNTIF(Drawing!$N$25:$O$65,I74)+COUNTIF(Drawing!$D$77:$E$131,I74)+COUNTIF(Drawing!$N$77:$O$131,I74)","v":0},63]
[null,null,null,null,null,null,null,{"$f":"COUNTIF(Drawing!$D$25:$E$65,I75)+COUNTIF(Drawing!$N$25:$O$65,I75)+COUNTIF(Drawing!$D$77:$E$131,I75)+COUNTIF(Drawing!$N$77:$O$131,I75)","v":0},64]
[null,null,null,null,null,null,null,{"$f":"COUNTIF(Drawing!$D$25:$E$65,I76)+COUNTIF(Drawing!$N$25:$O$65,I76)+COUNTIF(Drawing!$D$77:$E$131,I76)+COUNTIF(Drawing!$N$77:$O$131,I76)","v":0},65]
[null,null,null,null,null,null,null,{"$f":"COUNTIF(Drawing!$D$25:$E$65,I77)+COUNTIF(Drawing!$N$25:$O$65,I77)+COUNTIF(Drawing!$D$77:$E$131,I77)+COUNTIF(Drawing!$N$77:$O$131,I77)","v":0},66]
[null,null,null,null,null,null,null,{"$f":"COUNTIF(Drawing!$D$25:$E$65,I78)+COUNTIF(Drawing!$N$25:$O$65,I78)+COUNTIF(Drawing!$D$77:$E$131,I78)+COUNTIF(Drawing!$N$77:$O$131,I78)","v":0},67]
[null,null,null,null,null,null,null,{"$f":"COUNTIF(Drawing!$D$25:$E$65,I79)+COUNTIF(Drawing!$N$25:$O$65,I79)+COUNTIF(Drawing!$D$77:$E$131,I79)+COUNTIF(Drawing!$N$77:$O$131,I79)","v":0},68]
[null,null,null,null,null,null,null,{"$f":"COUNTIF(Drawing!$D$25:$E$65,I80)+COUNTIF(Drawing!$N$25:$O$65,I80)+COUNTIF(Drawing!$D$77:$E$131,I80)+COUNTIF(Drawing!$N$77:$O$131,I80)","v":0},69]
[null,null,null,null,null,null,null,{"$f":"COUNTIF(Drawing!$D$25:$E$65,I81)+COUNTIF(Drawing!$N$25:$O$65,I81)+COUNTIF(Drawing!$D$77:$E$131,I81)+COUNTIF(Drawing!$N$77:$O$131,I81)","v":0},70]
[null,null,null,null,null,null,null,{"$f":"COUNTIF(Drawing!$D$25:$E$65,I82)+COUNTIF(Drawing!$N$25:$O$65,I82)+COUNTIF(Drawing!$D$77:$E$131,I82)+COUNTIF(Drawing!$N$77:$O$131,I82)","v":0},71]
[null,null,null,null,null,null,null,{"$f":"COUNTIF(Drawing!$D$25:$E$65,I83)+COUNTIF(Drawing!$N$25:$O$65,I83)+COUNTIF(Drawing!$D$77:$E$131,I83)+COUNTIF(Drawing!$N$77:$O$131,I83)","v":0},72]
[null,null,null,null,null,null,null,{"$f":"COUNTIF(Drawing!$D$25:$E$65,I84)+COUNTIF(Drawing!$N$25:$O$65,I84)+COUNTIF(Drawing!$D$77:$E$131,I84)+COUNTIF(Drawing!$N$77:$O$131,I84)","v":0},73]
[null,null,null,null,null,null,null,{"$f":"COUNTIF(Drawing!$D$25:$E$65,I85)+COUNTIF(Drawing!$N$25:$O$65,I85)+COUNTIF(Drawing!$D$77:$E$131,I85)+COUNTIF(Drawing!$N$77:$O$131,I85)","v":0},74]
[null,null,null,null,null,null,null,{"$f":"COUNTIF(Drawing!$D$25:$E$65,I86)+COUNTIF(Drawing!$N$25:$O$65,I86)+COUNTIF(Drawing!$D$77:$E$131,I86)+COUNTIF(Drawing!$N$77:$O$131,I86)","v":0},75]
[null,null,null,null,null,null,null,{"$f":"COUNTIF(Drawing!$D$25:$E$65,I87)+COUNTIF(Drawing!$N$25:$O$65,I87)+COUNTIF(Drawing!$D$77:$E$131,I87)+COUNTIF(Drawing!$N$77:$O$131,I87)","v":0},76]
[null,null,null,null,null,null,null,{"$f":"COUNTIF(Drawing!$D$25:$E$65,I88)+COUNTIF(Drawing!$N$25:$O$65,I88)+COUNTIF(Drawing!$D$77:$E$131,I88)+COUNTIF(Drawing!$N$77:$O$131,I88)","v":0},77]
[null,null,null,null,null,null,null,{"$f":"COUNTIF(Drawing!$D$25:$E$65,I89)+COUNTIF(Drawing!$N$25:$O$65,I89)+COUNTIF(Drawing!$D$77:$E$131,I89)+COUNTIF(Drawing!$N$77:$O$131,I89)","v":0},78]
[null,null,null,null,null,null,null,{"$f":"COUNTIF(Drawing!$D$25:$E$65,I90)+COUNTIF(Drawing!$N$25:$O$65,I90)+COUNTIF(Drawing!$D$77:$E$131,I90)+COUNTIF(Drawing!$N$77:$O$131,I90)","v":0},79]
[null,null,null,null,null,null,null,{"$f":"COUNTIF(Drawing!$D$25:$E$65,I91)+COUNTIF(Drawing!$N$25:$O$65,I91)+COUNTIF(Drawing!$D$77:$E$131,I91)+COUNTIF(Drawing!$N$77:$O$131,I91)","v":0},80]
[null,null,null,null,null,null,null,{"$f":"COUNTIF(Drawing!$D$25:$E$65,I92)+COUNTIF(Drawing!$N$25:$O$65,I92)+COUNTIF(Drawing!$D$77:$E$131,I92)+COUNTIF(Drawing!$N$77:$O$131,I92)","v":0},81]
[null,null,null,null,null,null,null,{"$f":"COUNTIF(Drawing!$D$25:$E$65,I93)+COUNTIF(Drawing!$N$25:$O$65,I93)+COUNTIF(Drawing!$D$77:$E$131,I93)+COUNTIF(Drawing!$N$77:$O$131,I93)","v":0},82]
[null,null,null,null,null,null,null,{"$f":"COUNTIF(Drawing!$D$25:$E$65,I94)+COUNTIF(Drawing!$N$25:$O$65,I94)+COUNTIF(Drawing!$D$77:$E$131,I94)+COUNTIF(Drawing!$N$77:$O$131,I94)","v":0},83]
[null,null,null,null,null,null,null,{"$f":"COUNTIF(Drawing!$D$25:$E$65,I95)+COUNTIF(Drawing!$N$25:$O$65,I95)+COUNTIF(Drawing!$D$77:$E$131,I95)+COUNTIF(Drawing!$N$77:$O$131,I95)","v":0},84]
[null,null,null,null,null,null,null,{"$f":"COUNTIF(Drawing!$D$25:$E$65,I96)+COUNTIF(Drawing!$N$25:$O$65,I96)+COUNTIF(Drawing!$D$77:$E$131,I96)+COUNTIF(Drawing!$N$77:$O$131,I96)","v":0},85]
[null,null,null,null,null,null,null,{"$f":"COUNTIF(Drawing!$D$25:$E$65,I97)+COUNTIF(Drawing!$N$25:$O$65,I97)+COUNTIF(Drawing!$D$77:$E$131,I97)+COUNTIF(Drawing!$N$77:$O$131,I97)","v":0},86]
[null,null,null,null,null,null,null,{"$f":"COUNTIF(Drawing!$D$25:$E$65,I98)+COUNTIF(Drawing!$N$25:$O$65,I98)+COUNTIF(Drawing!$D$77:$E$131,I98)+COUNTIF(Drawing!$N$77:$O$131,I98)","v":0},87]
[null,null,null,null,null,null,null,{"$f":"COUNTIF(Drawing!$D$25:$E$65,I99)+COUNTIF(Drawing!$N$25:$O$65,I99)+COUNTIF(Drawing!$D$77:$E$131,I99)+COUNTIF(Drawing!$N$77:$O$131,I99)","v":0},88]
[null,null,null,null,null,null,null,{"$f":"COUNTIF(Drawing!$D$25:$E$65,I100)+COUNTIF(Drawing!$N$25:$O$65,I100)+COUNTIF(Drawing!$D$77:$E$131,I100)+COUNTIF(Drawing!$N$77:$O$131,I100)","v":0},89]
[null,null,null,null,null,null,null,{"$f":"COUNTIF(Drawing!$D$25:$E$65,I101)+COUNTIF(Drawing!$N$25:$O$65,I101)+COUNTIF(Drawing!$D$77:$E$131,I101)+COUNTIF(Drawing!$N$77:$O$131,I101)","v":0},90]
[null,null,null,null,null,null,null,{"$f":"COUNTIF(Drawing!$D$25:$E$65,I102)+COUNTIF(Drawing!$N$25:$O$65,I102)+COUNTIF(Drawing!$D$77:$E$131,I102)+COUNTIF(Drawing!$N$77:$O$131,I102)","v":0},91]
[null,null,null,null,null,null,null,{"$f":"COUNTIF(Drawing!$D$25:$E$65,I103)+COUNTIF(Drawing!$N$25:$O$65,I103)+COUNTIF(Drawing!$D$77:$E$131,I103)+COUNTIF(Drawing!$N$77:$O$131,I103)","v":0},92]
[null,null,null,null,null,null,null,{"$f":"COUNTIF(Drawing!$D$25:$E$65,I104)+COUNTIF(Drawing!$N$25:$O$65,I104)+COUNTIF(Drawing!$D$77:$E$131,I104)+COUNTIF(Drawing!$N$77:$O$131,I104)","v":0},93]
[null,null,null,null,null,null,null,{"$f":"COUNTIF(Drawing!$D$25:$E$65,I105)+COUNTIF(Drawing!$N$25:$O$65,I105)+COUNTIF(Drawing!$D$77:$E$131,I105)+COUNTIF(Drawing!$N$77:$O$131,I105)","v":0},94]
[null,null,null,null,null,null,null,{"$f":"COUNTIF(Drawing!$D$25:$E$65,I106)+COUNTIF(Drawing!$N$25:$O$65,I106)+COUNTIF(Drawing!$D$77:$E$131,I106)+COUNTIF(Drawing!$N$77:$O$131,I106)","v":0},95]
[null,null,null,null,null,null,null,{"$f":"COUNTIF(Drawing!$D$25:$E$65,I107)+COUNTIF(Drawing!$N$25:$O$65,I107)+COUNTIF(Drawing!$D$77:$E$131,I107)+COUNTIF(Drawing!$N$77:$O$131,I107)","v":0},96]
[null,null,null,null,null,null,null,{"$f":"COUNTIF(Drawing!$D$25:$E$65,I108)+COUNTIF(Drawing!$N$25:$O$65,I108)+COUNTIF(Drawing!$D$77:$E$131,I108)+COUNTIF(Drawing!$N$77:$O$131,I108)","v":0},97]
[null,null,null,null,null,null,null,{"$f":"COUNTIF(Drawing!$D$25:$E$65,I109)+COUNTIF(Drawing!$N$25:$O$65,I109)+COUNTIF(Drawing!$D$77:$E$131,I109)+COUNTIF(Drawing!$N$77:$O$131,I109)","v":0},98]
[null,null,null,null,null,null,null,{"$f":"COUNTIF(Drawing!$D$25:$E$65,I110)+COUNTIF(Drawing!$N$25:$O$65,I110)+COUNTIF(Drawing!$D$77:$E$131,I110)+COUNTIF(Drawing!$N$77:$O$131,I110)","v":0},99]
[null,null,null,null,null,null,null,{"$f":"COUNTIF(Drawing!$D$25:$E$65,I111)+COUNTIF(Drawing!$N$25:$O$65,I111)+COUNTIF(Drawing!$D$77:$E$131,I111)+COUNTIF(Drawing!$N$77:$O$131,I111)","v":0},100]
[null,null,null,null,null,null,null,{"$f":"COUNTIF(Drawing!$D$25:$E$65,I112)+COUNTIF(Drawing!$N$25:$O$65,I112)+COUNTIF(Drawing!$D$77:$E$131,I112)+COUNTIF(Drawing!$N$77:$O$131,I112)","v":0},101]
[null,null,null,null,null,null,null,{"$f":"COUNTIF(Drawing!$D$25:$E$65,I113)+COUNTIF(Drawing!$N$25:$O$65,I113)+COUNTIF(Drawing!$D$77:$E$131,I113)+COUNTIF(Drawing!$N$77:$O$131,I113)","v":0},102]
[null,null,null,null,null,null,null,{"$f":"COUNTIF(Drawing!$D$25:$E$65,I114)+COUNTIF(Drawing!$N$25:$O$65,I114)+COUNTIF(Drawing!$D$77:$E$131,I114)+COUNTIF(Drawing!$N$77:$O$131,I114)","v":0},103]
[null,null,null,null,null,null,null,{"$f":"COUNTIF(Drawing!$D$25:$E$65,I115)+COUNTIF(Drawing!$N$25:$O$65,I115)+COUNTIF(Drawing!$D$77:$E$131,I115)+COUNTIF(Drawing!$N$77:$O$131,I115)","v":0},104]
[null,null,null,null,null,null,null,{"$f":"COUNTIF(Drawing!$D$25:$E$65,I116)+COUNTIF(Drawing!$N$25:$O$65,I116)+COUNTIF(Drawing!$D$77:$E$131,I116)+COUNTIF(Drawing!$N$77:$O$131,I116)","v":0},105]
[null,null,null,null,null,null,null,{"$f":"COUNTIF(Drawing!$D$25:$E$65,I117)+COUNTIF(Drawing!$N$25:$O$65,I117)+COUNTIF(Drawing!$D$77:$E$131,I117)+COUNTIF(Drawing!$N$77:$O$131,I117)","v":0},106]
[null,null,null,null,null,null,null,{"$f":"COUNTIF(Drawing!$D$25:$E$65,I118)+COUNTIF(Drawing!$N$25:$O$65,I118)+COUNTIF(Drawing!$D$77:$E$131,I118)+COUNTIF(Drawing!$N$77:$O$131,I118)","v":0},107]
[null,null,null,null,null,null,null,{"$f":"COUNTIF(Drawing!$D$25:$E$65,I119)+COUNTIF(Drawing!$N$25:$O$65,I119)+COUNTIF(Drawing!$D$77:$E$131,I119)+COUNTIF(Drawing!$N$77:$O$131,I119)","v":0},108]
[null,null,null,null,null,null,null,{"$f":"COUNTIF(Drawing!$D$25:$E$65,I120)+COUNTIF(Drawing!$N$25:$O$65,I120)+COUNTIF(Drawing!$D$77:$E$131,I120)+COUNTIF(Drawing!$N$77:$O$131,I120)","v":0},109]
[null,null,null,null,null,null,null,{"$f":"COUNTIF(Drawing!$D$25:$E$65,I121)+COUNTIF(Drawing!$N$25:$O$65,I121)+COUNTIF(Drawing!$D$77:$E$131,I121)+COUNTIF(Drawing!$N$77:$O$131,I121)","v":0},110]
[null,null,null,null,null,null,null,{"$f":"COUNTIF(Drawing!$D$25:$E$65,I122)+COUNTIF(Drawing!$N$25:$O$65,I122)+COUNTIF(Drawing!$D$77:$E$131,I122)+COUNTIF(Drawing!$N$77:$O$131,I122)","v":0},111]
[null,null,null,null,null,null,null,{"$f":"COUNTIF(Drawing!$D$25:$E$65,I123)+COUNTIF(Drawing!$N$25:$O$65,I123)+COUNTIF(Drawing!$D$77:$E$131,I123)+COUNTIF(Drawing!$N$77:$O$131,I123)","v":0},112]
[null,null,null,null,null,null,null,{"$f":"COUNTIF(Drawing!$D$25:$E$65,I124)+COUNTIF(Drawing!$N$25:$O$65,I124)+COUNTIF(Drawing!$D$77:$E$131,I124)+COUNTIF(Drawing!$N$77:$O$131,I124)","v":0},113]
[null,null,null,null,null,null,null,{"$f":"COUNTIF(Drawing!$D$25:$E$65,I125)+COUNTIF(Drawing!$N$25:$O$65,I125)+COUNTIF(Drawing!$D$77:$E$131,I125)+COUNTIF(Drawing!$N$77:$O$131,I125)","v":0},114]
[null,null,null,null,null,null,null,{"$f":"COUNTIF(Drawing!$D$25:$E$65,I126)+COUNTIF(Drawing!$N$25:$O$65,I126)+COUNTIF(Drawing!$D$77:$E$131,I126)+COUNTIF(Drawing!$N$77:$O$131,I126)","v":0},115]
[null,null,null,null,null,null,null,{"$f":"COUNTIF(Drawing!$D$25:$E$65,I127)+COUNTIF(Drawing!$N$25:$O$65,I127)+COUNTIF(Drawing!$D$77:$E$131,I127)+COUNTIF(Drawing!$N$77:$O$131,I127)","v":0},116]
[null,null,null,null,null,null,null,{"$f":"COUNTIF(Drawing!$D$25:$E$65,I128)+COUNTIF(Drawing!$N$25:$O$65,I128)+COUNTIF(Drawing!$D$77:$E$131,I128)+COUNTIF(Drawing!$N$77:$O$131,I128)","v":0},117]
[null,null,null,null,null,null,null,{"$f":"COUNTIF(Drawing!$D$25:$E$65,I129)+COUNTIF(Drawing!$N$25:$O$65,I129)+COUNTIF(Drawing!$D$77:$E$131,I129)+COUNTIF(Drawing!$N$77:$O$131,I129)","v":0},118]
[null,null,null,null,null,null,null,{"$f":"COUNTIF(Drawing!$D$25:$E$65,I130)+COUNTIF(Drawing!$N$25:$O$65,I130)+COUNTIF(Drawing!$D$77:$E$131,I130)+COUNTIF(Drawing!$N$77:$O$131,I130)","v":0},119]
[null,null,null,null,null,null,null,{"$f":"COUNTIF(Drawing!$D$25:$E$65,I131)+COUNTIF(Drawing!$N$25:$O$65,I131)+COUNTIF(Drawing!$D$77:$E$131,I131)+COUNTIF(Drawing!$N$77:$O$131,I131)","v":0},120]
[null,null,null,null,null,null,null,{"$f":"COUNTIF(Drawing!$D$25:$E$65,I132)+COUNTIF(Drawing!$N$25:$O$65,I132)+COUNTIF(Drawing!$D$77:$E$131,I132)+COUNTIF(Drawing!$N$77:$O$131,I132)","v":0},121]
[null,null,null,null,null,null,null,{"$f":"COUNTIF(Drawing!$D$25:$E$65,I133)+COUNTIF(Drawing!$N$25:$O$65,I133)+COUNTIF(Drawing!$D$77:$E$131,I133)+COUNTIF(Drawing!$N$77:$O$131,I133)","v":0},122]
[null,null,null,null,null,null,null,{"$f":"COUNTIF(Drawing!$D$25:$E$65,I134)+COUNTIF(Drawing!$N$25:$O$65,I134)+COUNTIF(Drawing!$D$77:$E$131,I134)+COUNTIF(Drawing!$N$77:$O$131,I134)","v":0},123]
[null,null,null,null,null,null,null,{"$f":"COUNTIF(Drawing!$D$25:$E$65,I135)+COUNTIF(Drawing!$N$25:$O$65,I135)+COUNTIF(Drawing!$D$77:$E$131,I135)+COUNTIF(Drawing!$N$77:$O$131,I135)","v":0},124]
[null,null,null,null,null,null,null,{"$f":"COUNTIF(Drawing!$D$25:$E$65,I136)+COUNTIF(Drawing!$N$25:$O$65,I136)+COUNTIF(Drawing!$D$77:$E$131,I136)+COUNTIF(Drawing!$N$77:$O$131,I136)","v":0},125]
[null,null,null,null,null,null,null,{"$f":"COUNTIF(Drawing!$D$25:$E$65,I137)+COUNTIF(Drawing!$N$25:$O$65,I137)+COUNTIF(Drawing!$D$77:$E$131,I137)+COUNTIF(Drawing!$N$77:$O$131,I137)","v":0},126]
[null,null,null,null,null,null,null,{"$f":"COUNTIF(Drawing!$D$25:$E$65,I138)+COUNTIF(Drawing!$N$25:$O$65,I138)+COUNTIF(Drawing!$D$77:$E$131,I138)+COUNTIF(Drawing!$N$77:$O$131,I138)","v":0},127]
[null,null,null,null,null,null,null,{"$f":"COUNTIF(Drawing!$D$25:$E$65,I139)+COUNTIF(Drawing!$N$25:$O$65,I139)+COUNTIF(Drawing!$D$77:$E$131,I139)+COUNTIF(Drawing!$N$77:$O$131,I139)","v":0},128]
[null,null,null,null,null,null,null,{"$f":"COUNTIF(Drawing!$D$25:$E$65,I140)+COUNTIF(Drawing!$N$25:$O$65,I140)+COUNTIF(Drawing!$D$77:$E$131,I140)+COUNTIF(Drawing!$N$77:$O$131,I140)","v":0},129]
[null,null,null,null,null,null,null,{"$f":"COUNTIF(Drawing!$D$25:$E$65,I141)+COUNTIF(Drawing!$N$25:$O$65,I141)+COUNTIF(Drawing!$D$77:$E$131,I141)+COUNTIF(Drawing!$N$77:$O$131,I141)","v":0},130]
[null,null,null,null,null,null,null,{"$f":"COUNTIF(Drawing!$D$25:$E$65,I142)+COUNTIF(Drawing!$N$25:$O$65,I142)+COUNTIF(Drawing!$D$77:$E$131,I142)+COUNTIF(Drawing!$N$77:$O$131,I142)","v":0},131]
[null,null,null,null,null,null,null,{"$f":"COUNTIF(Drawing!$D$25:$E$65,I143)+COUNTIF(Drawing!$N$25:$O$65,I143)+COUNTIF(Drawing!$D$77:$E$131,I143)+COUNTIF(Drawing!$N$77:$O$131,I143)","v":0},132]
[null,null,null,null,null,null,null,{"$f":"COUNTIF(Drawing!$D$25:$E$65,I144)+COUNTIF(Drawing!$N$25:$O$65,I144)+COUNTIF(Drawing!$D$77:$E$131,I144)+COUNTIF(Drawing!$N$77:$O$131,I144)","v":0},133]
[null,null,null,null,null,null,null,{"$f":"COUNTIF(Drawing!$D$25:$E$65,I145)+COUNTIF(Drawing!$N$25:$O$65,I145)+COUNTIF(Drawing!$D$77:$E$131,I145)+COUNTIF(Drawing!$N$77:$O$131,I145)","v":0},134]
[null,null,null,null,null,null,null,{"$f":"COUNTIF(Drawing!$D$25:$E$65,I146)+COUNTIF(Drawing!$N$25:$O$65,I146)+COUNTIF(Drawing!$D$77:$E$131,I146)+COUNTIF(Drawing!$N$77:$O$131,I146)","v":0},135]
[null,null,null,null,null,null,null,{"$f":"COUNTIF(Drawing!$D$25:$E$65,I147)+COUNTIF(Drawing!$N$25:$O$65,I147)+COUNTIF(Drawing!$D$77:$E$131,I147)+COUNTIF(Drawing!$N$77:$O$131,I147)","v":0},136]
[null,null,null,null,null,null,null,{"$f":"COUNTIF(Drawing!$D$25:$E$65,I148)+COUNTIF(Drawing!$N$25:$O$65,I148)+COUNTIF(Drawing!$D$77:$E$131,I148)+COUNTIF(Drawing!$N$77:$O$131,I148)","v":0},137]
[null,null,null,null,null,null,null,{"$f":"COUNTIF(Drawing!$D$25:$E$65,I149)+COUNTIF(Drawing!$N$25:$O$65,I149)+COUNTIF(Drawing!$D$77:$E$131,I149)+COUNTIF(Drawing!$N$77:$O$131,I149)","v":0},138]
[null,null,null,null,null,null,null,{"$f":"COUNTIF(Drawing!$D$25:$E$65,I150)+COUNTIF(Drawing!$N$25:$O$65,I150)+COUNTIF(Drawing!$D$77:$E$131,I150)+COUNTIF(Drawing!$N$77:$O$131,I150)","v":0},139]
[null,null,null,null,null,null,null,{"$f":"COUNTIF(Drawing!$D$25:$E$65,I151)+COUNTIF(Drawing!$N$25:$O$65,I151)+COUNTIF(Drawing!$D$77:$E$131,I151)+COUNTIF(Drawing!$N$77:$O$131,I151)","v":0},140]
[null,null,null,null,null,null,null,{"$f":"COUNTIF(Drawing!$D$25:$E$65,I152)+COUNTIF(Drawing!$N$25:$O$65,I152)+COUNTIF(Drawing!$D$77:$E$131,I152)+COUNTIF(Drawing!$N$77:$O$131,I152)","v":0},141]
[null,null,null,null,null,null,null,{"$f":"COUNTIF(Drawing!$D$25:$E$65,I153)+COUNTIF(Drawing!$N$25:$O$65,I153)+COUNTIF(Drawing!$D$77:$E$131,I153)+COUNTIF(Drawing!$N$77:$O$131,I153)","v":0},142]
[null,null,null,null,null,null,null,{"$f":"COUNTIF(Drawing!$D$25:$E$65,I154)+COUNTIF(Drawing!$N$25:$O$65,I154)+COUNTIF(Drawing!$D$77:$E$131,I154)+COUNTIF(Drawing!$N$77:$O$131,I154)","v":0},143]
[null,null,null,null,null,null,null,{"$f":"COUNTIF(Drawing!$D$25:$E$65,I155)+COUNTIF(Drawing!$N$25:$O$65,I155)+COUNTIF(Drawing!$D$77:$E$131,I155)+COUNTIF(Drawing!$N$77:$O$131,I155)","v":0},144]
[null,null,null,null,null,null,null,{"$f":"COUNTIF(Drawing!$D$25:$E$65,I156)+COUNTIF(Drawing!$N$25:$O$65,I156)+COUNTIF(Drawing!$D$77:$E$131,I156)+COUNTIF(Drawing!$N$77:$O$131,I156)","v":0},145]
[null,null,null,null,null,null,null,{"$f":"COUNTIF(Drawing!$D$25:$E$65,I157)+COUNTIF(Drawing!$N$25:$O$65,I157)+COUNTIF(Drawing!$D$77:$E$131,I157)+COUNTIF(Drawing!$N$77:$O$131,I157)","v":0},146]
[null,null,null,null,null,null,null,{"$f":"COUNTIF(Drawing!$D$25:$E$65,I158)+COUNTIF(Drawing!$N$25:$O$65,I158)+COUNTIF(Drawing!$D$77:$E$131,I158)+COUNTIF(Drawing!$N$77:$O$131,I158)","v":0},147]
[null,null,null,null,null,null,null,{"$f":"COUNTIF(Drawing!$D$25:$E$65,I159)+COUNTIF(Drawing!$N$25:$O$65,I159)+COUNTIF(Drawing!$D$77:$E$131,I159)+COUNTIF(Drawing!$N$77:$O$131,I159)","v":0},148]
[null,null,null,null,null,null,null,{"$f":"COUNTIF(Drawing!$D$25:$E$65,I160)+COUNTIF(Drawing!$N$25:$O$65,I160)+COUNTIF(Drawing!$D$77:$E$131,I160)+COUNTIF(Drawing!$N$77:$O$131,I160)","v":0},149]
[null,null,null,null,null,null,null,{"$f":"COUNTIF(Drawing!$D$25:$E$65,I161)+COUNTIF(Drawing!$N$25:$O$65,I161)+COUNTIF(Drawing!$D$77:$E$131,I161)+COUNTIF(Drawing!$N$77:$O$131,I161)","v":0},150]
[null,null,null,null,null,null,null,{"$f":"COUNTIF(Drawing!$D$25:$E$65,I162)+COUNTIF(Drawing!$N$25:$O$65,I162)+COUNTIF(Drawing!$D$77:$E$131,I162)+COUNTIF(Drawing!$N$77:$O$131,I162)","v":0},151]
[null,null,null,null,null,null,null,{"$f":"COUNTIF(Drawing!$D$25:$E$65,I163)+COUNTIF(Drawing!$N$25:$O$65,I163)+COUNTIF(Drawing!$D$77:$E$131,I163)+COUNTIF(Drawing!$N$77:$O$131,I163)","v":0},152]
[null,null,null,null,null,null,null,{"$f":"COUNTIF(Drawing!$D$25:$E$65,I164)+COUNTIF(Drawing!$N$25:$O$65,I164)+COUNTIF(Drawing!$D$77:$E$131,I164)+COUNTIF(Drawing!$N$77:$O$131,I164)","v":0},153]
[null,null,null,null,null,null,null,{"$f":"COUNTIF(Drawing!$D$25:$E$65,I165)+COUNTIF(Drawing!$N$25:$O$65,I165)+COUNTIF(Drawing!$D$77:$E$131,I165)+COUNTIF(Drawing!$N$77:$O$131,I165)","v":0},154]
[null,null,null,null,null,null,null,{"$f":"COUNTIF(Drawing!$D$25:$E$65,I166)+COUNTIF(Drawing!$N$25:$O$65,I166)+COUNTIF(Drawing!$D$77:$E$131,I166)+COUNTIF(Drawing!$N$77:$O$131,I166)","v":0},155]
[null,null,null,null,null,null,null,{"$f":"COUNTIF(Drawing!$D$25:$E$65,I167)+COUNTIF(Drawing!$N$25:$O$65,I167)+COUNTIF(Drawing!$D$77:$E$131,I167)+COUNTIF(Drawing!$N$77:$O$131,I167)","v":0},156]
[null,null,null,null,null,null,null,{"$f":"COUNTIF(Drawing!$D$25:$E$65,I168)+COUNTIF(Drawing!$N$25:$O$65,I168)+COUNTIF(Drawing!$D$77:$E$131,I168)+COUNTIF(Drawing!$N$77:$O$131,I168)","v":0},157]
[null,null,null,null,null,null,null,{"$f":"COUNTIF(Drawing!$D$25:$E$65,I169)+COUNTIF(Drawing!$N$25:$O$65,I169)+COUNTIF(Drawing!$D$77:$E$131,I169)+COUNTIF(Drawing!$N$77:$O$131,I169)","v":0},158]
[null,null,null,null,null,null,null,{"$f":"COUNTIF(Drawing!$D$25:$E$65,I170)+COUNTIF(Drawing!$N$25:$O$65,I170)+COUNTIF(Drawing!$D$77:$E$131,I170)+COUNTIF(Drawing!$N$77:$O$131,I170)","v":0},159]
[null,null,null,null,null,null,null,{"$f":"COUNTIF(Drawing!$D$25:$E$65,I171)+COUNTIF(Drawing!$N$25:$O$65,I171)+COUNTIF(Drawing!$D$77:$E$131,I171)+COUNTIF(Drawing!$N$77:$O$131,I171)","v":0},160]
[null,null,null,null,null,null,null,{"$f":"COUNTIF(Drawing!$D$25:$E$65,I172)+COUNTIF(Drawing!$N$25:$O$65,I172)+COUNTIF(Drawing!$D$77:$E$131,I172)+COUNTIF(Drawing!$N$77:$O$131,I172)","v":0},161]
[null,null,null,null,null,null,null,{"$f":"COUNTIF(Drawing!$D$25:$E$65,I173)+COUNTIF(Drawing!$N$25:$O$65,I173)+COUNTIF(Drawing!$D$77:$E$131,I173)+COUNTIF(Drawing!$N$77:$O$131,I173)","v":0},162]
[null,null,null,null,null,null,null,{"$f":"COUNTIF(Drawing!$D$25:$E$65,I174)+COUNTIF(Drawing!$N$25:$O$65,I174)+COUNTIF(Drawing!$D$77:$E$131,I174)+COUNTIF(Drawing!$N$77:$O$131,I174)","v":0},163]
[null,null,null,null,null,null,null,{"$f":"COUNTIF(Drawing!$D$25:$E$65,I175)+COUNTIF(Drawing!$N$25:$O$65,I175)+COUNTIF(Drawing!$D$77:$E$131,I175)+COUNTIF(Drawing!$N$77:$O$131,I175)","v":0},164]
[null,null,null,null,null,null,null,{"$f":"COUNTIF(Drawing!$D$25:$E$65,I176)+COUNTIF(Drawing!$N$25:$O$65,I176)+COUNTIF(Drawing!$D$77:$E$131,I176)+COUNTIF(Drawing!$N$77:$O$131,I176)","v":0},165]
[null,null,null,null,null,null,null,{"$f":"COUNTIF(Drawing!$D$25:$E$65,I177)+COUNTIF(Drawing!$N$25:$O$65,I177)+COUNTIF(Drawing!$D$77:$E$131,I177)+COUNTIF(Drawing!$N$77:$O$131,I177)","v":0},166]
[null,null,null,null,null,null,null,{"$f":"COUNTIF(Drawing!$D$25:$E$65,I178)+COUNTIF(Drawing!$N$25:$O$65,I178)+COUNTIF(Drawing!$D$77:$E$131,I178)+COUNTIF(Drawing!$N$77:$O$131,I178)","v":0},167]
[null,null,null,null,null,null,null,{"$f":"COUNTIF(Drawing!$D$25:$E$65,I179)+COUNTIF(Drawing!$N$25:$O$65,I179)+COUNTIF(Drawing!$D$77:$E$131,I179)+COUNTIF(Drawing!$N$77:$O$131,I179)","v":0},168]
[null,null,null,null,null,null,null,{"$f":"COUNTIF(Drawing!$D$25:$E$65,I180)+COUNTIF(Drawing!$N$25:$O$65,I180)+COUNTIF(Drawing!$D$77:$E$131,I180)+COUNTIF(Drawing!$N$77:$O$131,I180)","v":0},169]
[null,null,null,null,null,null,null,{"$f":"COUNTIF(Drawing!$D$25:$E$65,I181)+COUNTIF(Drawing!$N$25:$O$65,I181)+COUNTIF(Drawing!$D$77:$E$131,I181)+COUNTIF(Drawing!$N$77:$O$131,I181)","v":0},170]
[null,null,null,null,null,null,null,{"$f":"COUNTIF(Drawing!$D$25:$E$65,I182)+COUNTIF(Drawing!$N$25:$O$65,I182)+COUNTIF(Drawing!$D$77:$E$131,I182)+COUNTIF(Drawing!$N$77:$O$131,I182)","v":0},171]
[null,null,null,null,null,null,null,{"$f":"COUNTIF(Drawing!$D$25:$E$65,I183)+COUNTIF(Drawing!$N$25:$O$65,I183)+COUNTIF(Drawing!$D$77:$E$131,I183)+COUNTIF(Drawing!$N$77:$O$131,I183)","v":0},172]
[null,null,null,null,null,null,null,{"$f":"COUNTIF(Drawing!$D$25:$E$65,I184)+COUNTIF(Drawing!$N$25:$O$65,I184)+COUNTIF(Drawing!$D$77:$E$131,I184)+COUNTIF(Drawing!$N$77:$O$131,I184)","v":0},173]
[null,null,null,null,null,null,null,{"$f":"COUNTIF(Drawing!$D$25:$E$65,I185)+COUNTIF(Drawing!$N$25:$O$65,I185)+COUNTIF(Drawing!$D$77:$E$131,I185)+COUNTIF(Drawing!$N$77:$O$131,I185)","v":0},174]
[null,null,null,null,null,null,null,{"$f":"COUNTIF(Drawing!$D$25:$E$65,I186)+COUNTIF(Drawing!$N$25:$O$65,I186)+COUNTIF(Drawing!$D$77:$E$131,I186)+COUNTIF(Drawing!$N$77:$O$131,I186)","v":0},175]
[null,null,null,null,null,null,null,{"$f":"COUNTIF(Drawing!$D$25:$E$65,I187)+COUNTIF(Drawing!$N$25:$O$65,I187)+COUNTIF(Drawing!$D$77:$E$131,I187)+COUNTIF(Drawing!$N$77:$O$131,I187)","v":0},176]
[null,null,null,null,null,null,null,{"$f":"COUNTIF(Drawing!$D$25:$E$65,I188)+COUNTIF(Drawing!$N$25:$O$65,I188)+COUNTIF(Drawing!$D$77:$E$131,I188)+COUNTIF(Drawing!$N$77:$O$131,I188)","v":0},177]
[null,null,null,null,null,null,null,{"$f":"COUNTIF(Drawing!$D$25:$E$65,I189)+COUNTIF(Drawing!$N$25:$O$65,I189)+COUNTIF(Drawing!$D$77:$E$131,I189)+COUNTIF(Drawing!$N$77:$O$131,I189)","v":0},178]
[null,null,null,null,null,null,null,{"$f":"COUNTIF(Drawing!$D$25:$E$65,I190)+COUNTIF(Drawing!$N$25:$O$65,I190)+COUNTIF(Drawing!$D$77:$E$131,I190)+COUNTIF(Drawing!$N$77:$O$131,I190)","v":0},179]
[null,null,null,null,null,null,null,{"$f":"COUNTIF(Drawing!$D$25:$E$65,I191)+COUNTIF(Drawing!$N$25:$O$65,I191)+COUNTIF(Drawing!$D$77:$E$131,I191)+COUNTIF(Drawing!$N$77:$O$131,I191)","v":0},180]
[null,null,null,null,null,null,null,{"$f":"COUNTIF(Drawing!$D$25:$E$65,I192)+COUNTIF(Drawing!$N$25:$O$65,I192)+COUNTIF(Drawing!$D$77:$E$131,I192)+COUNTIF(Drawing!$N$77:$O$131,I192)","v":0},181]
[null,null,null,null,null,null,null,{"$f":"COUNTIF(Drawing!$D$25:$E$65,I193)+COUNTIF(Drawing!$N$25:$O$65,I193)+COUNTIF(Drawing!$D$77:$E$131,I193)+COUNTIF(Drawing!$N$77:$O$131,I193)","v":0},182]
[null,null,null,null,null,null,null,{"$f":"COUNTIF(Drawing!$D$25:$E$65,I194)+COUNTIF(Drawing!$N$25:$O$65,I194)+COUNTIF(Drawing!$D$77:$E$131,I194)+COUNTIF(Drawing!$N$77:$O$131,I194)","v":0},183]
[null,null,null,null,null,null,null,{"$f":"COUNTIF(Drawing!$D$25:$E$65,I195)+COUNTIF(Drawing!$N$25:$O$65,I195)+COUNTIF(Drawing!$D$77:$E$131,I195)+COUNTIF(Drawing!$N$77:$O$131,I195)","v":0},184]
[null,null,null,null,null,null,null,{"$f":"COUNTIF(Drawing!$D$25:$E$65,I196)+COUNTIF(Drawing!$N$25:$O$65,I196)+COUNTIF(Drawing!$D$77:$E$131,I196)+COUNTIF(Drawing!$N$77:$O$131,I196)","v":0},185]
[null,null,null,null,null,null,null,{"$f":"COUNTIF(Drawing!$D$25:$E$65,I197)+COUNTIF(Drawing!$N$25:$O$65,I197)+COUNTIF(Drawing!$D$77:$E$131,I197)+COUNTIF(Drawing!$N$77:$O$131,I197)","v":0},186]
[null,null,null,null,null,null,null,{"$f":"COUNTIF(Drawing!$D$25:$E$65,I198)+COUNTIF(Drawing!$N$25:$O$65,I198)+COUNTIF(Drawing!$D$77:$E$131,I198)+COUNTIF(Drawing!$N$77:$O$131,I198)","v":0},187]
[null,null,null,null,null,null,null,{"$f":"COUNTIF(Drawing!$D$25:$E$65,I199)+COUNTIF(Drawing!$N$25:$O$65,I199)+COUNTIF(Drawing!$D$77:$E$131,I199)+COUNTIF(Drawing!$N$77:$O$131,I199)","v":0},188]
[null,null,null,null,null,null,null,{"$f":"COUNTIF(Drawing!$D$25:$E$65,I200)+COUNTIF(Drawing!$N$25:$O$65,I200)+COUNTIF(Drawing!$D$77:$E$131,I200)+COUNTIF(Drawing!$N$77:$O$131,I200)","v":0},189]
[null,null,null,null,null,null,null,{"$f":"COUNTIF(Drawing!$D$25:$E$65,I201)+COUNTIF(Drawing!$N$25:$O$65,I201)+COUNTIF(Drawing!$D$77:$E$131,I201)+COUNTIF(Drawing!$N$77:$O$131,I201)","v":0},190]
[null,null,null,null,null,null,null,{"$f":"COUNTIF(Drawing!$D$25:$E$65,I202)+COUNTIF(Drawing!$N$25:$O$65,I202)+COUNTIF(Drawing!$D$77:$E$131,I202)+COUNTIF(Drawing!$N$77:$O$131,I202)","v":0},191]
[null,null,null,null,null,null,null,{"$f":"COUNTIF(Drawing!$D$25:$E$65,I203)+COUNTIF(Drawing!$N$25:$O$65,I203)+COUNTIF(Drawing!$D$77:$E$131,I203)+COUNTIF(Drawing!$N$77:$O$131,I203)","v":0},192]
[null,null,null,null,null,null,null,{"$f":"COUNTIF(Drawing!$D$25:$E$65,I204)+COUNTIF(Drawing!$N$25:$O$65,I204)+COUNTIF(Drawing!$D$77:$E$131,I204)+COUNTIF(Drawing!$N$77:$O$131,I204)","v":0},193]
[null,null,null,null,null,null,null,{"$f":"COUNTIF(Drawing!$D$25:$E$65,I205)+COUNTIF(Drawing!$N$25:$O$65,I205)+COUNTIF(Drawing!$D$77:$E$131,I205)+COUNTIF(Drawing!$N$77:$O$131,I205)","v":0},194]
[null,null,null,null,null,null,null,{"$f":"COUNTIF(Drawing!$D$25:$E$65,I206)+COUNTIF(Drawing!$N$25:$O$65,I206)+COUNTIF(Drawing!$D$77:$E$131,I206)+COUNTIF(Drawing!$N$77:$O$131,I206)","v":0},195]
[null,null,null,null,null,null,null,{"$f":"COUNTIF(Drawing!$D$25:$E$65,I207)+COUNTIF(Drawing!$N$25:$O$65,I207)+COUNTIF(Drawing!$D$77:$E$131,I207)+COUNTIF(Drawing!$N$77:$O$131,I207)","v":0},196]
[null,null,null,null,null,null,null,{"$f":"COUNTIF(Drawing!$D$25:$E$65,I208)+COUNTIF(Drawing!$N$25:$O$65,I208)+COUNTIF(Drawing!$D$77:$E$131,I208)+COUNTIF(Drawing!$N$77:$O$131,I208)","v":0},197]
[null,null,null,null,null,null,null,{"$f":"COUNTIF(Drawing!$D$25:$E$65,I209)+COUNTIF(Drawing!$N$25:$O$65,I209)+COUNTIF(Drawing!$D$77:$E$131,I209)+COUNTIF(Drawing!$N$77:$O$131,I209)","v":0},198]
[null,null,null,null,null,null,null,{"$f":"COUNTIF(Drawing!$D$25:$E$65,I210)+COUNTIF(Drawing!$N$25:$O$65,I210)+COUNTIF(Drawing!$D$77:$E$131,I210)+COUNTIF(Drawing!$N$77:$O$131,I210)","v":0},199]
[null,null,null,null,null,null,null,{"$f":"COUNTIF(Drawing!$D$25:$E$65,I211)+COUNTIF(Drawing!$N$25:$O$65,I211)+COUNTIF(Drawing!$D$77:$E$131,I211)+COUNTIF(Drawing!$N$77:$O$131,I211)","v":0},200]
[null,null,null,null,null,null,null,{"$f":"COUNTIF(Drawing!$D$25:$E$65,I212)+COUNTIF(Drawing!$N$25:$O$65,I212)+COUNTIF(Drawing!$D$77:$E$131,I212)+COUNTIF(Drawing!$N$77:$O$131,I212)","v":0},201]
[null,null,null,null,null,null,null,{"$f":"COUNTIF(Drawing!$D$25:$E$65,I213)+COUNTIF(Drawing!$N$25:$O$65,I213)+COUNTIF(Drawing!$D$77:$E$131,I213)+COUNTIF(Drawing!$N$77:$O$131,I213)","v":0},202]
[null,null,null,null,null,null,null,{"$f":"COUNTIF(Drawing!$D$25:$E$65,I214)+COUNTIF(Drawing!$N$25:$O$65,I214)+COUNTIF(Drawing!$D$77:$E$131,I214)+COUNTIF(Drawing!$N$77:$O$131,I214)","v":0},203]
[null,null,null,null,null,null,null,{"$f":"COUNTIF(Drawing!$D$25:$E$65,I215)+COUNTIF(Drawing!$N$25:$O$65,I215)+COUNTIF(Drawing!$D$77:$E$131,I215)+COUNTIF(Drawing!$N$77:$O$131,I215)","v":0},204]
[null,null,null,null,null,null,null,{"$f":"COUNTIF(Drawing!$D$25:$E$65,I216)+COUNTIF(Drawing!$N$25:$O$65,I216)+COUNTIF(Drawing!$D$77:$E$131,I216)+COUNTIF(Drawing!$N$77:$O$131,I216)","v":0},205]
[null,null,null,null,null,null,null,{"$f":"COUNTIF(Drawing!$D$25:$E$65,I217)+COUNTIF(Drawing!$N$25:$O$65,I217)+COUNTIF(Drawing!$D$77:$E$131,I217)+COUNTIF(Drawing!$N$77:$O$131,I217)","v":0},206]
[null,null,null,null,null,null,null,{"$f":"COUNTIF(Drawing!$D$25:$E$65,I218)+COUNTIF(Drawing!$N$25:$O$65,I218)+COUNTIF(Drawing!$D$77:$E$131,I218)+COUNTIF(Drawing!$N$77:$O$131,I218)","v":0},207]
[null,null,null,null,null,null,null,{"$f":"COUNTIF(Drawing!$D$25:$E$65,I219)+COUNTIF(Drawing!$N$25:$O$65,I219)+COUNTIF(Drawing!$D$77:$E$131,I219)+COUNTIF(Drawing!$N$77:$O$131,I219)","v":0},208]
[null,null,null,null,null,null,null,{"$f":"COUNTIF(Drawing!$D$25:$E$65,I220)+COUNTIF(Drawing!$N$25:$O$65,I220)+COUNTIF(Drawing!$D$77:$E$131,I220)+COUNTIF(Drawing!$N$77:$O$131,I220)","v":0},209]
[null,null,null,null,null,null,null,{"$f":"COUNTIF(Drawing!$D$25:$E$65,I221)+COUNTIF(Drawing!$N$25:$O$65,I221)+COUNTIF(Drawing!$D$77:$E$131,I221)+COUNTIF(Drawing!$N$77:$O$131,I221)","v":0},210]
[null,null,null,null,null,null,null,{"$f":"COUNTIF(Drawing!$D$25:$E$65,I222)+COUNTIF(Drawing!$N$25:$O$65,I222)+COUNTIF(Drawing!$D$77:$E$131,I222)+COUNTIF(Drawing!$N$77:$O$131,I222)","v":0},211]
[null,null,null,null,null,null,null,{"$f":"COUNTIF(Drawing!$D$25:$E$65,I223)+COUNTIF(Drawing!$N$25:$O$65,I223)+COUNTIF(Drawing!$D$77:$E$131,I223)+COUNTIF(Drawing!$N$77:$O$131,I223)","v":0},212]
[null,null,null,null,null,null,null,{"$f":"COUNTIF(Drawing!$D$25:$E$65,I224)+COUNTIF(Drawing!$N$25:$O$65,I224)+COUNTIF(Drawing!$D$77:$E$131,I224)+COUNTIF(Drawing!$N$77:$O$131,I224)","v":0},213]
[null,null,null,null,null,null,null,{"$f":"COUNTIF(Drawing!$D$25:$E$65,I225)+COUNTIF(Drawing!$N$25:$O$65,I225)+COUNTIF(Drawing!$D$77:$E$131,I225)+COUNTIF(Drawing!$N$77:$O$131,I225)","v":0},214]
[null,null,null,null,null,null,null,{"$f":"COUNTIF(Drawing!$D$25:$E$65,I226)+COUNTIF(Drawing!$N$25:$O$65,I226)+COUNTIF(Drawing!$D$77:$E$131,I226)+COUNTIF(Drawing!$N$77:$O$131,I226)","v":0},215]
[null,null,null,null,null,null,null,{"$f":"COUNTIF(Drawing!$D$25:$E$65,I227)+COUNTIF(Drawing!$N$25:$O$65,I227)+COUNTIF(Drawing!$D$77:$E$131,I227)+COUNTIF(Drawing!$N$77:$O$131,I227)","v":0},216]
[null,null,null,null,null,null,null,{"$f":"COUNTIF(Drawing!$D$25:$E$65,I228)+COUNTIF(Drawing!$N$25:$O$65,I228)+COUNTIF(Drawing!$D$77:$E$131,I228)+COUNTIF(Drawing!$N$77:$O$131,I228)","v":0},217]
[null,null,null,null,null,null,null,{"$f":"COUNTIF(Drawing!$D$25:$E$65,I229)+COUNTIF(Drawing!$N$25:$O$65,I229)+COUNTIF(Drawing!$D$77:$E$131,I229)+COUNTIF(Drawing!$N$77:$O$131,I229)","v":0},218]
[null,null,null,null,null,null,null,{"$f":"COUNTIF(Drawing!$D$25:$E$65,I230)+COUNTIF(Drawing!$N$25:$O$65,I230)+COUNTIF(Drawing!$D$77:$E$131,I230)+COUNTIF(Drawing!$N$77:$O$131,I230)","v":0},219]
[null,null,null,null,null,null,null,{"$f":"COUNTIF(Drawing!$D$25:$E$65,I231)+COUNTIF(Drawing!$N$25:$O$65,I231)+COUNTIF(Drawing!$D$77:$E$131,I231)+COUNTIF(Drawing!$N$77:$O$131,I231)","v":0},220]
[null,null,null,null,null,null,null,{"$f":"COUNTIF(Drawing!$D$25:$E$65,I232)+COUNTIF(Drawing!$N$25:$O$65,I232)+COUNTIF(Drawing!$D$77:$E$131,I232)+COUNTIF(Drawing!$N$77:$O$131,I232)","v":0},221]
[null,null,null,null,null,null,null,{"$f":"COUNTIF(Drawing!$D$25:$E$65,I233)+COUNTIF(Drawing!$N$25:$O$65,I233)+COUNTIF(Drawing!$D$77:$E$131,I233)+COUNTIF(Drawing!$N$77:$O$131,I233)","v":0},222]
[null,null,null,null,null,null,null,{"$f":"COUNTIF(Drawing!$D$25:$E$65,I234)+COUNTIF(Drawing!$N$25:$O$65,I234)+COUNTIF(Drawing!$D$77:$E$131,I234)+COUNTIF(Drawing!$N$77:$O$131,I234)","v":0},223]
[null,null,null,null,null,null,null,{"$f":"COUNTIF(Drawing!$D$25:$E$65,I235)+COUNTIF(Drawing!$N$25:$O$65,I235)+COUNTIF(Drawing!$D$77:$E$131,I235)+COUNTIF(Drawing!$N$77:$O$131,I235)","v":0},224]
[null,null,null,null,null,null,null,{"$f":"COUNTIF(Drawing!$D$25:$E$65,I236)+COUNTIF(Drawing!$N$25:$O$65,I236)+COUNTIF(Drawing!$D$77:$E$131,I236)+COUNTIF(Drawing!$N$77:$O$131,I236)","v":0},225]
[null,null,null,null,null,null,null,{"$f":"COUNTIF(Drawing!$D$25:$E$65,I237)+COUNTIF(Drawing!$N$25:$O$65,I237)+COUNTIF(Drawing!$D$77:$E$131,I237)+COUNTIF(Drawing!$N$77:$O$131,I237)","v":0},226]
[null,null,null,null,null,null,null,{"$f":"COUNTIF(Drawing!$D$25:$E$65,I238)+COUNTIF(Drawing!$N$25:$O$65,I238)+COUNTIF(Drawing!$D$77:$E$131,I238)+COUNTIF(Drawing!$N$77:$O$131,I238)","v":0},227]
[null,null,null,null,null,null,null,{"$f":"COUNTIF(Drawing!$D$25:$E$65,I239)+COUNTIF(Drawing!$N$25:$O$65,I239)+COUNTIF(Drawing!$D$77:$E$131,I239)+COUNTIF(Drawing!$N$77:$O$131,I239)","v":0},228]
[null,null,null,null,null,null,null,{"$f":"COUNTIF(Drawing!$D$25:$E$65,I240)+COUNTIF(Drawing!$N$25:$O$65,I240)+COUNTIF(Drawing!$D$77:$E$131,I240)+COUNTIF(Drawing!$N$77:$O$131,I240)","v":0},229]
[null,null,null,null,null,null,null,{"$f":"COUNTIF(Drawing!$D$25:$E$65,I241)+COUNTIF(Drawing!$N$25:$O$65,I241)+COUNTIF(Drawing!$D$77:$E$131,I241)+COUNTIF(Drawing!$N$77:$O$131,I241)","v":0},230]
[null,null,null,null,null,null,null,{"$f":"COUNTIF(Drawing!$D$25:$E$65,I242)+COUNTIF(Drawing!$N$25:$O$65,I242)+COUNTIF(Drawing!$D$77:$E$131,I242)+COUNTIF(Drawing!$N$77:$O$131,I242)","v":0},231]
[null,null,null,null,null,null,null,{"$f":"COUNTIF(Drawing!$D$25:$E$65,I243)+COUNTIF(Drawing!$N$25:$O$65,I243)+COUNTIF(Drawing!$D$77:$E$131,I243)+COUNTIF(Drawing!$N$77:$O$131,I243)","v":0},232]
[null,null,null,null,null,null,null,{"$f":"COUNTIF(Drawing!$D$25:$E$65,I244)+COUNTIF(Drawing!$N$25:$O$65,I244)+COUNTIF(Drawing!$D$77:$E$131,I244)+COUNTIF(Drawing!$N$77:$O$131,I244)","v":0},233]
[null,null,null,null,null,null,null,{"$f":"COUNTIF(Drawing!$D$25:$E$65,I245)+COUNTIF(Drawing!$N$25:$O$65,I245)+COUNTIF(Drawing!$D$77:$E$131,I245)+COUNTIF(Drawing!$N$77:$O$131,I245)","v":0},234]
[null,null,null,null,null,null,null,{"$f":"COUNTIF(Drawing!$D$25:$E$65,I246)+COUNTIF(Drawing!$N$25:$O$65,I246)+COUNTIF(Drawing!$D$77:$E$131,I246)+COUNTIF(Drawing!$N$77:$O$131,I246)","v":0},235]
[null,null,null,null,null,null,null,{"$f":"COUNTIF(Drawing!$D$25:$E$65,I247)+COUNTIF(Drawing!$N$25:$O$65,I247)+COUNTIF(Drawing!$D$77:$E$131,I247)+COUNTIF(Drawing!$N$77:$O$131,I247)","v":0},236]
[null,null,null,null,null,null,null,{"$f":"COUNTIF(Drawing!$D$25:$E$65,I248)+COUNTIF(Drawing!$N$25:$O$65,I248)+COUNTIF(Drawing!$D$77:$E$131,I248)+COUNTIF(Drawing!$N$77:$O$131,I248)","v":0},237]
[null,null,null,null,null,null,null,{"$f":"COUNTIF(Drawing!$D$25:$E$65,I249)+COUNTIF(Drawing!$N$25:$O$65,I249)+COUNTIF(Drawing!$D$77:$E$131,I249)+COUNTIF(Drawing!$N$77:$O$131,I249)","v":0},238]
[null,null,null,null,null,null,null,{"$f":"COUNTIF(Drawing!$D$25:$E$65,I250)+COUNTIF(Drawing!$N$25:$O$65,I250)+COUNTIF(Drawing!$D$77:$E$131,I250)+COUNTIF(Drawing!$N$77:$O$131,I250)","v":0},239]
[null,null,null,null,null,null,null,{"$f":"COUNTIF(Drawing!$D$25:$E$65,I251)+COUNTIF(Drawing!$N$25:$O$65,I251)+COUNTIF(Drawing!$D$77:$E$131,I251)+COUNTIF(Drawing!$N$77:$O$131,I251)","v":0},240]
[null,null,null,null,null,null,null,{"$f":"COUNTIF(Drawing!$D$25:$E$65,I252)+COUNTIF(Drawing!$N$25:$O$65,I252)+COUNTIF(Drawing!$D$77:$E$131,I252)+COUNTIF(Drawing!$N$77:$O$131,I252)","v":0},241]
[null,null,null,null,null,null,null,{"$f":"COUNTIF(Drawing!$D$25:$E$65,I253)+COUNTIF(Drawing!$N$25:$O$65,I253)+COUNTIF(Drawing!$D$77:$E$131,I253)+COUNTIF(Drawing!$N$77:$O$131,I253)","v":0},242]
[null,null,null,null,null,null,null,{"$f":"COUNTIF(Drawing!$D$25:$E$65,I254)+COUNTIF(Drawing!$N$25:$O$65,I254)+COUNTIF(Drawing!$D$77:$E$131,I254)+COUNTIF(Drawing!$N$77:$O$131,I254)","v":0},243]
[null,null,null,null,null,null,null,{"$f":"COUNTIF(Drawing!$D$25:$E$65,I255)+COUNTIF(Drawing!$N$25:$O$65,I255)+COUNTIF(Drawing!$D$77:$E$131,I255)+COUNTIF(Drawing!$N$77:$O$131,I255)","v":0},244]
[null,null,null,null,null,null,null,{"$f":"COUNTIF(Drawing!$D$25:$E$65,I256)+COUNTIF(Drawing!$N$25:$O$65,I256)+COUNTIF(Drawing!$D$77:$E$131,I256)+COUNTIF(Drawing!$N$77:$O$131,I256)","v":0},245]
[null,null,null,null,null,null,null,{"$f":"COUNTIF(Drawing!$D$25:$E$65,I257)+COUNTIF(Drawing!$N$25:$O$65,I257)+COUNTIF(Drawing!$D$77:$E$131,I257)+COUNTIF(Drawing!$N$77:$O$131,I257)","v":0},246]
[null,null,null,null,null,null,null,{"$f":"COUNTIF(Drawing!$D$25:$E$65,I258)+COUNTIF(Drawing!$N$25:$O$65,I258)+COUNTIF(Drawing!$D$77:$E$131,I258)+COUNTIF(Drawing!$N$77:$O$131,I258)","v":0},247]
[null,null,null,null,null,null,null,{"$f":"COUNTIF(Drawing!$D$25:$E$65,I259)+COUNTIF(Drawing!$N$25:$O$65,I259)+COUNTIF(Drawing!$D$77:$E$131,I259)+COUNTIF(Drawing!$N$77:$O$131,I259)","v":0},248]
[null,null,null,null,null,null,null,{"$f":"COUNTIF(Drawing!$D$25:$E$65,I260)+COUNTIF(Drawing!$N$25:$O$65,I260)+COUNTIF(Drawing!$D$77:$E$131,I260)+COUNTIF(Drawing!$N$77:$O$131,I260)","v":0},249]
[null,null,null,null,null,null,null,{"$f":"COUNTIF(Drawing!$D$25:$E$65,I261)+COUNTIF(Drawing!$N$25:$O$65,I261)+COUNTIF(Drawing!$D$77:$E$131,I261)+COUNTIF(Drawing!$N$77:$O$131,I261)","v":0},250]
[null,null,null,null,null,null,null,{"$f":"COUNTIF(Drawing!$D$25:$E$65,I262)+COUNTIF(Drawing!$N$25:$O$65,I262)+COUNTIF(Drawing!$D$77:$E$131,I262)+COUNTIF(Drawing!$N$77:$O$131,I262)","v":0},251]
[null,null,null,null,null,null,null,{"$f":"COUNTIF(Drawing!$D$25:$E$65,I263)+COUNTIF(Drawing!$N$25:$O$65,I263)+COUNTIF(Drawing!$D$77:$E$131,I263)+COUNTIF(Drawing!$N$77:$O$131,I263)","v":0},252]
[null,null,null,null,null,null,null,{"$f":"COUNTIF(Drawing!$D$25:$E$65,I264)+COUNTIF(Drawing!$N$25:$O$65,I264)+COUNTIF(Drawing!$D$77:$E$131,I264)+COUNTIF(Drawing!$N$77:$O$131,I264)","v":0},253]
[null,null,null,null,null,null,null,{"$f":"COUNTIF(Drawing!$D$25:$E$65,I265)+COUNTIF(Drawing!$N$25:$O$65,I265)+COUNTIF(Drawing!$D$77:$E$131,I265)+COUNTIF(Drawing!$N$77:$O$131,I265)","v":0},254]
[null,null,null,null,null,null,null,{"$f":"COUNTIF(Drawing!$D$25:$E$65,I266)+COUNTIF(Drawing!$N$25:$O$65,I266)+COUNTIF(Drawing!$D$77:$E$131,I266)+COUNTIF(Drawing!$N$77:$O$131,I266)","v":0},255]
[null,null,null,null,null,null,null,{"$f":"COUNTIF(Drawing!$D$25:$E$65,I267)+COUNTIF(Drawing!$N$25:$O$65,I267)+COUNTIF(Drawing!$D$77:$E$131,I267)+COUNTIF(Drawing!$N$77:$O$131,I267)","v":0},256]
[null,null,null,null,null,null,null,{"$f":"COUNTIF(Drawing!$D$25:$E$65,I268)+COUNTIF(Drawing!$N$25:$O$65,I268)+COUNTIF(Drawing!$D$77:$E$131,I268)+COUNTIF(Drawing!$N$77:$O$131,I268)","v":0},257]
[null,null,null,null,null,null,null,{"$f":"COUNTIF(Drawing!$D$25:$E$65,I269)+COUNTIF(Drawing!$N$25:$O$65,I269)+COUNTIF(Drawing!$D$77:$E$131,I269)+COUNTIF(Drawing!$N$77:$O$131,I269)","v":0},258]
[null,null,null,null,null,null,null,{"$f":"COUNTIF(Drawing!$D$25:$E$65,I270)+COUNTIF(Drawing!$N$25:$O$65,I270)+COUNTIF(Drawing!$D$77:$E$131,I270)+COUNTIF(Drawing!$N$77:$O$131,I270)","v":0},259]
[null,null,null,null,null,null,null,{"$f":"COUNTIF(Drawing!$D$25:$E$65,I271)+COUNTIF(Drawing!$N$25:$O$65,I271)+COUNTIF(Drawing!$D$77:$E$131,I271)+COUNTIF(Drawing!$N$77:$O$131,I271)","v":0},260]
[null,null,null,null,null,null,null,{"$f":"COUNTIF(Drawing!$D$25:$E$65,I272)+COUNTIF(Drawing!$N$25:$O$65,I272)+COUNTIF(Drawing!$D$77:$E$131,I272)+COUNTIF(Drawing!$N$77:$O$131,I272)","v":0},261]
[null,null,null,null,null,null,null,{"$f":"COUNTIF(Drawing!$D$25:$E$65,I273)+COUNTIF(Drawing!$N$25:$O$65,I273)+COUNTIF(Drawing!$D$77:$E$131,I273)+COUNTIF(Drawing!$N$77:$O$131,I273)","v":0},262]
[null,null,null,null,null,null,null,{"$f":"COUNTIF(Drawing!$D$25:$E$65,I274)+COUNTIF(Drawing!$N$25:$O$65,I274)+COUNTIF(Drawing!$D$77:$E$131,I274)+COUNTIF(Drawing!$N$77:$O$131,I274)","v":0},263]
[null,null,null,null,null,null,null,{"$f":"COUNTIF(Drawing!$D$25:$E$65,I275)+COUNTIF(Drawing!$N$25:$O$65,I275)+COUNTIF(Drawing!$D$77:$E$131,I275)+COUNTIF(Drawing!$N$77:$O$131,I275)","v":0},264]
[null,null,null,null,null,null,null,{"$f":"COUNTIF(Drawing!$D$25:$E$65,I276)+COUNTIF(Drawing!$N$25:$O$65,I276)+COUNTIF(Drawing!$D$77:$E$131,I276)+COUNTIF(Drawing!$N$77:$O$131,I276)","v":0},265]
[null,null,null,null,null,null,null,{"$f":"COUNTIF(Drawing!$D$25:$E$65,I277)+COUNTIF(Drawing!$N$25:$O$65,I277)+COUNTIF(Drawing!$D$77:$E$131,I277)+COUNTIF(Drawing!$N$77:$O$131,I277)","v":0},266]
[null,null,null,null,null,null,null,{"$f":"COUNTIF(Drawing!$D$25:$E$65,I278)+COUNTIF(Drawing!$N$25:$O$65,I278)+COUNTIF(Drawing!$D$77:$E$131,I278)+COUNTIF(Drawing!$N$77:$O$131,I278)","v":0},267]
[null,null,null,null,null,null,null,{"$f":"COUNTIF(Drawing!$D$25:$E$65,I279)+COUNTIF(Drawing!$N$25:$O$65,I279)+COUNTIF(Drawing!$D$77:$E$131,I279)+COUNTIF(Drawing!$N$77:$O$131,I279)","v":0},268]
[null,null,null,null,null,null,null,{"$f":"COUNTIF(Drawing!$D$25:$E$65,I280)+COUNTIF(Drawing!$N$25:$O$65,I280)+COUNTIF(Drawing!$D$77:$E$131,I280)+COUNTIF(Drawing!$N$77:$O$131,I280)","v":0},269]
[null,null,null,null,null,null,null,{"$f":"COUNTIF(Drawing!$D$25:$E$65,I281)+COUNTIF(Drawing!$N$25:$O$65,I281)+COUNTIF(Drawing!$D$77:$E$131,I281)+COUNTIF(Drawing!$N$77:$O$131,I281)","v":0},270]
[null,null,null,null,null,null,null,{"$f":"COUNTIF(Drawing!$D$25:$E$65,I282)+COUNTIF(Drawing!$N$25:$O$65,I282)+COUNTIF(Drawing!$D$77:$E$131,I282)+COUNTIF(Drawing!$N$77:$O$131,I282)","v":0},271]
[null,null,null,null,null,null,null,{"$f":"COUNTIF(Drawing!$D$25:$E$65,I283)+COUNTIF(Drawing!$N$25:$O$65,I283)+COUNTIF(Drawing!$D$77:$E$131,I283)+COUNTIF(Drawing!$N$77:$O$131,I283)","v":0},272]
[null,null,null,null,null,null,null,{"$f":"COUNTIF(Drawing!$D$25:$E$65,I284)+COUNTIF(Drawing!$N$25:$O$65,I284)+COUNTIF(Drawing!$D$77:$E$131,I284)+COUNTIF(Drawing!$N$77:$O$131,I284)","v":0},273]
[null,null,null,null,null,null,null,{"$f":"COUNTIF(Drawing!$D$25:$E$65,I285)+COUNTIF(Drawing!$N$25:$O$65,I285)+COUNTIF(Drawing!$D$77:$E$131,I285)+COUNTIF(Drawing!$N$77:$O$131,I285)","v":0},274]
[null,null,null,null,null,null,null,{"$f":"COUNTIF(Drawing!$D$25:$E$65,I286)+COUNTIF(Drawing!$N$25:$O$65,I286)+COUNTIF(Drawing!$D$77:$E$131,I286)+COUNTIF(Drawing!$N$77:$O$131,I286)","v":0},275]
[null,null,null,null,null,null,null,{"$f":"COUNTIF(Drawing!$D$25:$E$65,I287)+COUNTIF(Drawing!$N$25:$O$65,I287)+COUNTIF(Drawing!$D$77:$E$131,I287)+COUNTIF(Drawing!$N$77:$O$131,I287)","v":0},276]
[null,null,null,null,null,null,null,{"$f":"COUNTIF(Drawing!$D$25:$E$65,I288)+COUNTIF(Drawing!$N$25:$O$65,I288)+COUNTIF(Drawing!$D$77:$E$131,I288)+COUNTIF(Drawing!$N$77:$O$131,I288)","v":0},277]
[null,null,null,null,null,null,null,{"$f":"COUNTIF(Drawing!$D$25:$E$65,I289)+COUNTIF(Drawing!$N$25:$O$65,I289)+COUNTIF(Drawing!$D$77:$E$131,I289)+COUNTIF(Drawing!$N$77:$O$131,I289)","v":0},278]
[null,null,null,null,null,null,null,{"$f":"COUNTIF(Drawing!$D$25:$E$65,I290)+COUNTIF(Drawing!$N$25:$O$65,I290)+COUNTIF(Drawing!$D$77:$E$131,I290)+COUNTIF(Drawing!$N$77:$O$131,I290)","v":0},279]
[null,null,null,null,null,null,null,{"$f":"COUNTIF(Drawing!$D$25:$E$65,I291)+COUNTIF(Drawing!$N$25:$O$65,I291)+COUNTIF(Drawing!$D$77:$E$131,I291)+COUNTIF(Drawing!$N$77:$O$131,I291)","v":0},280]
[null,null,null,null,null,null,null,{"$f":"COUNTIF(Drawing!$D$25:$E$65,I292)+COUNTIF(Drawing!$N$25:$O$65,I292)+COUNTIF(Drawing!$D$77:$E$131,I292)+COUNTIF(Drawing!$N$77:$O$131,I292)","v":0},281]
[null,null,null,null,null,null,null,{"$f":"COUNTIF(Drawing!$D$25:$E$65,I293)+COUNTIF(Drawing!$N$25:$O$65,I293)+COUNTIF(Drawing!$D$77:$E$131,I293)+COUNTIF(Drawing!$N$77:$O$131,I293)","v":0},282]
[null,null,null,null,null,null,null,{"$f":"COUNTIF(Drawing!$D$25:$E$65,I294)+COUNTIF(Drawing!$N$25:$O$65,I294)+COUNTIF(Drawing!$D$77:$E$131,I294)+COUNTIF(Drawing!$N$77:$O$131,I294)","v":0},283]
[null,null,null,null,null,null,null,{"$f":"COUNTIF(Drawing!$D$25:$E$65,I295)+COUNTIF(Drawing!$N$25:$O$65,I295)+COUNTIF(Drawing!$D$77:$E$131,I295)+COUNTIF(Drawing!$N$77:$O$131,I295)","v":0},284]
[null,null,null,null,null,null,null,{"$f":"COUNTIF(Drawing!$D$25:$E$65,I296)+COUNTIF(Drawing!$N$25:$O$65,I296)+COUNTIF(Drawing!$D$77:$E$131,I296)+COUNTIF(Drawing!$N$77:$O$131,I296)","v":0},285]
[null,null,null,null,null,null,null,{"$f":"COUNTIF(Drawing!$D$25:$E$65,I297)+COUNTIF(Drawing!$N$25:$O$65,I297)+COUNTIF(Drawing!$D$77:$E$131,I297)+COUNTIF(Drawing!$N$77:$O$131,I297)","v":0},286]
[null,null,null,null,null,null,null,{"$f":"COUNTIF(Drawing!$D$25:$E$65,I298)+COUNTIF(Drawing!$N$25:$O$65,I298)+COUNTIF(Drawing!$D$77:$E$131,I298)+COUNTIF(Drawing!$N$77:$O$131,I298)","v":0},287]
[null,null,null,null,null,null,null,{"$f":"COUNTIF(Drawing!$D$25:$E$65,I299)+COUNTIF(Drawing!$N$25:$O$65,I299)+COUNTIF(Drawing!$D$77:$E$131,I299)+COUNTIF(Drawing!$N$77:$O$131,I299)","v":0},288]
[null,null,null,null,null,null,null,{"$f":"COUNTIF(Drawing!$D$25:$E$65,I300)+COUNTIF(Drawing!$N$25:$O$65,I300)+COUNTIF(Drawing!$D$77:$E$131,I300)+COUNTIF(Drawing!$N$77:$O$131,I300)","v":0},289]
[null,null,null,null,null,null,null,{"$f":"COUNTIF(Drawing!$D$25:$E$65,I301)+COUNTIF(Drawing!$N$25:$O$65,I301)+COUNTIF(Drawing!$D$77:$E$131,I301)+COUNTIF(Drawing!$N$77:$O$131,I301)","v":0},290]
[null,null,null,null,null,null,null,{"$f":"COUNTIF(Drawing!$D$25:$E$65,I302)+COUNTIF(Drawing!$N$25:$O$65,I302)+COUNTIF(Drawing!$D$77:$E$131,I302)+COUNTIF(Drawing!$N$77:$O$131,I302)","v":0},291]
[null,null,null,null,null,null,null,{"$f":"COUNTIF(Drawing!$D$25:$E$65,I303)+COUNTIF(Drawing!$N$25:$O$65,I303)+COUNTIF(Drawing!$D$77:$E$131,I303)+COUNTIF(Drawing!$N$77:$O$131,I303)","v":0},292]
[null,null,null,null,null,null,null,{"$f":"COUNTIF(Drawing!$D$25:$E$65,I304)+COUNTIF(Drawing!$N$25:$O$65,I304)+COUNTIF(Drawing!$D$77:$E$131,I304)+COUNTIF(Drawing!$N$77:$O$131,I304)","v":0},293]
[null,null,null,null,null,null,null,{"$f":"COUNTIF(Drawing!$D$25:$E$65,I305)+COUNTIF(Drawing!$N$25:$O$65,I305)+COUNTIF(Drawing!$D$77:$E$131,I305)+COUNTIF(Drawing!$N$77:$O$131,I305)","v":0},294]
[null,null,null,null,null,null,null,{"$f":"COUNTIF(Drawing!$D$25:$E$65,I306)+COUNTIF(Drawing!$N$25:$O$65,I306)+COUNTIF(Drawing!$D$77:$E$131,I306)+COUNTIF(Drawing!$N$77:$O$131,I306)","v":0},295]
[null,null,null,null,null,null,null,{"$f":"COUNTIF(Drawing!$D$25:$E$65,I307)+COUNTIF(Drawing!$N$25:$O$65,I307)+COUNTIF(Drawing!$D$77:$E$131,I307)+COUNTIF(Drawing!$N$77:$O$131,I307)","v":0},296]
[null,null,null,null,null,null,null,{"$f":"COUNTIF(Drawing!$D$25:$E$65,I308)+COUNTIF(Drawing!$N$25:$O$65,I308)+COUNTIF(Drawing!$D$77:$E$131,I308)+COUNTIF(Drawing!$N$77:$O$131,I308)","v":0},297]
[null,null,null,null,null,null,null,{"$f":"COUNTIF(Drawing!$D$25:$E$65,I309)+COUNTIF(Drawing!$N$25:$O$65,I309)+COUNTIF(Drawing!$D$77:$E$131,I309)+COUNTIF(Drawing!$N$77:$O$131,I309)","v":0},298]
[null,null,null,null,null,null,null,{"$f":"COUNTIF(Drawing!$D$25:$E$65,I310)+COUNTIF(Drawing!$N$25:$O$65,I310)+COUNTIF(Drawing!$D$77:$E$131,I310)+COUNTIF(Drawing!$N$77:$O$131,I310)","v":0},299]
[null,null,null,null,null,null,null,{"$f":"COUNTIF(Drawing!$D$25:$E$65,I311)+COUNTIF(Drawing!$N$25:$O$65,I311)+COUNTIF(Drawing!$D$77:$E$131,I311)+COUNTIF(Drawing!$N$77:$O$131,I311)","v":0},300]
[null,null,null,null,null,null,null,{"$f":"COUNTIF(Drawing!$D$25:$E$65,I312)+COUNTIF(Drawing!$N$25:$O$65,I312)+COUNTIF(Drawing!$D$77:$E$131,I312)+COUNTIF(Drawing!$N$77:$O$131,I312)","v":0},301]
[null,null,null,null,null,null,null,{"$f":"COUNTIF(Drawing!$D$25:$E$65,I313)+COUNTIF(Drawing!$N$25:$O$65,I313)+COUNTIF(Drawing!$D$77:$E$131,I313)+COUNTIF(Drawing!$N$77:$O$131,I313)","v":0},302]
[null,null,null,null,null,null,null,{"$f":"COUNTIF(Drawing!$D$25:$E$65,I314)+COUNTIF(Drawing!$N$25:$O$65,I314)+COUNTIF(Drawing!$D$77:$E$131,I314)+COUNTIF(Drawing!$N$77:$O$131,I314)","v":0},303]
[null,null,null,null,null,null,null,{"$f":"COUNTIF(Drawing!$D$25:$E$65,I315)+COUNTIF(Drawing!$N$25:$O$65,I315)+COUNTIF(Drawing!$D$77:$E$131,I315)+COUNTIF(Drawing!$N$77:$O$131,I315)","v":0},304]
[null,null,null,null,null,null,null,{"$f":"COUNTIF(Drawing!$D$25:$E$65,I316)+COUNTIF(Drawing!$N$25:$O$65,I316)+COUNTIF(Drawing!$D$77:$E$131,I316)+COUNTIF(Drawing!$N$77:$O$131,I316)","v":0},305]
[null,null,null,null,null,null,null,{"$f":"COUNTIF(Drawing!$D$25:$E$65,I317)+COUNTIF(Drawing!$N$25:$O$65,I317)+COUNTIF(Drawing!$D$77:$E$131,I317)+COUNTIF(Drawing!$N$77:$O$131,I317)","v":0},306]
[null,null,null,null,null,null,null,{"$f":"COUNTIF(Drawing!$D$25:$E$65,I318)+COUNTIF(Drawing!$N$25:$O$65,I318)+COUNTIF(Drawing!$D$77:$E$131,I318)+COUNTIF(Drawing!$N$77:$O$131,I318)","v":0},307]
[null,null,null,null,null,null,null,{"$f":"COUNTIF(Drawing!$D$25:$E$65,I319)+COUNTIF(Drawing!$N$25:$O$65,I319)+COUNTIF(Drawing!$D$77:$E$131,I319)+COUNTIF(Drawing!$N$77:$O$131,I319)","v":0},308]
[null,null,null,null,null,null,null,{"$f":"COUNTIF(Drawing!$D$25:$E$65,I320)+COUNTIF(Drawing!$N$25:$O$65,I320)+COUNTIF(Drawing!$D$77:$E$131,I320)+COUNTIF(Drawing!$N$77:$O$131,I320)","v":0},309]
[null,null,null,null,null,null,null,{"$f":"COUNTIF(Drawing!$D$25:$E$65,I321)+COUNTIF(Drawing!$N$25:$O$65,I321)+COUNTIF(Drawing!$D$77:$E$131,I321)+COUNTIF(Drawing!$N$77:$O$131,I321)","v":0},310]
[null,null,null,null,null,null,null,{"$f":"COUNTIF(Drawing!$D$25:$E$65,I322)+COUNTIF(Drawing!$N$25:$O$65,I322)+COUNTIF(Drawing!$D$77:$E$131,I322)+COUNTIF(Drawing!$N$77:$O$131,I322)","v":0},311]
[null,null,null,null,null,null,null,{"$f":"COUNTIF(Drawing!$D$25:$E$65,I323)+COUNTIF(Drawing!$N$25:$O$65,I323)+COUNTIF(Drawing!$D$77:$E$131,I323)+COUNTIF(Drawing!$N$77:$O$131,I323)","v":0},312]
[null,null,null,null,null,null,null,{"$f":"COUNTIF(Drawing!$D$25:$E$65,I324)+COUNTIF(Drawing!$N$25:$O$65,I324)+COUNTIF(Drawing!$D$77:$E$131,I324)+COUNTIF(Drawing!$N$77:$O$131,I324)","v":0},313]
[null,null,null,null,null,null,null,{"$f":"COUNTIF(Drawing!$D$25:$E$65,I325)+COUNTIF(Drawing!$N$25:$O$65,I325)+COUNTIF(Drawing!$D$77:$E$131,I325)+COUNTIF(Drawing!$N$77:$O$131,I325)","v":0},314]
[null,null,null,null,null,null,null,{"$f":"COUNTIF(Drawing!$D$25:$E$65,I326)+COUNTIF(Drawing!$N$25:$O$65,I326)+COUNTIF(Drawing!$D$77:$E$131,I326)+COUNTIF(Drawing!$N$77:$O$131,I326)","v":0},315]
[null,null,null,null,null,null,null,{"$f":"COUNTIF(Drawing!$D$25:$E$65,I327)+COUNTIF(Drawing!$N$25:$O$65,I327)+COUNTIF(Drawing!$D$77:$E$131,I327)+COUNTIF(Drawing!$N$77:$O$131,I327)","v":0},316]
[null,null,null,null,null,null,null,{"$f":"COUNTIF(Drawing!$D$25:$E$65,I328)+COUNTIF(Drawing!$N$25:$O$65,I328)+COUNTIF(Drawing!$D$77:$E$131,I328)+COUNTIF(Drawing!$N$77:$O$131,I328)","v":0},317]
[null,null,null,null,null,null,null,{"$f":"COUNTIF(Drawing!$D$25:$E$65,I329)+COUNTIF(Drawing!$N$25:$O$65,I329)+COUNTIF(Drawing!$D$77:$E$131,I329)+COUNTIF(Drawing!$N$77:$O$131,I329)","v":0},318]
[null,null,null,null,null,null,null,{"$f":"COUNTIF(Drawing!$D$25:$E$65,I330)+COUNTIF(Drawing!$N$25:$O$65,I330)+COUNTIF(Drawing!$D$77:$E$131,I330)+COUNTIF(Drawing!$N$77:$O$131,I330)","v":0},319]
[null,null,null,null,null,null,null,{"$f":"COUNTIF(Drawing!$D$25:$E$65,I331)+COUNTIF(Drawing!$N$25:$O$65,I331)+COUNTIF(Drawing!$D$77:$E$131,I331)+COUNTIF(Drawing!$N$77:$O$131,I331)","v":0},320]
[null,null,null,null,null,null,null,{"$f":"COUNTIF(Drawing!$D$25:$E$65,I332)+COUNTIF(Drawing!$N$25:$O$65,I332)+COUNTIF(Drawing!$D$77:$E$131,I332)+COUNTIF(Drawing!$N$77:$O$131,I332)","v":0},321]
[null,null,null,null,null,null,null,{"$f":"COUNTIF(Drawing!$D$25:$E$65,I333)+COUNTIF(Drawing!$N$25:$O$65,I333)+COUNTIF(Drawing!$D$77:$E$131,I333)+COUNTIF(Drawing!$N$77:$O$131,I333)","v":0},322]
[null,null,null,null,null,null,null,{"$f":"COUNTIF(Drawing!$D$25:$E$65,I334)+COUNTIF(Drawing!$N$25:$O$65,I334)+COUNTIF(Drawing!$D$77:$E$131,I334)+COUNTIF(Drawing!$N$77:$O$131,I334)","v":0},323]
[null,null,null,null,null,null,null,{"$f":"COUNTIF(Drawing!$D$25:$E$65,I335)+COUNTIF(Drawing!$N$25:$O$65,I335)+COUNTIF(Drawing!$D$77:$E$131,I335)+COUNTIF(Drawing!$N$77:$O$131,I335)","v":0},324]
[null,null,null,null,null,null,null,{"$f":"COUNTIF(Drawing!$D$25:$E$65,I336)+COUNTIF(Drawing!$N$25:$O$65,I336)+COUNTIF(Drawing!$D$77:$E$131,I336)+COUNTIF(Drawing!$N$77:$O$131,I336)","v":0},325]
[null,null,null,null,null,null,null,{"$f":"COUNTIF(Drawing!$D$25:$E$65,I337)+COUNTIF(Drawing!$N$25:$O$65,I337)+COUNTIF(Drawing!$D$77:$E$131,I337)+COUNTIF(Drawing!$N$77:$O$131,I337)","v":0},326]
[null,null,null,null,null,null,null,{"$f":"COUNTIF(Drawing!$D$25:$E$65,I338)+COUNTIF(Drawing!$N$25:$O$65,I338)+COUNTIF(Drawing!$D$77:$E$131,I338)+COUNTIF(Drawing!$N$77:$O$131,I338)","v":0},327]
[null,null,null,null,null,null,null,{"$f":"COUNTIF(Drawing!$D$25:$E$65,I339)+COUNTIF(Drawing!$N$25:$O$65,I339)+COUNTIF(Drawing!$D$77:$E$131,I339)+COUNTIF(Drawing!$N$77:$O$131,I339)","v":0},328]
[null,null,null,null,null,null,null,{"$f":"COUNTIF(Drawing!$D$25:$E$65,I340)+COUNTIF(Drawing!$N$25:$O$65,I340)+COUNTIF(Drawing!$D$77:$E$131,I340)+COUNTIF(Drawing!$N$77:$O$131,I340)","v":0},329]
[null,null,null,null,null,null,null,{"$f":"COUNTIF(Drawing!$D$25:$E$65,I341)+COUNTIF(Drawing!$N$25:$O$65,I341)+COUNTIF(Drawing!$D$77:$E$131,I341)+COUNTIF(Drawing!$N$77:$O$131,I341)","v":0},330]
[null,null,null,null,null,null,null,{"$f":"COUNTIF(Drawing!$D$25:$E$65,I342)+COUNTIF(Drawing!$N$25:$O$65,I342)+COUNTIF(Drawing!$D$77:$E$131,I342)+COUNTIF(Drawing!$N$77:$O$131,I342)","v":0},331]
[null,null,null,null,null,null,null,{"$f":"COUNTIF(Drawing!$D$25:$E$65,I343)+COUNTIF(Drawing!$N$25:$O$65,I343)+COUNTIF(Drawing!$D$77:$E$131,I343)+COUNTIF(Drawing!$N$77:$O$131,I343)","v":0},332]
[null,null,null,null,null,null,null,{"$f":"COUNTIF(Drawing!$D$25:$E$65,I344)+COUNTIF(Drawing!$N$25:$O$65,I344)+COUNTIF(Drawing!$D$77:$E$131,I344)+COUNTIF(Drawing!$N$77:$O$131,I344)","v":0},333]
[null,null,null,null,null,null,null,{"$f":"COUNTIF(Drawing!$D$25:$E$65,I345)+COUNTIF(Drawing!$N$25:$O$65,I345)+COUNTIF(Drawing!$D$77:$E$131,I345)+COUNTIF(Drawing!$N$77:$O$131,I345)","v":0},334]
[null,null,null,null,null,null,null,{"$f":"COUNTIF(Drawing!$D$25:$E$65,I346)+COUNTIF(Drawing!$N$25:$O$65,I346)+COUNTIF(Drawing!$D$77:$E$131,I346)+COUNTIF(Drawing!$N$77:$O$131,I346)","v":0},335]
[null,null,null,null,null,null,null,{"$f":"COUNTIF(Drawing!$D$25:$E$65,I347)+COUNTIF(Drawing!$N$25:$O$65,I347)+COUNTIF(Drawing!$D$77:$E$131,I347)+COUNTIF(Drawing!$N$77:$O$131,I347)","v":0},336]
[null,null,null,null,null,null,null,{"$f":"COUNTIF(Drawing!$D$25:$E$65,I348)+COUNTIF(Drawing!$N$25:$O$65,I348)+COUNTIF(Drawing!$D$77:$E$131,I348)+COUNTIF(Drawing!$N$77:$O$131,I348)","v":0},337]
[null,null,null,null,null,null,null,{"$f":"COUNTIF(Drawing!$D$25:$E$65,I349)+COUNTIF(Drawing!$N$25:$O$65,I349)+COUNTIF(Drawing!$D$77:$E$131,I349)+COUNTIF(Drawing!$N$77:$O$131,I349)","v":0},338]
[null,null,null,null,null,null,null,{"$f":"COUNTIF(Drawing!$D$25:$E$65,I350)+COUNTIF(Drawing!$N$25:$O$65,I350)+COUNTIF(Drawing!$D$77:$E$131,I350)+COUNTIF(Drawing!$N$77:$O$131,I350)","v":0},339]
[null,null,null,null,null,null,null,{"$f":"COUNTIF(Drawing!$D$25:$E$65,I351)+COUNTIF(Drawing!$N$25:$O$65,I351)+COUNTIF(Drawing!$D$77:$E$131,I351)+COUNTIF(Drawing!$N$77:$O$131,I351)","v":0},340]
[null,null,null,null,null,null,null,{"$f":"COUNTIF(Drawing!$D$25:$E$65,I352)+COUNTIF(Drawing!$N$25:$O$65,I352)+COUNTIF(Drawing!$D$77:$E$131,I352)+COUNTIF(Drawing!$N$77:$O$131,I352)","v":0},341]
[null,null,null,null,null,null,null,{"$f":"COUNTIF(Drawing!$D$25:$E$65,I353)+COUNTIF(Drawing!$N$25:$O$65,I353)+COUNTIF(Drawing!$D$77:$E$131,I353)+COUNTIF(Drawing!$N$77:$O$131,I353)","v":0},342]
[null,null,null,null,null,null,null,{"$f":"COUNTIF(Drawing!$D$25:$E$65,I354)+COUNTIF(Drawing!$N$25:$O$65,I354)+COUNTIF(Drawing!$D$77:$E$131,I354)+COUNTIF(Drawing!$N$77:$O$131,I354)","v":0},343]
[null,null,null,null,null,null,null,{"$f":"COUNTIF(Drawing!$D$25:$E$65,I355)+COUNTIF(Drawing!$N$25:$O$65,I355)+COUNTIF(Drawing!$D$77:$E$131,I355)+COUNTIF(Drawing!$N$77:$O$131,I355)","v":0},344]
[null,null,null,null,null,null,null,{"$f":"COUNTIF(Drawing!$D$25:$E$65,I356)+COUNTIF(Drawing!$N$25:$O$65,I356)+COUNTIF(Drawing!$D$77:$E$131,I356)+COUNTIF(Drawing!$N$77:$O$131,I356)","v":0},345]
[null,null,null,null,null,null,null,{"$f":"COUNTIF(Drawing!$D$25:$E$65,I357)+COUNTIF(Drawing!$N$25:$O$65,I357)+COUNTIF(Drawing!$D$77:$E$131,I357)+COUNTIF(Drawing!$N$77:$O$131,I357)","v":0},346]
[null,null,null,null,null,null,null,{"$f":"COUNTIF(Drawing!$D$25:$E$65,I358)+COUNTIF(Drawing!$N$25:$O$65,I358)+COUNTIF(Drawing!$D$77:$E$131,I358)+COUNTIF(Drawing!$N$77:$O$131,I358)","v":0},347]
[null,null,null,null,null,null,null,{"$f":"COUNTIF(Drawing!$D$25:$E$65,I359)+COUNTIF(Drawing!$N$25:$O$65,I359)+COUNTIF(Drawing!$D$77:$E$131,I359)+COUNTIF(Drawing!$N$77:$O$131,I359)","v":0},348]
[null,null,null,null,null,null,null,{"$f":"COUNTIF(Drawing!$D$25:$E$65,I360)+COUNTIF(Drawing!$N$25:$O$65,I360)+COUNTIF(Drawing!$D$77:$E$131,I360)+COUNTIF(Drawing!$N$77:$O$131,I360)","v":0},349]
[null,null,null,null,null,null,null,{"$f":"COUNTIF(Drawing!$D$25:$E$65,I361)+COUNTIF(Drawing!$N$25:$O$65,I361)+COUNTIF(Drawing!$D$77:$E$131,I361)+COUNTIF(Drawing!$N$77:$O$131,I361)","v":0},350]
[null,null,null,null,null,null,null,{"$f":"COUNTIF(Drawing!$D$25:$E$65,I362)+COUNTIF(Drawing!$N$25:$O$65,I362)+COUNTIF(Drawing!$D$77:$E$131,I362)+COUNTIF(Drawing!$N$77:$O$131,I362)","v":0},351]
[null,null,null,null,null,null,null,{"$f":"COUNTIF(Drawing!$D$25:$E$65,I363)+COUNTIF(Drawing!$N$25:$O$65,I363)+COUNTIF(Drawing!$D$77:$E$131,I363)+COUNTIF(Drawing!$N$77:$O$131,I363)","v":0},352]
[null,null,null,null,null,null,null,{"$f":"COUNTIF(Drawing!$D$25:$E$65,I364)+COUNTIF(Drawing!$N$25:$O$65,I364)+COUNTIF(Drawing!$D$77:$E$131,I364)+COUNTIF(Drawing!$N$77:$O$131,I364)","v":0},353]
[null,null,null,null,null,null,null,{"$f":"COUNTIF(Drawing!$D$25:$E$65,I365)+COUNTIF(Drawing!$N$25:$O$65,I365)+COUNTIF(Drawing!$D$77:$E$131,I365)+COUNTIF(Drawing!$N$77:$O$131,I365)","v":0},354]
[null,null,null,null,null,null,null,{"$f":"COUNTIF(Drawing!$D$25:$E$65,I366)+COUNTIF(Drawing!$N$25:$O$65,I366)+COUNTIF(Drawing!$D$77:$E$131,I366)+COUNTIF(Drawing!$N$77:$O$131,I366)","v":0},355]
[null,null,null,null,null,null,null,{"$f":"COUNTIF(Drawing!$D$25:$E$65,I367)+COUNTIF(Drawing!$N$25:$O$65,I367)+COUNTIF(Drawing!$D$77:$E$131,I367)+COUNTIF(Drawing!$N$77:$O$131,I367)","v":0},356]
[null,null,null,null,null,null,null,{"$f":"COUNTIF(Drawing!$D$25:$E$65,I368)+COUNTIF(Drawing!$N$25:$O$65,I368)+COUNTIF(Drawing!$D$77:$E$131,I368)+COUNTIF(Drawing!$N$77:$O$131,I368)","v":0},357]
[null,null,null,null,null,null,null,{"$f":"COUNTIF(Drawing!$D$25:$E$65,I369)+COUNTIF(Drawing!$N$25:$O$65,I369)+COUNTIF(Drawing!$D$77:$E$131,I369)+COUNTIF(Drawing!$N$77:$O$131,I369)","v":0},358]
[null,null,null,null,null,null,null,{"$f":"COUNTIF(Drawing!$D$25:$E$65,I370)+COUNTIF(Drawing!$N$25:$O$65,I370)+COUNTIF(Drawing!$D$77:$E$131,I370)+COUNTIF(Drawing!$N$77:$O$131,I370)","v":0},359]
[null,null,null,null,null,null,null,{"$f":"COUNTIF(Drawing!$D$25:$E$65,I371)+COUNTIF(Drawing!$N$25:$O$65,I371)+COUNTIF(Drawing!$D$77:$E$131,I371)+COUNTIF(Drawing!$N$77:$O$131,I371)","v":0},360]

{"sheet":"Reference Table","index":4,"n_rows":29,"n_cols":18,"rows_kept":29,"cut":false,"hidden":false,"merged":[[0,12,0,13],[0,14,0,15],[0,16,0,17],[0,0,0,1],[0,2,0,3],[0,4,0,5],[0,6,0,7],[0,8,0,9],[0,10,0,11]]}
["Manufactoring Location",null,"Pole Class",null,"Pole Length",null,"Coating",null,"Cap",null,"# of holes",null,"1 pc/2 pc",null,"Add'l Permasafe",null,"Grounding Plates"]
["Location","Code","Class","Code","Length","Code","Coating Type","Code","Cap Type","Code","Range","Code","Type","Code","Type","Code","Type","Code"]
["Coshocton","C","C1","C1","030","030","Weathered","W","HDPE Flat","C","0-25",1,"No",1,"Standard",0,"No",0]
["Provo","P","C2","C2","035","035","Gray","G","Raptor","R","26-50",2,"Yes",2,"Additional","P","Yes","Z"]
[null,null,"C3","C3","040","040","Custom Color","C","Ductile","D","51-75",3]
[null,null,"H1","H1","045","045","Extreme Coat","X",null,null,"76-100",4]
[null,null,"H2","H2","050","050",null,null,null,null,"101+",5]
[null,null,"H3","H3","055","055"]
[null,null,"H4","H4","060","060"]
[null,null,"H5","H5","065","065"]
[null,null,"H6","H6","070","070"]
[null,null,"H7","H7","075","075"]
[null,null,"H8","H8","080","080"]
[null,null,"H9","H9","085","085"]
[null,null,"11",11,"090","090"]
[null,null,"13",13,"095","095"]
[null,null,"16",16,"100","100"]
[null,null,"20",20,"105","105"]
[null,null,null,null,"110","110"]
[]
[]
[null,null,null,null,null,null,null,null,null,null,null,{"$f":"IF(AND(Drawing!D8>=0,Drawing!D8<=25),'Reference Table'!K3,IF(AND(Drawing!D8>=26,Drawing!D8<=50),K4,IF(AND(Drawing!D8>=51,Drawing!D8<=75),K5,IF(AND(Drawing!D8>=76,Drawing!D8<=100),K6,IF(Drawing!D8>=101,K7,)))))","v":"0-25"},null,null,null,{"$f":"IF(Drawing!H7>0,'Reference Table'!O4,'Reference Table'!O3)","v":"Standard"}]
[null,"Code",null,"Code",null,"Code",null,"Code",null,"Code",null,"Code",null,"Code",null,"Code",null,"Code"]
[null,{"$f":"VLOOKUP(Drawing!D2,'Reference Table'!A3:B20,2,FALSE)","v":{"$error":"#N/A"}},null,{"$f":"VLOOKUP(Drawing!D5,'Reference Table'!C3:D20,2,FALSE)","v":{"$error":"#N/A"}},null,{"$f":"VLOOKUP(Drawing!D4,'Reference Table'!E3:F20,2,FALSE)","v":{"$error":"#N/A"}},null,{"$f":"VLOOKUP(Drawing!D6,'Reference Table'!G3:H20,2,FALSE)","v":{"$error":"#N/A"}},null,{"$f":"VLOOKUP(Drawing!D14,'Reference Table'!I3:J20,2,FALSE)","v":{"$error":"#N/A"}},null,{"$f":"VLOOKUP(L22,'Reference Table'!K3:L20,2,FALSE)","v":1},null,{"$f":"VLOOKUP(Drawing!D12,'Reference Table'!M3:N20,2,FALSE)","v":1},null,{"$f":"VLOOKUP(P22,'Reference Table'!O3:P20,2,FALSE)","v":0},null,{"$f":"VLOOKUP(Drawing!D9,'Reference Table'!Q3:R20,2,FALSE)","v":{"$error":"#N/A"}}]
[]
[]
[]
[null,null,null,null,null,null,"Product Code"]
[null,null,null,null,null,null,{"$f":"D24&F24&H24&J24&L24&N24&P24&R24","v":{"$error":"#N/A"}}]